BEGIN:VCALENDAR
VERSION:2.0
PRODID:-//Derby City Fly Fishers - ECPv6.15.20//NONSGML v1.0//EN
CALSCALE:GREGORIAN
METHOD:PUBLISH
X-WR-CALNAME:Derby City Fly Fishers
X-ORIGINAL-URL:https://derbycityflyfishers.com
X-WR-CALDESC:Events for Derby City Fly Fishers
REFRESH-INTERVAL;VALUE=DURATION:PT1H
X-Robots-Tag:noindex
X-PUBLISHED-TTL:PT1H
BEGIN:VTIMEZONE
TZID:America/New_York
BEGIN:DAYLIGHT
TZOFFSETFROM:-0500
TZOFFSETTO:-0400
TZNAME:EDT
DTSTART:20180311T070000
END:DAYLIGHT
BEGIN:STANDARD
TZOFFSETFROM:-0400
TZOFFSETTO:-0500
TZNAME:EST
DTSTART:20181104T060000
END:STANDARD
BEGIN:DAYLIGHT
TZOFFSETFROM:-0500
TZOFFSETTO:-0400
TZNAME:EDT
DTSTART:20190310T070000
END:DAYLIGHT
BEGIN:STANDARD
TZOFFSETFROM:-0400
TZOFFSETTO:-0500
TZNAME:EST
DTSTART:20191103T060000
END:STANDARD
BEGIN:DAYLIGHT
TZOFFSETFROM:-0500
TZOFFSETTO:-0400
TZNAME:EDT
DTSTART:20200308T070000
END:DAYLIGHT
BEGIN:STANDARD
TZOFFSETFROM:-0400
TZOFFSETTO:-0500
TZNAME:EST
DTSTART:20201101T060000
END:STANDARD
END:VTIMEZONE
BEGIN:VEVENT
DTSTART;TZID=America/New_York:20190619T183000
DTEND;TZID=America/New_York:20190619T203000
DTSTAMP:20260421T075904
CREATED:20181231T162942Z
LAST-MODIFIED:20190617T161954Z
UID:2710-1560969000-1560976200@derbycityflyfishers.com
SUMMARY:June Outdoor Club Meeting -CANCELED
DESCRIPTION:CANCELED DUE TO HIGH WATER AND FLOODING \nYou don’t want to miss this one!  Our meeting is hosted by Southern Hills subdivision in Borden\, Indiana where a number of club members live.  The venue includes a private fishing lake where an Indiana fishing license is NOT required.  Around 100 members and guests will be at this meeting. \nWe’ll have a pulled pork dinner catered from Frank’s Deli for $5 per person.  The club will provide non-alcoholic drinks.  If you wish to enjoy an adult beverage it is BYO\, please be responsible. \nAs ususual\, we will be offering casting instruction and any other help you may need with fly fishing.  We’ll have the Club’s rods and reels available for casting instruction and practice. \n\n+ GOOGLE CALENDAR+ ICAL EXPORT
URL:https://derbycityflyfishers.com/event/june-outdoor-club-meeting-2/
LOCATION:Southern Hills Lake Dam\, 1205 Southern Hills Drive\, Borden\, IN\, 47106\, United States
CATEGORIES:Outdoor Meetings
END:VEVENT
END:VCALENDAR