BEGIN:VCALENDAR
VERSION:2.0
PRODID:-//Derby City Fly Fishers - ECPv6.15.20//NONSGML v1.0//EN
CALSCALE:GREGORIAN
METHOD:PUBLISH
X-WR-CALNAME:Derby City Fly Fishers
X-ORIGINAL-URL:https://derbycityflyfishers.com
X-WR-CALDESC:Events for Derby City Fly Fishers
REFRESH-INTERVAL;VALUE=DURATION:PT1H
X-Robots-Tag:noindex
X-PUBLISHED-TTL:PT1H
BEGIN:VTIMEZONE
TZID:America/Kentucky/Louisville
BEGIN:DAYLIGHT
TZOFFSETFROM:-0500
TZOFFSETTO:-0400
TZNAME:EDT
DTSTART:20240310T070000
END:DAYLIGHT
BEGIN:STANDARD
TZOFFSETFROM:-0400
TZOFFSETTO:-0500
TZNAME:EST
DTSTART:20241103T060000
END:STANDARD
BEGIN:DAYLIGHT
TZOFFSETFROM:-0500
TZOFFSETTO:-0400
TZNAME:EDT
DTSTART:20250309T070000
END:DAYLIGHT
BEGIN:STANDARD
TZOFFSETFROM:-0400
TZOFFSETTO:-0500
TZNAME:EST
DTSTART:20251102T060000
END:STANDARD
BEGIN:DAYLIGHT
TZOFFSETFROM:-0500
TZOFFSETTO:-0400
TZNAME:EDT
DTSTART:20260308T070000
END:DAYLIGHT
BEGIN:STANDARD
TZOFFSETFROM:-0400
TZOFFSETTO:-0500
TZNAME:EST
DTSTART:20261101T060000
END:STANDARD
END:VTIMEZONE
BEGIN:VEVENT
DTSTART;TZID=America/Kentucky/Louisville:20250730T170000
DTEND;TZID=America/Kentucky/Louisville:20250730T210000
DTSTAMP:20260421T141422
CREATED:20250605T153511Z
LAST-MODIFIED:20250606T005131Z
UID:10002239-1753894800-1753909200@derbycityflyfishers.com
SUMMARY:DCFF Summer Golf Outing
DESCRIPTION:Summer is here\, and that means it’s time for the Summer DCFF Golf Outing. This will be a 9-hole\, “best ball” scramble. It will be held at the Nevel Mead Golf Course in Prospect Kentucky. You must be a DCFF member to participate\, and the event is limited to 16 participants. \nThe scramble starts at 5:30\, but please be there by 5:00 for team and cart assignments. If you have any questions\, please contact Michael Broome at President@derbycityflyfishers.com \nTo register\, please click here.
URL:https://derbycityflyfishers.com/event/dcff-summer-golf-outing/
LOCATION:Nevel Mead Golf Course\, 3123 Nevel Mead Drive\, Prospect\, KY\, 40059\, United States
CATEGORIES:Social Events
END:VEVENT
BEGIN:VEVENT
DTSTART;TZID=America/Kentucky/Louisville:20250730T183000
DTEND;TZID=America/Kentucky/Louisville:20250730T200000
DTSTAMP:20260421T141422
CREATED:20250605T142316Z
LAST-MODIFIED:20250605T142316Z
UID:10002238-1753900200-1753905600@derbycityflyfishers.com
SUMMARY:5th Wednesday Fly Fishing 101\, "Things You Should Know"
DESCRIPTION:This part of our continuous series discusses / demonstrates some of the basics of the sport that are not usually addressed like casting or fly-tying. \nA partial list includes: \nSafety gear you should carry\nHow to remove a fish hook from your skin.\nBenefits of barbless hooks.\nDe-barbing a hook.\nProper technique for wading.\nImportance of a wading belt.\nA bunch of other good stuff!! \nAnd that is just short list of topics to be discussed. Please come with questions\, and ideas of what you would like to see at any of the future events. if you have any questions\, please contact our director of education\, John Froehlich at education@derbycityflyfishers.com
URL:https://derbycityflyfishers.com/event/5th-wednesday-fly-fishing-101-things-you-should-know/
LOCATION:Cabela’s\, 5100 Norton Healthcare Blvd\, Louisville\, KY\, 40241\, United States
CATEGORIES:Education
END:VEVENT
END:VCALENDAR