BEGIN:VCALENDAR
VERSION:2.0
PRODID:-//Derby City Fly Fishers - ECPv6.15.20//NONSGML v1.0//EN
CALSCALE:GREGORIAN
METHOD:PUBLISH
X-WR-CALNAME:Derby City Fly Fishers
X-ORIGINAL-URL:https://derbycityflyfishers.com
X-WR-CALDESC:Events for Derby City Fly Fishers
REFRESH-INTERVAL;VALUE=DURATION:PT1H
X-Robots-Tag:noindex
X-PUBLISHED-TTL:PT1H
BEGIN:VTIMEZONE
TZID:America/Kentucky/Louisville
BEGIN:DAYLIGHT
TZOFFSETFROM:-0500
TZOFFSETTO:-0400
TZNAME:EDT
DTSTART:20250309T070000
END:DAYLIGHT
BEGIN:STANDARD
TZOFFSETFROM:-0400
TZOFFSETTO:-0500
TZNAME:EST
DTSTART:20251102T060000
END:STANDARD
BEGIN:DAYLIGHT
TZOFFSETFROM:-0500
TZOFFSETTO:-0400
TZNAME:EDT
DTSTART:20260308T070000
END:DAYLIGHT
BEGIN:STANDARD
TZOFFSETFROM:-0400
TZOFFSETTO:-0500
TZNAME:EST
DTSTART:20261101T060000
END:STANDARD
BEGIN:DAYLIGHT
TZOFFSETFROM:-0500
TZOFFSETTO:-0400
TZNAME:EDT
DTSTART:20270314T070000
END:DAYLIGHT
BEGIN:STANDARD
TZOFFSETFROM:-0400
TZOFFSETTO:-0500
TZNAME:EST
DTSTART:20271107T060000
END:STANDARD
END:VTIMEZONE
BEGIN:VEVENT
DTSTART;VALUE=DATE:20260314
DTEND;VALUE=DATE:20260316
DTSTAMP:20260421T074634
CREATED:20260207T142021Z
LAST-MODIFIED:20260207T142021Z
UID:10002346-1773446400-1773619199@derbycityflyfishers.com
SUMMARY:Bass Pro / Cabela's Spring Classic Fly Tying Demo
DESCRIPTION:Bass Pro’s Spring Fishing Classic is Saturday March 14 and Sunday March 15. They\nhave asked us to set up fly tying demos Saturday 10am to 2pm and Sunday 12pm\nto 4pm. Now\, before you say “is it worth the time?” consider this. Bass Pro stores\nin Clarksville and Louisville are critical to DCFF\, providing meeting space for\ngeneral meeting\, monthly board meetings\, monthly fly tying and 5 th Wednesday\nFF 101\, about 25 times a year\, NO CHARGE! Without their help\, we would be in a\nheap of hurt. Please help show our appreciation by signing for a shift by clicking here.
URL:https://derbycityflyfishers.com/event/bass-pro-cabelas-spring-classic-fly-tying-demo/
CATEGORIES:Community Support
END:VEVENT
END:VCALENDAR