BEGIN:VCALENDAR
VERSION:2.0
PRODID:-//Derby City Fly Fishers - ECPv6.15.20//NONSGML v1.0//EN
CALSCALE:GREGORIAN
METHOD:PUBLISH
X-WR-CALNAME:Derby City Fly Fishers
X-ORIGINAL-URL:https://derbycityflyfishers.com
X-WR-CALDESC:Events for Derby City Fly Fishers
REFRESH-INTERVAL;VALUE=DURATION:PT1H
X-Robots-Tag:noindex
X-PUBLISHED-TTL:PT1H
BEGIN:VTIMEZONE
TZID:America/Kentucky/Louisville
BEGIN:DAYLIGHT
TZOFFSETFROM:-0500
TZOFFSETTO:-0400
TZNAME:EDT
DTSTART:20240310T070000
END:DAYLIGHT
BEGIN:STANDARD
TZOFFSETFROM:-0400
TZOFFSETTO:-0500
TZNAME:EST
DTSTART:20241103T060000
END:STANDARD
BEGIN:DAYLIGHT
TZOFFSETFROM:-0500
TZOFFSETTO:-0400
TZNAME:EDT
DTSTART:20250309T070000
END:DAYLIGHT
BEGIN:STANDARD
TZOFFSETFROM:-0400
TZOFFSETTO:-0500
TZNAME:EST
DTSTART:20251102T060000
END:STANDARD
BEGIN:DAYLIGHT
TZOFFSETFROM:-0500
TZOFFSETTO:-0400
TZNAME:EDT
DTSTART:20260308T070000
END:DAYLIGHT
BEGIN:STANDARD
TZOFFSETFROM:-0400
TZOFFSETTO:-0500
TZNAME:EST
DTSTART:20261101T060000
END:STANDARD
END:VTIMEZONE
BEGIN:VEVENT
DTSTART;TZID=America/Kentucky/Louisville:20250606T103000
DTEND;TZID=America/Kentucky/Louisville:20250606T150000
DTSTAMP:20260422T012739
CREATED:20250419T235146Z
LAST-MODIFIED:20250419T235146Z
UID:10002237-1749205800-1749222000@derbycityflyfishers.com
SUMMARY:KDFW Pfeiffer Hatchery Tour / Stream Fishing Day Trip
DESCRIPTION:KDFW has invited DCFF to a tour on Friday June 6th starting at 10:30am. The tour will last about 1 hour. We will start at a display pool to see some fish and talk about the hatchery. We will then walk into our hatchery building where we will have catfish eggs and catfish fry to see. Then we will go to another production to hopefully see some musky that will be raised indoors. We can finish the tour with feeding a pond of catfish and see them come up to feed. \nThat will conclude around 11 to 11:30am and you can move to the creek and picnic tables to do sack lunch and then fish until 3 pm when the gate will be closed. \nThis day trip is limited to 15 participants. Please sign up here.
URL:https://derbycityflyfishers.com/event/kdfw-pfeiffer-hatchery-tour-stream-fishing-day-trip/
LOCATION:KDFW Pfeiffer Road Hatchery\, 2187 Indian Gap Road\, Frankfort\, KY\, 40601\, United States
CATEGORIES:Education
END:VEVENT
END:VCALENDAR