BEGIN:VCALENDAR
VERSION:2.0
PRODID:-//Derby City Fly Fishers - ECPv6.15.20//NONSGML v1.0//EN
CALSCALE:GREGORIAN
METHOD:PUBLISH
X-WR-CALNAME:Derby City Fly Fishers
X-ORIGINAL-URL:https://derbycityflyfishers.com
X-WR-CALDESC:Events for Derby City Fly Fishers
REFRESH-INTERVAL;VALUE=DURATION:PT1H
X-Robots-Tag:noindex
X-PUBLISHED-TTL:PT1H
BEGIN:VTIMEZONE
TZID:America/Kentucky/Louisville
BEGIN:DAYLIGHT
TZOFFSETFROM:-0500
TZOFFSETTO:-0400
TZNAME:EDT
DTSTART:20250309T070000
END:DAYLIGHT
BEGIN:STANDARD
TZOFFSETFROM:-0400
TZOFFSETTO:-0500
TZNAME:EST
DTSTART:20251102T060000
END:STANDARD
BEGIN:DAYLIGHT
TZOFFSETFROM:-0500
TZOFFSETTO:-0400
TZNAME:EDT
DTSTART:20260308T070000
END:DAYLIGHT
BEGIN:STANDARD
TZOFFSETFROM:-0400
TZOFFSETTO:-0500
TZNAME:EST
DTSTART:20261101T060000
END:STANDARD
BEGIN:DAYLIGHT
TZOFFSETFROM:-0500
TZOFFSETTO:-0400
TZNAME:EDT
DTSTART:20270314T070000
END:DAYLIGHT
BEGIN:STANDARD
TZOFFSETFROM:-0400
TZOFFSETTO:-0500
TZNAME:EST
DTSTART:20271107T060000
END:STANDARD
END:VTIMEZONE
BEGIN:VEVENT
DTSTART;TZID=America/Kentucky/Louisville:20260411T093000
DTEND;TZID=America/Kentucky/Louisville:20260411T143000
DTSTAMP:20260421T074619
CREATED:20260223T142519Z
LAST-MODIFIED:20260223T142922Z
UID:10002348-1775899800-1775917800@derbycityflyfishers.com
SUMMARY:FLY FISHING 101 – PARKLANDS Part 1
DESCRIPTION:“Fly Fishing 101” a 2-part in-depth fly-fishing learning experience is being offered Saturday April 11th\n\n\nfrom 9:30am to 2:30pm at the Parkland’s PNC Achievement Center\, 1411 Beckley Creek Parkway\, \nLouisville\, KY 40245. Derby City Fly Fishing\, in conjunction with the Parklands of Floyds Fork\, the Kentucky \nDepartment of Fish and Wildlife\, and the Fern Creek Sportsman’s Club\, we will be hosting this “hands \non” program. \n  \nYou will be able to learn the basics of fly fishing\, including\, rod and reel setups\, casting\, fly types\, basic \ngear\, and knot tying. The class will include indoor class room instruction\, and outdoor casting practice. \n  \nAnd as a “Part 2” to the class\, on Wednesday\, April 15th\, the Fern Creek Sportsman’s Club will be offering \nan “on the water” casting and fishing opportunity at their lake located at 15400 Brush Run Road\, \nLouisville KY\, 40299. (There is a rain date of April 22nd if there are weather issues on the 15th ) \n  \nPlease note the following: \nThere is a maximum of 30 participants for this event\, and registration is required at: \nhttps://app.fw.ky.gov/Calendar/Detail.aspx?ID=69953 \nRegistration for this event runs from February 20th \, – Saturday April 11th . \nParticipants under 16 years of age must be accompanied by an adult to register for this event. \nYou must have a valid Kentucky Fishing license if you participate in the “on the water” fishing event at \nTom Hemel Lake. Please click here if you need to purchase a license. Click here for a map. \nIf you have any questions\, please contact: \nEaston Copley \nEaston.copley@ky.gov \n(502) 330-1411
URL:https://derbycityflyfishers.com/event/fly-fishing-101-parklands-part-1/
LOCATION:Parklands of Floyds Fork\, 1411 Beckley Creek Parkway\, Louisville\, KY\, 40245\, United States
CATEGORIES:Education
END:VEVENT
END:VCALENDAR