BEGIN:VCALENDAR
VERSION:2.0
PRODID:-//Derby City Fly Fishers - ECPv6.15.20//NONSGML v1.0//EN
CALSCALE:GREGORIAN
METHOD:PUBLISH
X-ORIGINAL-URL:https://derbycityflyfishers.com
X-WR-CALDESC:Events for Derby City Fly Fishers
REFRESH-INTERVAL;VALUE=DURATION:PT1H
X-Robots-Tag:noindex
X-PUBLISHED-TTL:PT1H
BEGIN:VTIMEZONE
TZID:America/Kentucky/Louisville
BEGIN:DAYLIGHT
TZOFFSETFROM:-0500
TZOFFSETTO:-0400
TZNAME:EDT
DTSTART:20250309T070000
END:DAYLIGHT
BEGIN:STANDARD
TZOFFSETFROM:-0400
TZOFFSETTO:-0500
TZNAME:EST
DTSTART:20251102T060000
END:STANDARD
BEGIN:DAYLIGHT
TZOFFSETFROM:-0500
TZOFFSETTO:-0400
TZNAME:EDT
DTSTART:20260308T070000
END:DAYLIGHT
BEGIN:STANDARD
TZOFFSETFROM:-0400
TZOFFSETTO:-0500
TZNAME:EST
DTSTART:20261101T060000
END:STANDARD
BEGIN:DAYLIGHT
TZOFFSETFROM:-0500
TZOFFSETTO:-0400
TZNAME:EDT
DTSTART:20270314T070000
END:DAYLIGHT
BEGIN:STANDARD
TZOFFSETFROM:-0400
TZOFFSETTO:-0500
TZNAME:EST
DTSTART:20271107T060000
END:STANDARD
END:VTIMEZONE
BEGIN:VEVENT
DTSTART;TZID=America/Kentucky/Louisville:20260429T183000
DTEND;TZID=America/Kentucky/Louisville:20260429T200000
DTSTAMP:20260421T074747
CREATED:20251206T160738Z
LAST-MODIFIED:20251206T160738Z
UID:10002287-1777487400-1777492800@derbycityflyfishers.com
SUMMARY:5th Wednesday Fly Fishing 101\, "Knots and Leaders"
DESCRIPTION:This part of our continuous series discusses / demonstrates some of the basics of the sport. \nWe will be covering the basic knots commonly used in fly fishing and tying your own leaders. Materials will be provided. \nPlease come with questions\, and ideas of what you would like to see at any of the future events. if you have any questions\, please contact our director of education\, John Froehlich at education@derbycityflyfishers.com
URL:https://derbycityflyfishers.com/event/5th-wednesday-fly-fishing-101-knots-and-leaders/
LOCATION:Cabela’s\, 5100 Norton Healthcare Blvd\, Louisville\, KY\, 40241\, United States
CATEGORIES:Education
END:VEVENT
END:VCALENDAR