BEGIN:VCALENDAR
VERSION:2.0
PRODID:-//Derby City Fly Fishers - ECPv6.15.20//NONSGML v1.0//EN
CALSCALE:GREGORIAN
METHOD:PUBLISH
X-ORIGINAL-URL:https://derbycityflyfishers.com
X-WR-CALDESC:Events for Derby City Fly Fishers
REFRESH-INTERVAL;VALUE=DURATION:PT1H
X-Robots-Tag:noindex
X-PUBLISHED-TTL:PT1H
BEGIN:VTIMEZONE
TZID:America/Kentucky/Louisville
BEGIN:DAYLIGHT
TZOFFSETFROM:-0500
TZOFFSETTO:-0400
TZNAME:EDT
DTSTART:20250309T070000
END:DAYLIGHT
BEGIN:STANDARD
TZOFFSETFROM:-0400
TZOFFSETTO:-0500
TZNAME:EST
DTSTART:20251102T060000
END:STANDARD
BEGIN:DAYLIGHT
TZOFFSETFROM:-0500
TZOFFSETTO:-0400
TZNAME:EDT
DTSTART:20260308T070000
END:DAYLIGHT
BEGIN:STANDARD
TZOFFSETFROM:-0400
TZOFFSETTO:-0500
TZNAME:EST
DTSTART:20261101T060000
END:STANDARD
BEGIN:DAYLIGHT
TZOFFSETFROM:-0500
TZOFFSETTO:-0400
TZNAME:EDT
DTSTART:20270314T070000
END:DAYLIGHT
BEGIN:STANDARD
TZOFFSETFROM:-0400
TZOFFSETTO:-0500
TZNAME:EST
DTSTART:20271107T060000
END:STANDARD
END:VTIMEZONE
BEGIN:VEVENT
DTSTART;TZID=America/Kentucky/Louisville:20260423T183000
DTEND;TZID=America/Kentucky/Louisville:20260423T200000
DTSTAMP:20260421T074630
CREATED:20251206T172613Z
LAST-MODIFIED:20260331T163753Z
UID:10002313-1776969000-1776974400@derbycityflyfishers.com
SUMMARY:Fly Tying - Bass Pro
DESCRIPTION:Our Fly-Tying Classes are open to everyone – you do not have to be a member to attend.  Generally\, we tie one fly\, but we tie it twice.  An instructor demonstrates\, step-by-step\, how to tie the fly with accompanying video on a big screen TV so students can see each step. \nTools and materials are provided at no cost\, but if you have your own tools feel free to bring them. \nBeginners are welcome.  There will be experienced tiers available to provide individual help. \n  \nApril’s fly\, a UV coated fly good for fishing for White Bass\, Smallmouth\, and Bluegill tied by Mike Parker.
URL:https://derbycityflyfishers.com/event/fly-tying-bass-pro-34/
LOCATION:Bass Pro – Clarksville\, IN\, 951 E. Lewis & Clark Parkway\, Clarksville\, IN\, 47129\, United States
CATEGORIES:Fly Tying
END:VEVENT
END:VCALENDAR