BEGIN:VCALENDAR
VERSION:2.0
PRODID:-//Derby City Fly Fishers - ECPv6.15.20//NONSGML v1.0//EN
CALSCALE:GREGORIAN
METHOD:PUBLISH
X-ORIGINAL-URL:https://derbycityflyfishers.com
X-WR-CALDESC:Events for Derby City Fly Fishers
REFRESH-INTERVAL;VALUE=DURATION:PT1H
X-Robots-Tag:noindex
X-PUBLISHED-TTL:PT1H
BEGIN:VTIMEZONE
TZID:America/Kentucky/Louisville
BEGIN:DAYLIGHT
TZOFFSETFROM:-0500
TZOFFSETTO:-0400
TZNAME:EDT
DTSTART:20250309T070000
END:DAYLIGHT
BEGIN:STANDARD
TZOFFSETFROM:-0400
TZOFFSETTO:-0500
TZNAME:EST
DTSTART:20251102T060000
END:STANDARD
BEGIN:DAYLIGHT
TZOFFSETFROM:-0500
TZOFFSETTO:-0400
TZNAME:EDT
DTSTART:20260308T070000
END:DAYLIGHT
BEGIN:STANDARD
TZOFFSETFROM:-0400
TZOFFSETTO:-0500
TZNAME:EST
DTSTART:20261101T060000
END:STANDARD
BEGIN:DAYLIGHT
TZOFFSETFROM:-0500
TZOFFSETTO:-0400
TZNAME:EDT
DTSTART:20270314T070000
END:DAYLIGHT
BEGIN:STANDARD
TZOFFSETFROM:-0400
TZOFFSETTO:-0500
TZNAME:EST
DTSTART:20271107T060000
END:STANDARD
END:VTIMEZONE
BEGIN:VEVENT
DTSTART;TZID=America/Kentucky/Louisville:20260903T180000
DTEND;TZID=America/Kentucky/Louisville:20260903T210000
DTSTAMP:20260421T205911
CREATED:20251206T155158Z
LAST-MODIFIED:20251206T155158Z
UID:10002271-1788458400-1788469200@derbycityflyfishers.com
SUMMARY:Kentuckiana Fly Tyers Fly Tying Night
DESCRIPTION:Kentuckiana Fly Tyers conducts their monthly meeting the First Thursday of each Month.  If you haven’t tied before\, and would like to learn\, they will provide you with the equipment\, materials\, and instruction to start you out. If you already tie\, come out and bring whatever you would like to tie\, and socialize. \nPlease click the applicable RSVP button below if you plan on attending so they can make sure they have enough materials to go around.  We hope to see you all there. \n\n\n\n\n\nRSVP – Tyers\n\n\n\n\n\n\n\nRSVP – Beginners
URL:https://derbycityflyfishers.com/event/kentuckiana-fly-tyers-fly-tying-night-38/
LOCATION:Roosters on Shelbyville Rd.\, 10430 Shelbyville Rd\, Louisville\, KY\, 40223
CATEGORIES:Fly Tying
END:VEVENT
END:VCALENDAR