BEGIN:VCALENDAR
VERSION:2.0
PRODID:-//Derby City Fly Fishers - ECPv6.15.20//NONSGML v1.0//EN
CALSCALE:GREGORIAN
METHOD:PUBLISH
X-ORIGINAL-URL:https://derbycityflyfishers.com
X-WR-CALDESC:Events for Derby City Fly Fishers
REFRESH-INTERVAL;VALUE=DURATION:PT1H
X-Robots-Tag:noindex
X-PUBLISHED-TTL:PT1H
BEGIN:VTIMEZONE
TZID:America/Kentucky/Louisville
BEGIN:DAYLIGHT
TZOFFSETFROM:-0500
TZOFFSETTO:-0400
TZNAME:EDT
DTSTART:20240310T070000
END:DAYLIGHT
BEGIN:STANDARD
TZOFFSETFROM:-0400
TZOFFSETTO:-0500
TZNAME:EST
DTSTART:20241103T060000
END:STANDARD
BEGIN:DAYLIGHT
TZOFFSETFROM:-0500
TZOFFSETTO:-0400
TZNAME:EDT
DTSTART:20250309T070000
END:DAYLIGHT
BEGIN:STANDARD
TZOFFSETFROM:-0400
TZOFFSETTO:-0500
TZNAME:EST
DTSTART:20251102T060000
END:STANDARD
BEGIN:DAYLIGHT
TZOFFSETFROM:-0500
TZOFFSETTO:-0400
TZNAME:EDT
DTSTART:20260308T070000
END:DAYLIGHT
BEGIN:STANDARD
TZOFFSETFROM:-0400
TZOFFSETTO:-0500
TZNAME:EST
DTSTART:20261101T060000
END:STANDARD
END:VTIMEZONE
BEGIN:VEVENT
DTSTART;TZID=America/Kentucky/Louisville:20250903T183000
DTEND;TZID=America/Kentucky/Louisville:20250903T203000
DTSTAMP:20260421T142641
CREATED:20240902T172517Z
LAST-MODIFIED:20240902T172517Z
UID:10002095-1756924200-1756931400@derbycityflyfishers.com
SUMMARY:Board of Directors Meeting
DESCRIPTION:You don’t have to be a Board Member to attend. Everyone is welcome and encouraged to attend and contribute. The meeting starts at 6:30 PM and is over by 8:30 PM. \n  \nCome on out and see how your club is run. Give us your ideas and maybe consider getting involved (there are a number of opportunities to help out and you don’t have to be on the Board to do so.) \nAfterwards we head to a local restaurant for a bite to eat\, a drink and some socialization.
URL:https://derbycityflyfishers.com/event/board-of-directors-meeting-8/
LOCATION:Cabela’s\, 5100 Norton Healthcare Blvd\, Louisville\, KY\, 40241\, United States
CATEGORIES:Club Meetings
END:VEVENT
BEGIN:VEVENT
DTSTART;TZID=America/Kentucky/Louisville:20250910T183000
DTEND;TZID=America/Kentucky/Louisville:20250910T203000
DTSTAMP:20260421T142641
CREATED:20240902T190443Z
LAST-MODIFIED:20240902T190443Z
UID:10002122-1757529000-1757536200@derbycityflyfishers.com
SUMMARY:Eat & Talk
DESCRIPTION:We have the private event room so it should be quiet enough for conversation\, with plenty of room to get comfortable and enjoy each others company. This is a great opportunity to get to know some of your DCFF club mates a little better and swap some fish stories. You can come when you want\, eat and drink if you want\, mostly just share some camaraderie.
URL:https://derbycityflyfishers.com/event/eat-talk-32/
LOCATION:Roosters on Shelbyville Rd.\, 10430 Shelbyville Rd\, Louisville\, KY\, 40223
CATEGORIES:Club Meetings
END:VEVENT
BEGIN:VEVENT
DTSTART;TZID=America/Kentucky/Louisville:20250917T183000
DTEND;TZID=America/Kentucky/Louisville:20250917T200000
DTSTAMP:20260421T142641
CREATED:20240902T181424Z
LAST-MODIFIED:20250815T144710Z
UID:10002108-1758133800-1758139200@derbycityflyfishers.com
SUMMARY:Monthly Meeting
DESCRIPTION:Meetings are open to everyone\, you do not have to be a member to attend.  Typical format: 10-15 minute “Tackle Time”  presentation on some aspect of Fly Fishing followed by a business segment to introduce new members and guests\,  take questions and get updates on fishing from attendees\, announce/discuss upcoming events/trips\, and conduct any required club business. All this is followed by a 30 – 45 minute presentation by a guest speaker on a fly fishing related topic. \nThis month\, we will have a presentation from the renowned author\, guide\, and all around sportsman\, Bill Carman. \nBill will be presenting on Fishing Hatchery Creek. This is a don’t miss presentation. Please look at Bill’s attached Bio and we hope to see you there. \n \nAbout Bill Carman \n Bill Carman (Kentucky Wild\, LLC) is a landscape architect who spent thirty years designing parks and recreational facilities. After retirement\, he worked for ten years as the KY-TN-WV Regional Director for the Rocky Mountain Elk Foundation. He is a fly fishing guide who has spent over six decades fly fishing the streams of Kentucky. He is Kentucky’s only guide specializing in small stream wading. He is also an award-winning outdoor writer. His stories have appeared in numerous outdoor magazines\, and he won the national Outdoor Life Book Club short story contest. He has written four books of hunting and fishing topics and authored a true crime book\, Saving Noah\, set in a small town in Kentucky. His latest book\, Fishing with Daniel Boone\, takes the reader on a fly fisherman’s journey to the rivers and streams of Daniel Boone’s life.   Bill regularly conducts outdoor skills workshops\, and he teaches outdoor writing at the Carnegie Center. He and his wife live in Lexington\, Kentucky where he is teaching his grandchildren the ways of the woods. \nContact Info: \nWebsite-  www.kentuckywildoutdoors.com \nEmail-  kentuckywildbill@gmail.com \nFacebook-   Bill Carman
URL:https://derbycityflyfishers.com/event/monthly-meeting-14/
LOCATION:Bass Pro – Clarksville\, IN\, 951 E. Lewis & Clark Parkway\, Clarksville\, IN\, 47129\, United States
CATEGORIES:Club Meetings
END:VEVENT
END:VCALENDAR