BEGIN:VCALENDAR
VERSION:2.0
PRODID:-//Derby City Fly Fishers - ECPv6.15.20//NONSGML v1.0//EN
CALSCALE:GREGORIAN
METHOD:PUBLISH
X-ORIGINAL-URL:https://derbycityflyfishers.com
X-WR-CALDESC:Events for Derby City Fly Fishers
REFRESH-INTERVAL;VALUE=DURATION:PT1H
X-Robots-Tag:noindex
X-PUBLISHED-TTL:PT1H
BEGIN:VTIMEZONE
TZID:America/Kentucky/Louisville
BEGIN:DAYLIGHT
TZOFFSETFROM:-0500
TZOFFSETTO:-0400
TZNAME:EDT
DTSTART:20250309T070000
END:DAYLIGHT
BEGIN:STANDARD
TZOFFSETFROM:-0400
TZOFFSETTO:-0500
TZNAME:EST
DTSTART:20251102T060000
END:STANDARD
BEGIN:DAYLIGHT
TZOFFSETFROM:-0500
TZOFFSETTO:-0400
TZNAME:EDT
DTSTART:20260308T070000
END:DAYLIGHT
BEGIN:STANDARD
TZOFFSETFROM:-0400
TZOFFSETTO:-0500
TZNAME:EST
DTSTART:20261101T060000
END:STANDARD
BEGIN:DAYLIGHT
TZOFFSETFROM:-0500
TZOFFSETTO:-0400
TZNAME:EDT
DTSTART:20270314T070000
END:DAYLIGHT
BEGIN:STANDARD
TZOFFSETFROM:-0400
TZOFFSETTO:-0500
TZNAME:EST
DTSTART:20271107T060000
END:STANDARD
END:VTIMEZONE
BEGIN:VEVENT
DTSTART;TZID=America/Kentucky/Louisville:20260107T183000
DTEND;TZID=America/Kentucky/Louisville:20260107T200000
DTSTAMP:20260421T075209
CREATED:20251206T153015Z
LAST-MODIFIED:20260106T154637Z
UID:10002252-1767810600-1767816000@derbycityflyfishers.com
SUMMARY:Board of Directors Meeting
DESCRIPTION:You don’t have to be a Board Member to attend. Everyone is welcome and encouraged to attend and contribute. The meeting starts at 6:30 PM and is over by 8:00 PM. \n  \nCome on out and see how your club is run. Give us your ideas and maybe consider getting involved (there are a number of opportunities to help out and you don’t have to be on the Board to do so.) \nAfterwards we usually get together for some food\, drink and socialization.
URL:https://derbycityflyfishers.com/event/board-of-directors-meeting-12/
LOCATION:Cabela’s\, 5100 Norton Healthcare Blvd\, Louisville\, KY\, 40241\, United States
CATEGORIES:Club Meetings
END:VEVENT
BEGIN:VEVENT
DTSTART;TZID=America/Kentucky/Louisville:20260114T183000
DTEND;TZID=America/Kentucky/Louisville:20260114T203000
DTSTAMP:20260421T075209
CREATED:20251206T155746Z
LAST-MODIFIED:20251206T155746Z
UID:10002275-1768415400-1768422600@derbycityflyfishers.com
SUMMARY:Eat & Talk
DESCRIPTION:We have the private event room so it should be quiet enough for conversation\, with plenty of room to get comfortable and enjoy each others company. This is a great opportunity to get to know some of your DCFF club mates a little better and swap some fish stories. You can come when you want\, eat and drink if you want\, mostly just share some camaraderie.
URL:https://derbycityflyfishers.com/event/eat-talk-36/
LOCATION:Roosters on Shelbyville Rd.\, 10430 Shelbyville Rd\, Louisville\, KY\, 40223
CATEGORIES:Club Meetings
END:VEVENT
BEGIN:VEVENT
DTSTART;TZID=America/Kentucky/Louisville:20260121T183000
DTEND;TZID=America/Kentucky/Louisville:20260121T200000
DTSTAMP:20260421T075209
CREATED:20251206T164350Z
LAST-MODIFIED:20260108T232024Z
UID:10002290-1769020200-1769025600@derbycityflyfishers.com
SUMMARY:Monthly Meeting
DESCRIPTION:Meetings are open to everyone\, you do not have to be a member to attend.  Typical format: 10-15 minute “Tackle Time”  presentation on some aspect of Fly Fishing followed by a business segment to introduce new members and guests\,  take questions and get updates on fishing from attendees\, announce/discuss upcoming events/trips\, and conduct any required club business. All this is followed by a 30 – 45 minute presentation by a guest speaker on a fly fishing related topic. \nThis January’s predestination will be Ron Kornrumph\, of Little Miami River Outfitters. \n \nRon is an avid river fly fisherman and fly tier who lives in Kentucky.  Kentucky is home to Elkhorn Creek\, which is otherwise known as “The Elkhorn” and is one of the top 50 smallmouth destinations in the United States.  Ron also guides several smallmouth streams in rivers in southeast Indiana and Cincinnati.
URL:https://derbycityflyfishers.com/event/monthly-meeting-21/
LOCATION:Bass Pro – Clarksville\, IN\, 951 E. Lewis & Clark Parkway\, Clarksville\, IN\, 47129\, United States
CATEGORIES:Club Meetings
END:VEVENT
END:VCALENDAR