BEGIN:VCALENDAR
VERSION:2.0
PRODID:-//Derby City Fly Fishers - ECPv6.15.20//NONSGML v1.0//EN
CALSCALE:GREGORIAN
METHOD:PUBLISH
X-WR-CALNAME:Derby City Fly Fishers
X-ORIGINAL-URL:https://derbycityflyfishers.com
X-WR-CALDESC:Events for Derby City Fly Fishers
REFRESH-INTERVAL;VALUE=DURATION:PT1H
X-Robots-Tag:noindex
X-PUBLISHED-TTL:PT1H
BEGIN:VTIMEZONE
TZID:America/Kentucky/Louisville
BEGIN:DAYLIGHT
TZOFFSETFROM:-0500
TZOFFSETTO:-0400
TZNAME:EDT
DTSTART:20250309T070000
END:DAYLIGHT
BEGIN:STANDARD
TZOFFSETFROM:-0400
TZOFFSETTO:-0500
TZNAME:EST
DTSTART:20251102T060000
END:STANDARD
BEGIN:DAYLIGHT
TZOFFSETFROM:-0500
TZOFFSETTO:-0400
TZNAME:EDT
DTSTART:20260308T070000
END:DAYLIGHT
BEGIN:STANDARD
TZOFFSETFROM:-0400
TZOFFSETTO:-0500
TZNAME:EST
DTSTART:20261101T060000
END:STANDARD
BEGIN:DAYLIGHT
TZOFFSETFROM:-0500
TZOFFSETTO:-0400
TZNAME:EDT
DTSTART:20270314T070000
END:DAYLIGHT
BEGIN:STANDARD
TZOFFSETFROM:-0400
TZOFFSETTO:-0500
TZNAME:EST
DTSTART:20271107T060000
END:STANDARD
END:VTIMEZONE
BEGIN:VEVENT
DTSTART;TZID=America/Kentucky/Louisville:20260304T183000
DTEND;TZID=America/Kentucky/Louisville:20260304T200000
DTSTAMP:20260421T061817
CREATED:20251206T153817Z
LAST-MODIFIED:20260106T155432Z
UID:10002254-1772649000-1772654400@derbycityflyfishers.com
SUMMARY:Board of Directors Meeting
DESCRIPTION:You don’t have to be a Board Member to attend. Everyone is welcome and encouraged to attend and contribute. The meeting starts at 6:30 PM and is over by 8:00 PM. \n  \nCome on out and see how your club is run. Give us your ideas and maybe consider getting involved (there are a number of opportunities to help out and you don’t have to be on the Board to do so.) \nAfterwards we usually get together for some food\, drink and socialization.
URL:https://derbycityflyfishers.com/event/board-of-directors-meeting-38/
LOCATION:Cabela’s\, 5100 Norton Healthcare Blvd\, Louisville\, KY\, 40241\, United States
CATEGORIES:Club Meetings
END:VEVENT
BEGIN:VEVENT
DTSTART;TZID=America/Kentucky/Louisville:20260311T183000
DTEND;TZID=America/Kentucky/Louisville:20260311T203000
DTSTAMP:20260421T061817
CREATED:20251206T155830Z
LAST-MODIFIED:20251206T155830Z
UID:10002277-1773253800-1773261000@derbycityflyfishers.com
SUMMARY:Eat & Talk
DESCRIPTION:We have the private event room so it should be quiet enough for conversation\, with plenty of room to get comfortable and enjoy each others company. This is a great opportunity to get to know some of your DCFF club mates a little better and swap some fish stories. You can come when you want\, eat and drink if you want\, mostly just share some camaraderie.
URL:https://derbycityflyfishers.com/event/eat-talk-38/
LOCATION:Roosters on Shelbyville Rd.\, 10430 Shelbyville Rd\, Louisville\, KY\, 40223
CATEGORIES:Club Meetings
END:VEVENT
BEGIN:VEVENT
DTSTART;TZID=America/Kentucky/Louisville:20260318T183000
DTEND;TZID=America/Kentucky/Louisville:20260318T200000
DTSTAMP:20260421T061817
CREATED:20251206T164441Z
LAST-MODIFIED:20260106T155627Z
UID:10002292-1773858600-1773864000@derbycityflyfishers.com
SUMMARY:Monthly Meeting
DESCRIPTION:Meetings are open to everyone\, you do not have to be a member to attend.  Typical format: 10-15 minute “Tackle Time”  presentation on some aspect of Fly Fishing followed by a business segment to introduce new members and guests\,  take questions and get updates on fishing from attendees\, announce/discuss upcoming events/trips\, and conduct any required club business. All this is followed by a 30 – 45 minute presentation by a guest speaker on a fly fishing related topic. \nInformation on the presentation for this meeting will be updated as the topic and speaker details are confirmed.
URL:https://derbycityflyfishers.com/event/monthly-meeting-23/
LOCATION:Bass Pro – Clarksville\, IN\, 951 E. Lewis & Clark Parkway\, Clarksville\, IN\, 47129\, United States
CATEGORIES:Club Meetings
END:VEVENT
END:VCALENDAR