BEGIN:VCALENDAR
VERSION:2.0
PRODID:-//Derby City Fly Fishers - ECPv6.15.20//NONSGML v1.0//EN
CALSCALE:GREGORIAN
METHOD:PUBLISH
X-WR-CALNAME:Derby City Fly Fishers
X-ORIGINAL-URL:https://derbycityflyfishers.com
X-WR-CALDESC:Events for Derby City Fly Fishers
REFRESH-INTERVAL;VALUE=DURATION:PT1H
X-Robots-Tag:noindex
X-PUBLISHED-TTL:PT1H
BEGIN:VTIMEZONE
TZID:America/Kentucky/Louisville
BEGIN:DAYLIGHT
TZOFFSETFROM:-0500
TZOFFSETTO:-0400
TZNAME:EDT
DTSTART:20250309T070000
END:DAYLIGHT
BEGIN:STANDARD
TZOFFSETFROM:-0400
TZOFFSETTO:-0500
TZNAME:EST
DTSTART:20251102T060000
END:STANDARD
BEGIN:DAYLIGHT
TZOFFSETFROM:-0500
TZOFFSETTO:-0400
TZNAME:EDT
DTSTART:20260308T070000
END:DAYLIGHT
BEGIN:STANDARD
TZOFFSETFROM:-0400
TZOFFSETTO:-0500
TZNAME:EST
DTSTART:20261101T060000
END:STANDARD
BEGIN:DAYLIGHT
TZOFFSETFROM:-0500
TZOFFSETTO:-0400
TZNAME:EDT
DTSTART:20270314T070000
END:DAYLIGHT
BEGIN:STANDARD
TZOFFSETFROM:-0400
TZOFFSETTO:-0500
TZNAME:EST
DTSTART:20271107T060000
END:STANDARD
END:VTIMEZONE
BEGIN:VEVENT
DTSTART;TZID=America/Kentucky/Louisville:20260121T183000
DTEND;TZID=America/Kentucky/Louisville:20260121T200000
DTSTAMP:20260421T091117
CREATED:20251206T164350Z
LAST-MODIFIED:20260108T232024Z
UID:10002290-1769020200-1769025600@derbycityflyfishers.com
SUMMARY:Monthly Meeting
DESCRIPTION:Meetings are open to everyone\, you do not have to be a member to attend.  Typical format: 10-15 minute “Tackle Time”  presentation on some aspect of Fly Fishing followed by a business segment to introduce new members and guests\,  take questions and get updates on fishing from attendees\, announce/discuss upcoming events/trips\, and conduct any required club business. All this is followed by a 30 – 45 minute presentation by a guest speaker on a fly fishing related topic. \nThis January’s predestination will be Ron Kornrumph\, of Little Miami River Outfitters. \n \nRon is an avid river fly fisherman and fly tier who lives in Kentucky.  Kentucky is home to Elkhorn Creek\, which is otherwise known as “The Elkhorn” and is one of the top 50 smallmouth destinations in the United States.  Ron also guides several smallmouth streams in rivers in southeast Indiana and Cincinnati.
URL:https://derbycityflyfishers.com/event/monthly-meeting-21/
LOCATION:Bass Pro – Clarksville\, IN\, 951 E. Lewis & Clark Parkway\, Clarksville\, IN\, 47129\, United States
CATEGORIES:Club Meetings
END:VEVENT
END:VCALENDAR