BEGIN:VCALENDAR
VERSION:2.0
PRODID:-//Derby City Fly Fishers - ECPv6.15.20//NONSGML v1.0//EN
CALSCALE:GREGORIAN
METHOD:PUBLISH
X-WR-CALNAME:Derby City Fly Fishers
X-ORIGINAL-URL:https://derbycityflyfishers.com
X-WR-CALDESC:Events for Derby City Fly Fishers
REFRESH-INTERVAL;VALUE=DURATION:PT1H
X-Robots-Tag:noindex
X-PUBLISHED-TTL:PT1H
BEGIN:VTIMEZONE
TZID:America/Kentucky/Louisville
BEGIN:DAYLIGHT
TZOFFSETFROM:-0500
TZOFFSETTO:-0400
TZNAME:EDT
DTSTART:20210314T070000
END:DAYLIGHT
BEGIN:STANDARD
TZOFFSETFROM:-0400
TZOFFSETTO:-0500
TZNAME:EST
DTSTART:20211107T060000
END:STANDARD
BEGIN:DAYLIGHT
TZOFFSETFROM:-0500
TZOFFSETTO:-0400
TZNAME:EDT
DTSTART:20220313T070000
END:DAYLIGHT
BEGIN:STANDARD
TZOFFSETFROM:-0400
TZOFFSETTO:-0500
TZNAME:EST
DTSTART:20221106T060000
END:STANDARD
BEGIN:DAYLIGHT
TZOFFSETFROM:-0500
TZOFFSETTO:-0400
TZNAME:EDT
DTSTART:20230312T070000
END:DAYLIGHT
BEGIN:STANDARD
TZOFFSETFROM:-0400
TZOFFSETTO:-0500
TZNAME:EST
DTSTART:20231105T060000
END:STANDARD
BEGIN:DAYLIGHT
TZOFFSETFROM:-0500
TZOFFSETTO:-0400
TZNAME:EDT
DTSTART:20240310T070000
END:DAYLIGHT
BEGIN:STANDARD
TZOFFSETFROM:-0400
TZOFFSETTO:-0500
TZNAME:EST
DTSTART:20241103T060000
END:STANDARD
END:VTIMEZONE
BEGIN:VEVENT
DTSTART;TZID=America/Kentucky/Louisville:20230111T183000
DTEND;TZID=America/Kentucky/Louisville:20230111T203000
DTSTAMP:20260421T212432
CREATED:20221215T212535Z
LAST-MODIFIED:20221217T002322Z
UID:10001859-1673461800-1673469000@derbycityflyfishers.com
SUMMARY:EAT & TALK
DESCRIPTION:We have the private event room so it should be quiet enough for conversation\, with plenty of room to get comfortable and enjoy each others company. This is a great opportunity to get to know some of your DCFF club mates a little better and swap some fish stories. You can come when you want\, eat and drink if you want\, mostly just share some camaraderie.
URL:https://derbycityflyfishers.com/event/eat-and-talk/
LOCATION:Roosters on Shelbyville Rd.\, 10430 Shelbyville Rd\, Louisville\, KY\, 40223
CATEGORIES:Club Meetings
END:VEVENT
BEGIN:VEVENT
DTSTART;TZID=America/Kentucky/Louisville:20230104T183000
DTEND;TZID=America/Kentucky/Louisville:20230104T203000
DTSTAMP:20260421T212432
CREATED:20221216T224424Z
LAST-MODIFIED:20221216T235240Z
UID:10001860-1672857000-1672864200@derbycityflyfishers.com
SUMMARY:Board of Directors Meeting
DESCRIPTION:You don’t have to be a Board Member to attend. Everyone is welcome and encouraged to attend and contribute. The meeting starts at 6:30 PM and is over by 8:30 PM. \n  \nCome on out\, have a bite to eat and see how your club is run. Give us your ideas and maybe consider getting involved (there are a number of opportunities to help out and you don’t have to be on the Board to do so.)
URL:https://derbycityflyfishers.com/event/board-of-directors-meeting-13/
LOCATION:Roosters – Clarksville\, 1601 Greentree Blvd\, Clarksville\, IN\, 47129\, United States
CATEGORIES:Club Meetings
END:VEVENT
BEGIN:VEVENT
DTSTART;TZID=America/Kentucky/Louisville:20230103T190000
DTEND;TZID=America/Kentucky/Louisville:20230103T210000
DTSTAMP:20260421T212432
CREATED:20221223T163835Z
LAST-MODIFIED:20221223T163835Z
UID:10001931-1672772400-1672779600@derbycityflyfishers.com
SUMMARY:Kentuckiana Fly Tyers Fly Tying Night
DESCRIPTION:Location: 3rd Turn\, 10408 Watterson Trail in Jeffersontown(the old Moose Lodge)  \nTime:  7 – 9 PM \nKFT will kick off the new year with Roy Weeks tying a “hot spot pheasant tail” that is sure to be a winner on the streams.  Roy will supply all the materials and will have vises for those who need them. \nDeloris Cummings will be teaching the beginners table\, so if you know anyone that is new to fly tying\, bring them along\, and she will get them started. Tools and materials will be provided. \nRemember\, the 3rd Turn does not serve food so bring a snack if you want.   \nPlease click the applicable RSVP button if you are planning on attending.  We hope to see you all there. \n\n\n\nRSVP – Tyers\n\n\n\n\n\n\n\nRSVP – Beginners
URL:https://derbycityflyfishers.com/event/kentuckiana-fly-tyers-fly-tying-night/
LOCATION:3rd Turn (Old Moose Lodge)\, 10408 Watterson Trail\, Jeffersonton\, KY\, 40299
CATEGORIES:Fly Tying
END:VEVENT
BEGIN:VEVENT
DTSTART;TZID=America/Kentucky/Louisville:20221221T183000
DTEND;TZID=America/Kentucky/Louisville:20221221T200000
DTSTAMP:20260421T212432
CREATED:20220314T195518Z
LAST-MODIFIED:20221208T150323Z
UID:10001830-1671647400-1671652800@derbycityflyfishers.com
SUMMARY:Monthly Club Meeting---Christmas Party!!!
DESCRIPTION:The December Club Meeting is a DCFF  Christmas Party at Endris Lodge at Lapping Park in Clarksville\, Indiana.  This is a very nice social event and enjoyed by all. \n \nThe club provides non-alcoholic drinks\, plates\, cups\, plasticware and napkins.  Club members bring a dish to share.  Alcoholic beverages are allowed at Endris Lodge\, so BYO if so inclined.  Spouses or significant others are encouraged to attend.
URL:https://derbycityflyfishers.com/event/monthly-club-meeting-8/
LOCATION:Endris Lodge\, 2404 Greentree Blvd\, Clarksville\, IN\, 47129\, United States
CATEGORIES:Club Meetings
END:VEVENT
BEGIN:VEVENT
DTSTART;TZID=America/Kentucky/Louisville:20221214T183000
DTEND;TZID=America/Kentucky/Louisville:20221214T200000
DTSTAMP:20260421T212432
CREATED:20220314T194621Z
LAST-MODIFIED:20221008T145551Z
UID:10001702-1671042600-1671048000@derbycityflyfishers.com
SUMMARY:Derby City Fly Fishers Eat and Talk
DESCRIPTION:We will be gathering at Roosters on Shelbyville Road.\n10430 Shelbyville Rd #7\, Louisville\, KY 40223\nDirections\nRestaurant: 502-883-1990\n\nThere is plenty of room to observe appropriate social distancing\, good lighting (great for fly tying) and good food. This is a great opportunity to get to know some of your DCFF club mates a little better\, swap some fish stories\, all while enjoying some good BBQ and drink. You can come when you want\, eat and drink if you want\, tie a fly or two if you want but mostly just share some camaraderie.
URL:https://derbycityflyfishers.com/event/derby-city-fly-fishers-eat-and-talk-13/
LOCATION:Roosters on Shelbyville Rd.\, 10430 Shelbyville Rd\, Louisville\, KY\, 40223
CATEGORIES:Social Events
END:VEVENT
BEGIN:VEVENT
DTSTART;TZID=America/Kentucky/Louisville:20221119T100000
DTEND;TZID=America/Kentucky/Louisville:20221119T140000
DTSTAMP:20260421T212432
CREATED:20221012T193236Z
LAST-MODIFIED:20221104T225659Z
UID:10001851-1668852000-1668866400@derbycityflyfishers.com
SUMMARY:Youth Fishing Derby
DESCRIPTION:Waverly Park Fishing Derby Flyer Nov 19\, 2022 \n 
URL:https://derbycityflyfishers.com/event/youth-fishing-day/
LOCATION:Waverly Park\, 4800 Waverly Park Rd\, Louisville\, KY\, 40214\, United States
END:VEVENT
BEGIN:VEVENT
DTSTART;TZID=America/Kentucky/Louisville:20221116T183000
DTEND;TZID=America/Kentucky/Louisville:20221116T200000
DTSTAMP:20260421T212432
CREATED:20220314T195333Z
LAST-MODIFIED:20220314T195333Z
UID:10001829-1668623400-1668628800@derbycityflyfishers.com
SUMMARY:Monthly Club Meeting
DESCRIPTION:Meetings are open to everyone you do not have to be a member to attend.  Typical format: 10-15 minute “Tackle Time”  presentation on some aspect of Fly Fishing Business meeting to introduce new members and guests\,  take questions or get updates on fishing from attendees\, announce/discuss upcoming events/trips\, and conduct any club business required Presentation\,…
URL:https://derbycityflyfishers.com/event/monthly-club-meeting-7/
LOCATION:IN
CATEGORIES:Club Meetings
END:VEVENT
BEGIN:VEVENT
DTSTART;TZID=America/Kentucky/Louisville:20221111T183000
DTEND;TZID=America/Kentucky/Louisville:20221111T203000
DTSTAMP:20260421T212432
CREATED:20221103T142613Z
LAST-MODIFIED:20221103T143345Z
UID:10001854-1668191400-1668198600@derbycityflyfishers.com
SUMMARY:Casting for Recovery Fundraising Event
DESCRIPTION:
URL:https://derbycityflyfishers.com/event/casting-for-recovery-fundraising-event/
LOCATION:Martin’s Bar-B-Que\, 3408 Indian Lake Drive\, Louisville\, Ky
CATEGORIES:Community Support
END:VEVENT
BEGIN:VEVENT
DTSTART;VALUE=DATE:20221110
DTEND;VALUE=DATE:20221114
DTSTAMP:20260421T212432
CREATED:20220315T145634Z
LAST-MODIFIED:20220315T145634Z
UID:10001848-1668038400-1668383999@derbycityflyfishers.com
SUMMARY:Fall North Carolina Trip
DESCRIPTION:For more info\, click here:  Trip Information
URL:https://derbycityflyfishers.com/event/fall-north-carolina-trip/
LOCATION:IN
CATEGORIES:Fishing Trip
END:VEVENT
BEGIN:VEVENT
DTSTART;TZID=America/Kentucky/Louisville:20221109T183000
DTEND;TZID=America/Kentucky/Louisville:20221109T200000
DTSTAMP:20260421T212432
CREATED:20220314T194529Z
LAST-MODIFIED:20221008T145653Z
UID:10001700-1668018600-1668024000@derbycityflyfishers.com
SUMMARY:Derby City Fly Fishers Eat and Talk
DESCRIPTION:We will be gathering at Roosters on Shelbyville Road.\n10430 Shelbyville Rd #7\, Louisville\, KY 40223\nDirections\nRestaurant: 502-883-1990\nThere is plenty of room to observe appropriate social distancing\, good lighting (great for fly tying) and good food. This is a great opportunity to get to know some of your DCFF club mates a little better\, swap some fish stories\, all while enjoying some good BBQ and drink. You can come when you want\, eat and drink if you want\, tie a fly or two if you want but mostly just share some camaraderie.
URL:https://derbycityflyfishers.com/event/derby-city-fly-fishers-eat-and-talk-12/
LOCATION:Roosters on Shelbyville Rd.\, 10430 Shelbyville Rd\, Louisville\, KY\, 40223
CATEGORIES:Social Events
END:VEVENT
BEGIN:VEVENT
DTSTART;TZID=America/Kentucky/Louisville:20221027T183000
DTEND;TZID=America/Kentucky/Louisville:20221027T200000
DTSTAMP:20260421T212432
CREATED:20220314T190702Z
LAST-MODIFIED:20220314T190702Z
UID:10001822-1666895400-1666900800@derbycityflyfishers.com
SUMMARY:Fly Tying Class-Bass Pro
DESCRIPTION:Our Fly Tying Classes are open to everyone – you do not have to be a member to attend.  Generally we tie two flies during the class demonstrate by an instructor with accompanying video on a big screen TV so students can see each step. Tools and materials are provided at no cost\, but if you have your own tools feel free to bring them.
URL:https://derbycityflyfishers.com/event/fly-tying-class-bass-pro-10/
LOCATION:IN
CATEGORIES:Fly Tying
END:VEVENT
BEGIN:VEVENT
DTSTART;TZID=America/Kentucky/Louisville:20221026T183000
DTEND;TZID=America/Kentucky/Louisville:20221026T200000
DTSTAMP:20260421T212432
CREATED:20220314T193413Z
LAST-MODIFIED:20220314T193413Z
UID:10001691-1666809000-1666814400@derbycityflyfishers.com
SUMMARY:Fly Tying----Cabela's
DESCRIPTION:Our Fly Tying Classes are open to everyone – you do not have to be a member to attend.  Generally we tie two flies during the class demonstrate by an instructor with accompanying video on a big screen TV so students can see each step. Tools and materials are provided at no cost\, but if you have your own tools feel free to bring them.
URL:https://derbycityflyfishers.com/event/fly-tying-cabelas-7/
LOCATION:IN
CATEGORIES:Fly Tying
END:VEVENT
BEGIN:VEVENT
DTSTART;TZID=America/Kentucky/Louisville:20221019T183000
DTEND;TZID=America/Kentucky/Louisville:20221019T200000
DTSTAMP:20260421T212432
CREATED:20220314T195224Z
LAST-MODIFIED:20220314T195224Z
UID:10001828-1666204200-1666209600@derbycityflyfishers.com
SUMMARY:Monthly Club Meeting
DESCRIPTION:Meetings are open to everyone you do not have to be a member to attend.  Typical format: 10-15 minute “Tackle Time”  presentation on some aspect of Fly Fishing Business meeting to introduce new members and guests\,  take questions or get updates on fishing from attendees\, announce/discuss upcoming events/trips\, and conduct any club business required Presentation\,…
URL:https://derbycityflyfishers.com/event/monthly-club-meeting-6/
LOCATION:IN
CATEGORIES:Club Meetings
END:VEVENT
BEGIN:VEVENT
DTSTART;TZID=America/Kentucky/Louisville:20221012T183000
DTEND;TZID=America/Kentucky/Louisville:20221012T200000
DTSTAMP:20260421T212432
CREATED:20220314T194435Z
LAST-MODIFIED:20221008T145501Z
UID:10001699-1665599400-1665604800@derbycityflyfishers.com
SUMMARY:Derby City Fly Fishers Eat and Talk
DESCRIPTION:We will be gathering at Roosters on Shelbyville Road.\n10430 Shelbyville Rd #7\, Louisville\, KY 40223\nDirections\nRestaurant: 502-883-1990\n\nThere is plenty of room to observe appropriate social distancing\, good lighting (great for fly tying) and good food. This is a great opportunity to get to know some of your DCFF club mates a little better\, swap some fish stories\, all while enjoying some good BBQ and drink. You can come when you want\, eat and drink if you want\, tie a fly or two if you want but mostly just share some camaraderie.
URL:https://derbycityflyfishers.com/event/derby-city-fly-fishers-eat-and-talk-11/
LOCATION:Roosters on Shelbyville Rd.\, 10430 Shelbyville Rd\, Louisville\, KY\, 40223
CATEGORIES:Social Events
END:VEVENT
BEGIN:VEVENT
DTSTART;TZID=America/Kentucky/Louisville:20220929T183000
DTEND;TZID=America/Kentucky/Louisville:20220929T200000
DTSTAMP:20260421T212432
CREATED:20220314T190448Z
LAST-MODIFIED:20220314T190448Z
UID:10001821-1664476200-1664481600@derbycityflyfishers.com
SUMMARY:Fly Tying Class-Bass Pro
DESCRIPTION:Our Fly Tying Classes are open to everyone – you do not have to be a member to attend.  Generally we tie two flies during the class demonstrate by an instructor with accompanying video on a big screen TV so students can see each step. Tools and materials are provided at no cost\, but if you have your own tools feel free to bring them.
URL:https://derbycityflyfishers.com/event/fly-tying-class-bass-pro-9/
LOCATION:IN
CATEGORIES:Fly Tying
END:VEVENT
BEGIN:VEVENT
DTSTART;TZID=America/Kentucky/Louisville:20220928T183000
DTEND;TZID=America/Kentucky/Louisville:20220928T200000
DTSTAMP:20260421T212432
CREATED:20220314T193321Z
LAST-MODIFIED:20220314T193321Z
UID:10001690-1664389800-1664395200@derbycityflyfishers.com
SUMMARY:Fly Tying----Cabela's
DESCRIPTION:Our Fly Tying Classes are open to everyone – you do not have to be a member to attend.  Generally we tie two flies during the class demonstrate by an instructor with accompanying video on a big screen TV so students can see each step. Tools and materials are provided at no cost\, but if you have your own tools feel free to bring them.
URL:https://derbycityflyfishers.com/event/fly-tying-cabelas-6/
LOCATION:IN
CATEGORIES:Fly Tying
END:VEVENT
BEGIN:VEVENT
DTSTART;TZID=America/Kentucky/Louisville:20220921T183000
DTEND;TZID=America/Kentucky/Louisville:20220921T200000
DTSTAMP:20260421T212432
CREATED:20220314T195124Z
LAST-MODIFIED:20220920T144716Z
UID:10001827-1663785000-1663790400@derbycityflyfishers.com
SUMMARY:Monthly Club Meeting
DESCRIPTION:Meetings are open to everyone you do not have to be a member to attend.  Typical format: 10-15 minute “Tackle Time”  presentation on some aspect of Fly Fishing Business meeting to introduce new members and guests\,  take questions or get updates on fishing from attendees\, announce/discuss upcoming events/trips\, and conduct any club business required Presentation\,…
URL:https://derbycityflyfishers.com/event/monthly-club-meeting-5/
LOCATION:IN
CATEGORIES:Club Meetings
END:VEVENT
BEGIN:VEVENT
DTSTART;TZID=America/Kentucky/Louisville:20220917T100000
DTEND;TZID=America/Kentucky/Louisville:20220917T110000
DTSTAMP:20260421T212432
CREATED:20220913T011153Z
LAST-MODIFIED:20220913T014922Z
UID:10001850-1663408800-1663412400@derbycityflyfishers.com
SUMMARY:Introduction to Fly Fishing
DESCRIPTION:Gerry McDaniel will be conducting an Introduction to Fly Fishing Class at Bass Pro in Clarksville. \nClass will include beginners fly casting and knot tying. \n  \nClass will be Sept. 17th at 10:00 am. \nCall Jack Miller at the White River Fly Shop at Bass Pro in Clarksville to let him know you will be attending.
URL:https://derbycityflyfishers.com/event/introduction-to-fly-fishing/
LOCATION:IN
CATEGORIES:Education
END:VEVENT
BEGIN:VEVENT
DTSTART;TZID=America/Kentucky/Louisville:20220914T183000
DTEND;TZID=America/Kentucky/Louisville:20220914T200000
DTSTAMP:20260421T212432
CREATED:20220314T194342Z
LAST-MODIFIED:20220908T161728Z
UID:10001697-1663180200-1663185600@derbycityflyfishers.com
SUMMARY:Derby City Fly Fishers Eat and Talk
DESCRIPTION:We will be gathering at Martin’s BBQ.\n3408 Indian Lake Dr\, Louisville\, KY 40241 \nThere is plenty of room to observe appropriate social distancing\, good lighting (great for fly tying) and good food. This is a great opportunity to get to know some of your DCFF club mates a little better\, swap some fish stories\, all while enjoying some good BBQ and drink. You can come when you want\, eat and drink if you want\, tie a fly or two if you want but mostly just share some camaraderie.
URL:https://derbycityflyfishers.com/event/derby-city-fly-fishers-eat-and-talk-10/
LOCATION:Martin’s Bar-B-Que\, 3408 Indian Lake Drive\, Louisville\, Ky
CATEGORIES:Social Events
END:VEVENT
BEGIN:VEVENT
DTSTART;VALUE=DATE:20220909
DTEND;VALUE=DATE:20220912
DTSTAMP:20260421T212432
CREATED:20220315T144953Z
LAST-MODIFIED:20220718T142352Z
UID:10001844-1662681600-1662940799@derbycityflyfishers.com
SUMMARY:WhiteRiver  (Canoe Country’)
DESCRIPTION:  \n2022 White River\, Indiana Trip
URL:https://derbycityflyfishers.com/event/whiteriver-canoe-country/
LOCATION:IN
CATEGORIES:Fishing Trip
END:VEVENT
BEGIN:VEVENT
DTSTART;TZID=America/Kentucky/Louisville:20220825T183000
DTEND;TZID=America/Kentucky/Louisville:20220825T200000
DTSTAMP:20260421T212432
CREATED:20220314T190205Z
LAST-MODIFIED:20220314T190205Z
UID:10001820-1661452200-1661457600@derbycityflyfishers.com
SUMMARY:Fly Tying Class-Bass Pro
DESCRIPTION:Our Fly Tying Classes are open to everyone – you do not have to be a member to attend.  Generally we tie two flies during the class demonstrate by an instructor with accompanying video on a big screen TV so students can see each step. Tools and materials are provided at no cost\, but if you have your own tools feel free to bring them.
URL:https://derbycityflyfishers.com/event/fly-tying-class-bass-pro-8/
LOCATION:IN
CATEGORIES:Fly Tying
END:VEVENT
BEGIN:VEVENT
DTSTART;TZID=America/Kentucky/Louisville:20220824T183000
DTEND;TZID=America/Kentucky/Louisville:20220824T200000
DTSTAMP:20260421T212432
CREATED:20220314T193200Z
LAST-MODIFIED:20220314T193200Z
UID:10001688-1661365800-1661371200@derbycityflyfishers.com
SUMMARY:Fly Tying----Cabela's
DESCRIPTION:Our Fly Tying Classes are open to everyone – you do not have to be a member to attend.  Generally we tie two flies during the class demonstrate by an instructor with accompanying video on a big screen TV so students can see each step. Tools and materials are provided at no cost\, but if you have your own tools feel free to bring them.
URL:https://derbycityflyfishers.com/event/fly-tying-cabelas-5/
LOCATION:IN
CATEGORIES:Fly Tying
END:VEVENT
BEGIN:VEVENT
DTSTART;TZID=America/Kentucky/Louisville:20220817T183000
DTEND;TZID=America/Kentucky/Louisville:20220817T200000
DTSTAMP:20260421T212432
CREATED:20220314T200910Z
LAST-MODIFIED:20220314T201124Z
UID:10001833-1660761000-1660766400@derbycityflyfishers.com
SUMMARY:Outdoor Meeting --- Chapel Lake Park
DESCRIPTION:This months club meeting will be held at Chapel Lake Park at 5801 New Chapel Rd\, Jeffersonville\, IN 47130. \nWe’ll have a pulled pork BBQ dinner with sides and non-alcoholic drinks for $5 per person.\nWe’ll also have the Club rods and reels for casting instruction and practice.\nBring a lawn chair and join us for some good food\, camaraderie\, riveting fish stories and even a little casting instruction. \n 
URL:https://derbycityflyfishers.com/event/outdoor-meeting-chapel-lake-park/
LOCATION:Chapel Lake Park\, 5801 New Chapel Rd\, Jeffersonville\, IN\, 47130\, United States
CATEGORIES:Club Meetings
END:VEVENT
BEGIN:VEVENT
DTSTART;TZID=America/Kentucky/Louisville:20220728T183000
DTEND;TZID=America/Kentucky/Louisville:20220728T200000
DTSTAMP:20260421T212432
CREATED:20220314T190102Z
LAST-MODIFIED:20220314T190102Z
UID:10001819-1659033000-1659038400@derbycityflyfishers.com
SUMMARY:Fly Tying Class-Bass Pro
DESCRIPTION:Our Fly Tying Classes are open to everyone – you do not have to be a member to attend.  Generally we tie two flies during the class demonstrate by an instructor with accompanying video on a big screen TV so students can see each step. Tools and materials are provided at no cost\, but if you have your own tools feel free to bring them.
URL:https://derbycityflyfishers.com/event/fly-tying-class-bass-pro-7/
LOCATION:IN
CATEGORIES:Fly Tying
END:VEVENT
BEGIN:VEVENT
DTSTART;TZID=America/Kentucky/Louisville:20220727T183000
DTEND;TZID=America/Kentucky/Louisville:20220727T200000
DTSTAMP:20260421T212432
CREATED:20220314T193106Z
LAST-MODIFIED:20220314T193106Z
UID:10001826-1658946600-1658952000@derbycityflyfishers.com
SUMMARY:Fly Tying----Cabela's
DESCRIPTION:Our Fly Tying Classes are open to everyone – you do not have to be a member to attend.  Generally we tie two flies during the class demonstrate by an instructor with accompanying video on a big screen TV so students can see each step. Tools and materials are provided at no cost\, but if you have your own tools feel free to bring them.
URL:https://derbycityflyfishers.com/event/fly-tying-cabelas-4/
LOCATION:IN
CATEGORIES:Fly Tying
END:VEVENT
BEGIN:VEVENT
DTSTART;TZID=America/Kentucky/Louisville:20220720T183000
DTEND;TZID=America/Kentucky/Louisville:20220720T200000
DTSTAMP:20260421T212432
CREATED:20220613T150804Z
LAST-MODIFIED:20220613T150804Z
UID:10001849-1658341800-1658347200@derbycityflyfishers.com
SUMMARY:Outdoor Meeting --- The Parklands
DESCRIPTION:Location: The Parklands. Picnic Pavilion\, Egg Lawn\, Beckley ParkGoogle Maps Link\nWe’ll have a pulled pork BBQ dinner with sides and non-alcoholic drinks for $5 per person.\nWe’ll also have the Club rods and reels for casting instruction and practice.\nBring a lawn chair and join us for some good food\, camaraderie\, riveting fish stories and even a little casting instruction.
URL:https://derbycityflyfishers.com/event/outdoor-meeting-the-parklands-2/
LOCATION:Parklands of Floyds Fork\, 1411 Beckley Creek Parkway\, Louisville\, KY\, 40245\, United States
CATEGORIES:Outdoor Meetings
END:VEVENT
BEGIN:VEVENT
DTSTART;TZID=America/Kentucky/Louisville:20220623T183000
DTEND;TZID=America/Kentucky/Louisville:20220623T200000
DTSTAMP:20260421T212432
CREATED:20220314T185951Z
LAST-MODIFIED:20220314T185951Z
UID:10001818-1656009000-1656014400@derbycityflyfishers.com
SUMMARY:Fly Tying Class-Bass Pro
DESCRIPTION:Our Fly Tying Classes are open to everyone – you do not have to be a member to attend.  Generally we tie two flies during the class demonstrate by an instructor with accompanying video on a big screen TV so students can see each step. Tools and materials are provided at no cost\, but if you have your own tools feel free to bring them.
URL:https://derbycityflyfishers.com/event/fly-tying-class-bass-pro-6/
LOCATION:IN
CATEGORIES:Fly Tying
END:VEVENT
BEGIN:VEVENT
DTSTART;TZID=America/Kentucky/Louisville:20220622T183000
DTEND;TZID=America/Kentucky/Louisville:20220622T200000
DTSTAMP:20260421T212432
CREATED:20220314T193010Z
LAST-MODIFIED:20220314T193010Z
UID:10001825-1655922600-1655928000@derbycityflyfishers.com
SUMMARY:Fly Tying----Cabela's
DESCRIPTION:Our Fly Tying Classes are open to everyone – you do not have to be a member to attend.  Generally we tie two flies during the class demonstrate by an instructor with accompanying video on a big screen TV so students can see each step. Tools and materials are provided at no cost\, but if you have your own tools feel free to bring them.
URL:https://derbycityflyfishers.com/event/fly-tying-cabelas-3/
LOCATION:IN
CATEGORIES:Fly Tying
END:VEVENT
BEGIN:VEVENT
DTSTART;TZID=America/Kentucky/Louisville:20220618T103000
DTEND;TZID=America/Kentucky/Louisville:20220618T120000
DTSTAMP:20260421T212432
CREATED:20220217T165228Z
LAST-MODIFIED:20220217T165228Z
UID:10001807-1655548200-1655553600@derbycityflyfishers.com
SUMMARY:Quest Fly Tying Class
DESCRIPTION:Free fly tying class on the 3rd Saturday of each month. Call Quest Outdoors at (502) 290-4589 for more information.
URL:https://derbycityflyfishers.com/event/quest-fly-tying-class-5/
LOCATION:Quest Outdoors\, 4600 Shelbyville Road\, Louisville\, KY\, 40207\, United States
CATEGORIES:Fly Tying
END:VEVENT
BEGIN:VEVENT
DTSTART;TZID=America/Kentucky/Louisville:20220615T183000
DTEND;TZID=America/Kentucky/Louisville:20220615T200000
DTSTAMP:20260421T212432
CREATED:20220314T200207Z
LAST-MODIFIED:20220314T200207Z
UID:10001832-1655317800-1655323200@derbycityflyfishers.com
SUMMARY:Outdoor Meeting ---- Southern Hills Lake
DESCRIPTION:This is our second outdoor meeting of the summer season. Southern Hills Lake provides a beautiful setting for some great camaraderie and an opportunity to do a little fishing as well should you so desire. \nFishing is Catch and Release\, no Indiana fishing license required. Southern Hills lake is private property. \nKayaks or other similar small boats are welcome. Don’t forget your PFDs! \nFly rods and reels will be available for those looking for some casting instruction or just an opportunity to practice. \nFood\, soft drinks and water will be provided. Cost for the meal is $5.00. \nBYOB if desired. Please act responsibly! \nDon’t forget to bring a camp chair! \nGoogle Maps Link to Southern Hills Lake
URL:https://derbycityflyfishers.com/event/outdoor-meeting-southern-hills-lake/
LOCATION:Southern Hills Lake Dam\, 1205 Southern Hills Drive\, Borden\, IN\, 47106\, United States
CATEGORIES:Club Meetings
END:VEVENT
END:VCALENDAR