BEGIN:VCALENDAR
VERSION:2.0
PRODID:-//Derby City Fly Fishers - ECPv6.15.20//NONSGML v1.0//EN
CALSCALE:GREGORIAN
METHOD:PUBLISH
X-WR-CALNAME:Derby City Fly Fishers
X-ORIGINAL-URL:https://derbycityflyfishers.com
X-WR-CALDESC:Events for Derby City Fly Fishers
REFRESH-INTERVAL;VALUE=DURATION:PT1H
X-Robots-Tag:noindex
X-PUBLISHED-TTL:PT1H
BEGIN:VTIMEZONE
TZID:America/Kentucky/Louisville
BEGIN:DAYLIGHT
TZOFFSETFROM:-0500
TZOFFSETTO:-0400
TZNAME:EDT
DTSTART:20200308T070000
END:DAYLIGHT
BEGIN:STANDARD
TZOFFSETFROM:-0400
TZOFFSETTO:-0500
TZNAME:EST
DTSTART:20201101T060000
END:STANDARD
BEGIN:DAYLIGHT
TZOFFSETFROM:-0500
TZOFFSETTO:-0400
TZNAME:EDT
DTSTART:20210314T070000
END:DAYLIGHT
BEGIN:STANDARD
TZOFFSETFROM:-0400
TZOFFSETTO:-0500
TZNAME:EST
DTSTART:20211107T060000
END:STANDARD
BEGIN:DAYLIGHT
TZOFFSETFROM:-0500
TZOFFSETTO:-0400
TZNAME:EDT
DTSTART:20220313T070000
END:DAYLIGHT
BEGIN:STANDARD
TZOFFSETFROM:-0400
TZOFFSETTO:-0500
TZNAME:EST
DTSTART:20221106T060000
END:STANDARD
BEGIN:DAYLIGHT
TZOFFSETFROM:-0500
TZOFFSETTO:-0400
TZNAME:EDT
DTSTART:20230312T070000
END:DAYLIGHT
BEGIN:STANDARD
TZOFFSETFROM:-0400
TZOFFSETTO:-0500
TZNAME:EST
DTSTART:20231105T060000
END:STANDARD
END:VTIMEZONE
BEGIN:VTIMEZONE
TZID:America/New_York
BEGIN:DAYLIGHT
TZOFFSETFROM:-0500
TZOFFSETTO:-0400
TZNAME:EDT
DTSTART:20180311T070000
END:DAYLIGHT
BEGIN:STANDARD
TZOFFSETFROM:-0400
TZOFFSETTO:-0500
TZNAME:EST
DTSTART:20181104T060000
END:STANDARD
BEGIN:DAYLIGHT
TZOFFSETFROM:-0500
TZOFFSETTO:-0400
TZNAME:EDT
DTSTART:20190310T070000
END:DAYLIGHT
BEGIN:STANDARD
TZOFFSETFROM:-0400
TZOFFSETTO:-0500
TZNAME:EST
DTSTART:20191103T060000
END:STANDARD
BEGIN:DAYLIGHT
TZOFFSETFROM:-0500
TZOFFSETTO:-0400
TZNAME:EDT
DTSTART:20200308T070000
END:DAYLIGHT
BEGIN:STANDARD
TZOFFSETFROM:-0400
TZOFFSETTO:-0500
TZNAME:EST
DTSTART:20201101T060000
END:STANDARD
BEGIN:DAYLIGHT
TZOFFSETFROM:-0500
TZOFFSETTO:-0400
TZNAME:EDT
DTSTART:20210314T070000
END:DAYLIGHT
BEGIN:STANDARD
TZOFFSETFROM:-0400
TZOFFSETTO:-0500
TZNAME:EST
DTSTART:20211107T060000
END:STANDARD
END:VTIMEZONE
BEGIN:VEVENT
DTSTART;TZID=America/Kentucky/Louisville:20220212T100000
DTEND;TZID=America/Kentucky/Louisville:20220212T120000
DTSTAMP:20260421T121915
CREATED:20220119T223206Z
LAST-MODIFIED:20220119T223206Z
UID:10001801-1644660000-1644667200@derbycityflyfishers.com
SUMMARY:Fly Tying 101 at Orvis Louisville
DESCRIPTION:Learn fly-tying basics in one of our free Fly Tying 101 classes. The 2-hour class will cover tools\, materials\, and techniques. You will learn to tie the famous Woolly Bugger to take home and try your next time out on the water. For the safety of our instructors and students\, masks are required to participate. \nSign up here:
URL:https://derbycityflyfishers.com/event/fly-tying-101-at-orvis-louisville-3/
LOCATION:Orvis\, 4288 Summit Plaza Drive\, Louisville\, KY\, 40241\, United States
END:VEVENT
BEGIN:VEVENT
DTSTART;TZID=America/Kentucky/Louisville:20220212T090000
DTEND;TZID=America/Kentucky/Louisville:20220212T163000
DTSTAMP:20260421T121915
CREATED:20211205T155016Z
LAST-MODIFIED:20220123T165406Z
UID:10001797-1644656400-1644683400@derbycityflyfishers.com
SUMMARY:2022 Fort Wayne Fly Show - Cancelled
DESCRIPTION:Important Announcement\nIt is with deep regret the Three Rivers Fly Fishers Board of Directors decided to cancel our 2022 Fly Fishing/Fly Tying Show which was scheduled for February 12\, 2022 in Fort Wayne\, Indiana. \n  \nThe Three River Fly Fishing club show. Show website: click here
URL:https://derbycityflyfishers.com/event/2022-fort-wayne-fly-show/
LOCATION:KY
CATEGORIES:Fly Show
END:VEVENT
BEGIN:VEVENT
DTSTART;TZID=America/Kentucky/Louisville:20220209T183000
DTEND;TZID=America/Kentucky/Louisville:20220209T203000
DTSTAMP:20260421T121915
CREATED:20211205T151108Z
LAST-MODIFIED:20211205T151353Z
UID:10001787-1644431400-1644438600@derbycityflyfishers.com
SUMMARY:Derby City Fly Fishers Eat and Talk
DESCRIPTION:We will be gathering this coming Wednesday at Martin’s BBQ Joint. There is plenty of room to observe appropriate social distancing\, good lighting (great for fly tying) and good food. This is a great opportunity to get to know some of your DCFF club mates a little better\, swap some fish stories\, all while enjoying some good BBQ and drink. You can come when you want\, eat and drink if you want\, tie a fly or two if you want but mostly just share some camaraderie.
URL:https://derbycityflyfishers.com/event/derby-city-fly-fishers-eat-and-talk-3/
LOCATION:Martin’s Bar-B-Que\, 3408 Indian Lake Drive\, Louisville\, Ky
CATEGORIES:Social Events
END:VEVENT
BEGIN:VEVENT
DTSTART;TZID=America/Kentucky/Louisville:20220205T100000
DTEND;TZID=America/Kentucky/Louisville:20220205T120000
DTSTAMP:20260421T121915
CREATED:20220119T223043Z
LAST-MODIFIED:20220119T223043Z
UID:10001800-1644055200-1644062400@derbycityflyfishers.com
SUMMARY:Fly Tying 101 at Orvis Louisville
DESCRIPTION:Learn fly-tying basics in one of our free Fly Tying 101 classes. The 2-hour class will cover tools\, materials\, and techniques. You will learn to tie the famous Woolly Bugger to take home and try your next time out on the water. For the safety of our instructors and students\, masks are required to participate. \nSign up here:
URL:https://derbycityflyfishers.com/event/fly-tying-101-at-orvis-louisville-2/
LOCATION:Orvis\, 4288 Summit Plaza Drive\, Louisville\, KY\, 40241\, United States
END:VEVENT
BEGIN:VEVENT
DTSTART;TZID=America/Kentucky/Louisville:20220205T090000
DTEND;TZID=America/Kentucky/Louisville:20220205T160000
DTSTAMP:20260421T121915
CREATED:20211205T154311Z
LAST-MODIFIED:20220120T180610Z
UID:10001796-1644051600-1644076800@derbycityflyfishers.com
SUMMARY:2022 Greater Cincinnati Fly Fishing Show!-Cancelled
DESCRIPTION:With great reluctance\, BUFF is cancelling the Greater Cincinnati Fly Fishing Show\, which was scheduled for Saturday\, February 5\, 2022. We apologize for the inconvenience and disappointment this causes to all those who were looking forward to participating in the show. \n  \nBuckeye United Fly Fishers will host the annual\nGreater Cincinnati Fly Fishing Show\nSaturday\, February 5\, 2022\n9:00 a.m. – 4:00 p.m. \n  \nShow Website:
URL:https://derbycityflyfishers.com/event/2022-greater-cincinnati-fly-fishing-show/
LOCATION:The Oasis Conference Center\, 902 Loveland-Miamiville Road\, Loveland\, OH\, 45140
CATEGORIES:Fly Show
END:VEVENT
BEGIN:VEVENT
DTSTART;TZID=America/Kentucky/Louisville:20220129T100000
DTEND;TZID=America/Kentucky/Louisville:20220129T120000
DTSTAMP:20260421T121915
CREATED:20220119T222812Z
LAST-MODIFIED:20220119T222812Z
UID:10001799-1643450400-1643457600@derbycityflyfishers.com
SUMMARY:Fly Tying 101 at Orvis Louisville
DESCRIPTION:Learn fly-tying basics in one of our free Fly Tying 101 classes. The 2-hour class will cover tools\, materials\, and techniques. You will learn to tie the famous Woolly Bugger to take home and try your next time out on the water. For the safety of our instructors and students\, masks are required to participate. \nSign up here:
URL:https://derbycityflyfishers.com/event/fly-tying-101-at-orvis-louisville/
LOCATION:Orvis\, 4288 Summit Plaza Drive\, Louisville\, KY\, 40241\, United States
END:VEVENT
BEGIN:VEVENT
DTSTART;TZID=America/Kentucky/Louisville:20220129T090000
DTEND;TZID=America/Kentucky/Louisville:20220129T160000
DTSTAMP:20260421T121915
CREATED:20211102T121728Z
LAST-MODIFIED:20220114T151021Z
UID:10001775-1643446800-1643472000@derbycityflyfishers.com
SUMMARY:2022 Kentuckiana Fly Fishing Show Cancelled!
DESCRIPTION:Due to the increase in Covid-19 illness and cancellations by show vendors\, the 2022 Fly show has been cancelled.
URL:https://derbycityflyfishers.com/event/dcff-fly-fishing-show/
LOCATION:Paroquet Springs Conference Center\, 395 Paroquet Springs Dr\, Shepherdsville\, KY\, 40165\, United States
END:VEVENT
BEGIN:VEVENT
DTSTART;TZID=America/Kentucky/Louisville:20220127T183000
DTEND;TZID=America/Kentucky/Louisville:20220127T200000
DTSTAMP:20260421T121915
CREATED:20211205T153038Z
LAST-MODIFIED:20211205T153038Z
UID:10001794-1643308200-1643313600@derbycityflyfishers.com
SUMMARY:Fly Tying Class-Bass Pro
DESCRIPTION:Our Fly Tying Classes are open to everyone – you do not have to be a member to attend.  Generally we tie two flies during the class demonstrate by an instructor with accompanying video on a big screen TV so students can see each step. Tools and materials are provided at no cost\, but if you have your own tools feel free to bring them.
URL:https://derbycityflyfishers.com/event/fly-tying-class-bass-pro/
LOCATION:KY
CATEGORIES:Fly Tying
END:VEVENT
BEGIN:VEVENT
DTSTART;TZID=America/Kentucky/Louisville:20220126T183000
DTEND;TZID=America/Kentucky/Louisville:20220126T200000
DTSTAMP:20260421T121915
CREATED:20211205T152635Z
LAST-MODIFIED:20211205T152635Z
UID:10001791-1643221800-1643227200@derbycityflyfishers.com
SUMMARY:Fly Tying Class-Cabela's
DESCRIPTION:Our Fly Tying Classes are open to everyone – you do not have to be a member to attend.  Generally we tie two flies during the class demonstrate by an instructor with accompanying video on a big screen TV so students can see each step. Tools and materials are provided at no cost\, but if you have your own tools feel free to bring them.
URL:https://derbycityflyfishers.com/event/fly-tying-class-cabelas/
LOCATION:KY
CATEGORIES:Fly Tying
END:VEVENT
BEGIN:VEVENT
DTSTART;TZID=America/Kentucky/Louisville:20220112T183000
DTEND;TZID=America/Kentucky/Louisville:20220112T203000
DTSTAMP:20260421T121915
CREATED:20211205T150925Z
LAST-MODIFIED:20211205T151236Z
UID:10001786-1642012200-1642019400@derbycityflyfishers.com
SUMMARY:Derby City Fly Fishers Eat and Talk
DESCRIPTION:We will be gathering this coming Wednesday at Martin’s BBQ Joint. There is plenty of room to observe appropriate social distancing\, good lighting (great for fly tying) and good food. This is a great opportunity to get to know some of your DCFF club mates a little better\, swap some fish stories\, all while enjoying some good BBQ and drink. You can come when you want\, eat and drink if you want\, tie a fly or two if you want but mostly just share some camaraderie.
URL:https://derbycityflyfishers.com/event/derby-city-fly-fishers-eat-and-talk-2/
LOCATION:Martin’s Bar-B-Que\, 3408 Indian Lake Drive\, Louisville\, Ky
CATEGORIES:Social Events
END:VEVENT
BEGIN:VEVENT
DTSTART;TZID=America/Kentucky/Louisville:20211214T183000
DTEND;TZID=America/Kentucky/Louisville:20211214T203000
DTSTAMP:20260421T121915
CREATED:20211205T141749Z
LAST-MODIFIED:20211205T142159Z
UID:10001647-1639506600-1639513800@derbycityflyfishers.com
SUMMARY:Annual Christmas Party
DESCRIPTION:Please note the day! TUESDAY!\nThis is a purely social event to enjoy each others company at this festive time of year. The Club provides non-alcoholic drinks\, plates\, cups\, plastic ware and napkins. Club members are encouraged to bring a dish to share (don’t forget a serving utensil if needed.) Marine House does allow alcoholic beverages\, so BYOB if so inclined – just be responsible. Spouses and significant others are most welcome and encouraged to attend.\n  \nGoogle Map Link
URL:https://derbycityflyfishers.com/event/annual-christmas-party/
LOCATION:Marine House\, 3758 Pulliam Drive\, Louisville\, Ky\, 40218
CATEGORIES:Club Meetings
END:VEVENT
BEGIN:VEVENT
DTSTART;TZID=America/Kentucky/Louisville:20211208T183000
DTEND;TZID=America/Kentucky/Louisville:20211208T203000
DTSTAMP:20260421T121915
CREATED:20211205T142406Z
LAST-MODIFIED:20211205T142414Z
UID:10001648-1638988200-1638995400@derbycityflyfishers.com
SUMMARY:Derby City Fly Fishers Eat and Talk
DESCRIPTION:We will be gathering this coming Wednesday at Martin’s BBQ Joint. There is plenty of room to observe appropriate social distancing\, good lighting (great for fly tying) and good food. This is a great opportunity to get to know some of your DCFF club mates a little better\, swap some fish stories\, all while enjoying some good BBQ and drink. You can come when you want\, eat and drink if you want\, tie a fly or two if you want but mostly just share some camaraderie.\n  \nGoogle Map Link
URL:https://derbycityflyfishers.com/event/derby-city-fly-fishers-eat-and-talk/
LOCATION:Martin’s Bar-B-Que\, 3408 Indian Lake Drive\, Louisville\, Ky
CATEGORIES:Club Meetings
END:VEVENT
BEGIN:VEVENT
DTSTART;TZID=America/Kentucky/Louisville:20211117T183000
DTEND;TZID=America/Kentucky/Louisville:20211117T200000
DTSTAMP:20260421T121915
CREATED:20211102T121728Z
LAST-MODIFIED:20211102T121915Z
UID:10001773-1637173800-1637179200@derbycityflyfishers.com
SUMMARY:DCFF General Club Meeting
DESCRIPTION:General club meeting open to everyone.Agenda: \nDiscussion of club business\, and upcoming events.\nPresentation by guest speaker.\nRaffle of fly fishing related items.
URL:https://derbycityflyfishers.com/event/dcff-general-club-meeting/
LOCATION:KY
END:VEVENT
BEGIN:VEVENT
DTSTART;TZID=America/Kentucky/Louisville:20211106T090000
DTEND;TZID=America/Kentucky/Louisville:20211106T130000
DTSTAMP:20260421T121915
CREATED:20211102T121727Z
LAST-MODIFIED:20211102T121958Z
UID:10001772-1636189200-1636203600@derbycityflyfishers.com
SUMMARY:Instructional Outing
DESCRIPTION:New to fly fishing and want some “ALMOST FREE” one-ononeinstruction? Been fly fishing for some time but want to up\nyour game — maybe advanced casting techniques\, get a primer\non Euro Nymph fishing? This instructional outing is just for\nyou. You do not need to be a club member to participate\, so\nbring a friend!\nClick here for more information!           Instructional Outing Nov 2021
URL:https://derbycityflyfishers.com/event/instructional-outing/
LOCATION:Otter Creek Outdoor Recreation Area\, Otter Creek Outdoor Recreation Area\, KY\, 40108\, United States
END:VEVENT
BEGIN:VEVENT
DTSTART;TZID=America/Kentucky/Louisville:20210915T183000
DTEND;TZID=America/Kentucky/Louisville:20210915T200000
DTSTAMP:20260421T121915
CREATED:20211102T121728Z
LAST-MODIFIED:20211102T121728Z
UID:10001774-1631730600-1631736000@derbycityflyfishers.com
SUMMARY:DCFF General Meeting
DESCRIPTION:DCFF club meeting at Bass Pro Shop in Clarksville.Everyone welcome to attend.\n 
URL:https://derbycityflyfishers.com/event/dcff-general-meeting/
LOCATION:KY
END:VEVENT
BEGIN:VEVENT
DTSTART;VALUE=DATE:20210822
DTEND;VALUE=DATE:20210829
DTSTAMP:20260421T121915
CREATED:20201025T153415Z
LAST-MODIFIED:20201025T153501Z
UID:10001771-1629590400-1630195199@derbycityflyfishers.com
SUMMARY:Cody Wyoming Trip
DESCRIPTION:Club trip to Cody Wyoming \nAugust 22 – 28\, 2021 (Sun – Sat) \nCoordinator:  Joe Gahlinger\, joe@derbycityflyfishers.com\, 502-472-3975 \nLocation: Camp Buffalo Bill (50 miles west of Cody\, WY) \nTo View trip details: https://derbycityflyfishers.com/cody-wyoming-trip/ \n 
URL:https://derbycityflyfishers.com/event/cody-wyoming-trip/
LOCATION:Camp Buffalo Bill\, 870 North Fork Hwy\, Cody\, WY\, 82414\, United States
CATEGORIES:Fishing Trip
END:VEVENT
BEGIN:VEVENT
DTSTART;TZID=America/Kentucky/Louisville:20210818T183000
DTEND;TZID=America/Kentucky/Louisville:20210818T200000
DTSTAMP:20260421T121915
CREATED:20211102T121728Z
LAST-MODIFIED:20211102T121728Z
UID:10001776-1629311400-1629316800@derbycityflyfishers.com
SUMMARY:DCFF Outdoor Meeting
DESCRIPTION:This months club meeting will be held at Ashland Park located at the Falls of the Ohio Park in Clarksville\, In.Google Maps Location:\nWe’ll have a pulled pork BBQ dinner with sides and non-alcoholic drinks for $5 per person.\nWe’ll also have the Club rods and reels for casting instruction and practice.\nBring a lawn chair and join us for some good food\, camaraderie\, riveting fish stories and even a little casting instruction.
URL:https://derbycityflyfishers.com/event/dcff-outdoor-meeting/
LOCATION:KY
END:VEVENT
BEGIN:VEVENT
DTSTART;TZID=America/Kentucky/Louisville:20210616T183000
DTEND;TZID=America/Kentucky/Louisville:20210616T203000
DTSTAMP:20260421T121915
CREATED:20211102T121733Z
LAST-MODIFIED:20211102T121733Z
UID:10001643-1623868200-1623875400@derbycityflyfishers.com
SUMMARY:General Membership Meeting
DESCRIPTION:This is our second outdoor meeting of the summer season. Southern Hills Lake provides a beautiful setting for some great camaraderie and an opportunity to do a little fishing as well should you so desire. \n  \nFishing is Catch and Release\, no Indiana fishing license required. Southern Hills lake is private property. \n  \nKayaks or other similar small boats are welcome. Don’t forget your PFDs! \n  \nFly rods and reels will be available for those looking for some casting instruction or just an opportunity to practice. \n  \nFood\, soft drinks and water will be provided. Cost for the meal is $5.00. \n  \nBYOB if desired. Please act responsibly! \n  \nDon’t forget to bring a camp chair! \n  \nGoogle Maps Link to Southern Hills Lake
URL:https://derbycityflyfishers.com/event/general-membership-meeting/
LOCATION:KY
END:VEVENT
BEGIN:VEVENT
DTSTART;TZID=America/Kentucky/Louisville:20210519T183000
DTEND;TZID=America/Kentucky/Louisville:20210519T203000
DTSTAMP:20260421T121915
CREATED:20211102T121733Z
LAST-MODIFIED:20211102T121733Z
UID:10001645-1621449000-1621456200@derbycityflyfishers.com
SUMMARY:May General Membership Meeting
DESCRIPTION:Derby City Fly FishersGeneral Membership Meeting\nOtter Creek Outdoor Recreation Area\nGarnettsville Picnic Area\nWednesday May 19th 6:30 t0 8:30 pm. \nGoogle Map Link \nThis is our first outdoor meeting of the summer season. Our first outdoor gathering is traditionally an instructional meeting. This is an opportunity for those new to Fly Fishing\, or those wanting to dip their toes in the water to learn some new skills\, or for others who would like to hone theirs\, an opportunity to get a tip or two. Otter Creek offers an opportunity to get a little time on the water. \nFly rods will be available for instruction\, and food\, soft drinks and water will be provided.\nCost for the meal is $5.00. \nDon’t forget to bring a camp chair\, as seating is limited or non-existent. \nPlease be advised there is a $3.00 entrance fee payable at the gate.
URL:https://derbycityflyfishers.com/event/may-general-membership-meeting/
LOCATION:KY
END:VEVENT
BEGIN:VEVENT
DTSTART;TZID=America/New_York:20200131T170000
DTEND;TZID=America/New_York:20200202T170000
DTSTAMP:20260421T121915
CREATED:20181222T115256Z
LAST-MODIFIED:20200105T154358Z
UID:10001574-1580490000-1580662800@derbycityflyfishers.com
SUMMARY:January 2020 Otter Creek Bunkhouse Trip
DESCRIPTION:January 31 – February 2 (Friday night to Sunday morning) \nJanuary 2020 Otter Creek Bunkhouse Trip
URL:https://derbycityflyfishers.com/event/https-derbycityflyfishers-com-2020-trips-january-2020-otter-creek-bunkhouse-trip/
LOCATION:Otter Creek Outdoor Recreation Area\, Otter Creek Outdoor Recreation Area\, KY\, 40108\, United States
CATEGORIES:Fishing Trip
END:VEVENT
BEGIN:VEVENT
DTSTART;TZID=America/New_York:20200130T140000
DTEND;TZID=America/New_York:20200131T183000
DTSTAMP:20260421T121915
CREATED:20191219T150458Z
LAST-MODIFIED:20191219T150458Z
UID:10001765-1580392800-1580495400@derbycityflyfishers.com
SUMMARY:Fly Tying Seminars at Cincinnati Fly Show
DESCRIPTION:Associated with the 2020 Greater Cincinnati Fly Fishing Show (Saturday\, Feb. 1\, 2020)\, Buckeye United Fly Fishers are offering a total of four 2-hour Fly Tying Workshops on Thursday\, Jan. 30\, and Friday\, Jan. 31.  On Thursday\, Mike Schmidt\, owner of Angler’s Choice Flies\, will be leading two workshops (2 – 4 PM & 4:30 – 6:30 PM)\, tying a mixture of his signature flies and new patterns.  On Friday\, Gary Borger\, the feature presenter for the Fly Show\, will be leading 2 tying workshops (1:30 – 3:30 pm\, and 4 – 6 pm).  Each workshop will have a maximum capacity of 24 tiers and will be held in Room Sandalwood “C” at the Oasis Conference Center (site of the Fly Show). \n  \nThese workshops are open to members of all regional Fly Fishing Clubs.  Details of the workshops as well as on-line registration and payment can be found at: \n http://buckeyeflyfishers.com/expo2020/clinhome.asp
URL:https://derbycityflyfishers.com/event/fly-tying-seminars-at-cincinnati-fly-show/
LOCATION:KY
END:VEVENT
BEGIN:VEVENT
DTSTART;TZID=America/New_York:20200129T183000
DTEND;TZID=America/New_York:20200129T203000
DTSTAMP:20260421T121915
CREATED:20181119T151918Z
LAST-MODIFIED:20200108T122651Z
UID:10001573-1580322600-1580329800@derbycityflyfishers.com
SUMMARY:DCFF - Bowling Outing Jan 2020
DESCRIPTION:Looking for something to do on that infrequent Fifth Wednesday of the Month?  Then join us for an evening of bowling and fellowship.   We have reserved three lanes at Ken Bowl Lanes from 6:30pm to 8:30pm.\nWe’re limited to 12 bowlers\, so sign up soon to reserve your spot.   If you just want to watch\, cheer\, heckle\, eat and drink a little and enjoy some fellowship come on out anyhow!! No Cowbells please!!\nFood and drink available at the Ken Bowl snack bar.  Afterwards\, we’ll head down the street to Rubbies for some apres Bowling nourishment and libations. \nCost: $8.50 to bowl two games\, plus $4 shoes rental —  payable upon arrival.  Free for spectators. \nIf you want to bowl (and who doesn’t?) Click on the following button to reserve your spot.
URL:https://derbycityflyfishers.com/event/dcff-fifth-wednesday-outing/
LOCATION:KY
CATEGORIES:Social Events
END:VEVENT
BEGIN:VEVENT
DTSTART;TZID=America/New_York:20200125T090000
DTEND;TZID=America/New_York:20200125T090000
DTSTAMP:20260421T121915
CREATED:20190101T040659Z
LAST-MODIFIED:20191221T030051Z
UID:10001588-1579942800-1579942800@derbycityflyfishers.com
SUMMARY:Kentuckiana Fly Fishing Show
DESCRIPTION:This is Derby City Fly Fishers’ annual fly show.  We will have  local and regional vendors \, guides and outfitters\, fly casting demonstration and instruction\, fly tying demonstrations from regional clubs\, a kid’s corner\, fly tying contest\, raffles\, and educational seminars. \nSee our Fly Show Flier for more details. \nClick here Instructional Seminars for details on the seminars
URL:https://derbycityflyfishers.com/event/kentuckiana-fly-fishing-show-2/
LOCATION:Paroquet Springs Conference Center\, 395 Paroquet Springs Dr\, Shepherdsville\, KY\, 40165\, United States
CATEGORIES:Fly Show
END:VEVENT
BEGIN:VEVENT
DTSTART;TZID=America/New_York:20200123T183000
DTEND;TZID=America/New_York:20200123T203000
DTSTAMP:20260421T121915
CREATED:20200105T155217Z
LAST-MODIFIED:20200105T155217Z
UID:10001770-1579804200-1579811400@derbycityflyfishers.com
SUMMARY:January Fly Tying (Bass Pro)
DESCRIPTION:Our Fly Tying Classes are open to everyone – you do not have to be a member to attend.  Generally we tie two flies during the class demonstrate by an instructor with accompanying video on a big screen TV so students can see each step. \nTools and materials are provided at no cost\, but if you have your own tools we encourage you to bring them to ensure we have enough club sets to go around.
URL:https://derbycityflyfishers.com/event/january-fly-tying-bass-pro-2/
LOCATION:KY
CATEGORIES:Fly Tying
END:VEVENT
BEGIN:VEVENT
DTSTART;TZID=America/New_York:20200122T183000
DTEND;TZID=America/New_York:20200122T203000
DTSTAMP:20260421T121915
CREATED:20200105T155021Z
LAST-MODIFIED:20200105T155347Z
UID:10001769-1579717800-1579725000@derbycityflyfishers.com
SUMMARY:January Fly Tying (Cabela’s)
DESCRIPTION:Our Fly Tying Classes are open to everyone – you do not have to be a member to attend.  Generally we tie two flies during the class demonstrate by an instructor with accompanying video on a big screen TV so students can see each step. \nTools and materials are provided at no cost\, but if you have your own tools we encourage you to bring them to ensure we have enough club sets to go around.
URL:https://derbycityflyfishers.com/event/january-fly-tying-cabelas-2/
LOCATION:KY
CATEGORIES:Fly Tying
END:VEVENT
BEGIN:VEVENT
DTSTART;TZID=America/New_York:20200115T183000
DTEND;TZID=America/New_York:20200115T203000
DTSTAMP:20260421T121915
CREATED:20200103T225709Z
LAST-MODIFIED:20200103T225709Z
UID:10001768-1579113000-1579120200@derbycityflyfishers.com
SUMMARY:January General Club Meeting
DESCRIPTION:Meetings are open to everyone you do not have to be a member to attend.  Typical format: \n\n10-15 minute “Tackle Time”  presentation on some aspect of Fly Fishing\nBusiness meeting to introduce new members and guests\,  take questions or get updates on fishing from attendees\, announce/dicuss upcoming events/trips\, and conduct any club business required\nPresentation\, 30 – 45 minute presentation on a Fly Fishing Topic\nRaffle\n(Optional) Adjourn to a local eatery to continue informal discussions (i.e.\, fish stories) and socialize
URL:https://derbycityflyfishers.com/event/january-general-club-meeting/
LOCATION:KY
CATEGORIES:Club Meetings
END:VEVENT
BEGIN:VEVENT
DTSTART;TZID=America/New_York:20200109T180000
DTEND;TZID=America/New_York:20200109T193000
DTSTAMP:20260421T121915
CREATED:20190102T005735Z
LAST-MODIFIED:20200103T220336Z
UID:10001747-1578592800-1578598200@derbycityflyfishers.com
SUMMARY:Orvis Fly Tying
DESCRIPTION:Fly Tying at Orvis in the Paddock Shops in Louisville is sponsored and hosted by our partner\, Orvis. We’ve listed the event here because this is an activity our members may wish to join. \nOrvis provides materials and tools\, but if you have tools you probably want to bring them in case Orvis doesn’t have enough to go around.
URL:https://derbycityflyfishers.com/event/orvis-fly-tying-12/
LOCATION:Orvis\, 4288 Summit Plaza Drive\, Louisville\, KY\, 40241\, United States
CATEGORIES:Fly Tying
END:VEVENT
BEGIN:VEVENT
DTSTART;TZID=America/New_York:20200108T183000
DTEND;TZID=America/New_York:20200108T203000
DTSTAMP:20260421T121915
CREATED:20200103T225326Z
LAST-MODIFIED:20200105T155846Z
UID:10001767-1578508200-1578515400@derbycityflyfishers.com
SUMMARY:January Eat &Talk
DESCRIPTION:Join us at Rooster’s in Clarksville\, IN for some fellowship\, to swap “true fish stories” and eat and drink at your pleasure.  This is an informal get together to talk fly fishing (although we have been know to diverge to less important topics like saving the world and beer.) \nRooster’s has graciously reserved their party room for our exclusive use.  Get there when you can\, leave when you want\, have something to eat and/or drink if you want.
URL:https://derbycityflyfishers.com/event/january-eat-talk-2/
LOCATION:Roosters – Clarksville\, 1601 Greentree Blvd\, Clarksville\, IN\, 47129\, United States
CATEGORIES:Social Events
END:VEVENT
BEGIN:VEVENT
DTSTART;TZID=America/New_York:20200108T183000
DTEND;TZID=America/New_York:20200108T203000
DTSTAMP:20260421T121915
CREATED:20200103T225030Z
LAST-MODIFIED:20200103T225030Z
UID:10001766-1578508200-1578515400@derbycityflyfishers.com
SUMMARY:January Board Meeting
DESCRIPTION:Note: Date has been change due to falling on holiday. \nBoard Meeting are open to all interested club members — you do not have to be a Board Member to attend. \nWe meet at the Rooster’s in Clarksville\, IN.
URL:https://derbycityflyfishers.com/event/january-board-meeting-3/
LOCATION:Roosters – Clarksville\, 1601 Greentree Blvd\, Clarksville\, IN\, 47129\, United States
CATEGORIES:Club Meetings
END:VEVENT
BEGIN:VEVENT
DTSTART;TZID=America/New_York:20191218T183000
DTEND;TZID=America/New_York:20191218T203000
DTSTAMP:20260421T121915
CREATED:20181231T164149Z
LAST-MODIFIED:20181231T164149Z
UID:10001723-1576693800-1576701000@derbycityflyfishers.com
SUMMARY:December Club Christmas Party
DESCRIPTION:The December Club Meeting is a DCFF  Christmas Party at Endris Lodge at Lapping Park in Clarksville\, Indiana.  This is a very nice social event and enjoyed by all. \n \nThe club provides non-alcoholic drinks\, plates\, cups\, plasticware and napkins.  Club members bring a dish to share.  Alcoholic beverages are allowed at Endris Lodge\, so BYO if so inclined.  Spouses or significant others are encouraged to attend.
URL:https://derbycityflyfishers.com/event/december-club-christmas-party/
LOCATION:Endris Lodge\, 2404 Greentree Blvd\, Clarksville\, IN\, 47129\, United States
CATEGORIES:Club Meetings
END:VEVENT
END:VCALENDAR