BEGIN:VCALENDAR
VERSION:2.0
PRODID:-//Derby City Fly Fishers - ECPv6.15.20//NONSGML v1.0//EN
CALSCALE:GREGORIAN
METHOD:PUBLISH
X-WR-CALNAME:Derby City Fly Fishers
X-ORIGINAL-URL:https://derbycityflyfishers.com
X-WR-CALDESC:Events for Derby City Fly Fishers
REFRESH-INTERVAL;VALUE=DURATION:PT1H
X-Robots-Tag:noindex
X-PUBLISHED-TTL:PT1H
BEGIN:VTIMEZONE
TZID:America/New_York
BEGIN:DAYLIGHT
TZOFFSETFROM:-0500
TZOFFSETTO:-0400
TZNAME:EDT
DTSTART:20180311T070000
END:DAYLIGHT
BEGIN:STANDARD
TZOFFSETFROM:-0400
TZOFFSETTO:-0500
TZNAME:EST
DTSTART:20181104T060000
END:STANDARD
BEGIN:DAYLIGHT
TZOFFSETFROM:-0500
TZOFFSETTO:-0400
TZNAME:EDT
DTSTART:20190310T070000
END:DAYLIGHT
BEGIN:STANDARD
TZOFFSETFROM:-0400
TZOFFSETTO:-0500
TZNAME:EST
DTSTART:20191103T060000
END:STANDARD
BEGIN:DAYLIGHT
TZOFFSETFROM:-0500
TZOFFSETTO:-0400
TZNAME:EDT
DTSTART:20200308T070000
END:DAYLIGHT
BEGIN:STANDARD
TZOFFSETFROM:-0400
TZOFFSETTO:-0500
TZNAME:EST
DTSTART:20201101T060000
END:STANDARD
BEGIN:DAYLIGHT
TZOFFSETFROM:-0500
TZOFFSETTO:-0400
TZNAME:EDT
DTSTART:20210314T070000
END:DAYLIGHT
BEGIN:STANDARD
TZOFFSETFROM:-0400
TZOFFSETTO:-0500
TZNAME:EST
DTSTART:20211107T060000
END:STANDARD
END:VTIMEZONE
BEGIN:VEVENT
DTSTART;TZID=America/New_York:20200131T170000
DTEND;TZID=America/New_York:20200202T170000
DTSTAMP:20260421T164619
CREATED:20181222T115256Z
LAST-MODIFIED:20200105T154358Z
UID:10001574-1580490000-1580662800@derbycityflyfishers.com
SUMMARY:January 2020 Otter Creek Bunkhouse Trip
DESCRIPTION:January 31 – February 2 (Friday night to Sunday morning) \nJanuary 2020 Otter Creek Bunkhouse Trip
URL:https://derbycityflyfishers.com/event/https-derbycityflyfishers-com-2020-trips-january-2020-otter-creek-bunkhouse-trip/
LOCATION:Otter Creek Outdoor Recreation Area\, Otter Creek Outdoor Recreation Area\, KY\, 40108\, United States
CATEGORIES:Fishing Trip
END:VEVENT
BEGIN:VEVENT
DTSTART;TZID=America/New_York:20200130T140000
DTEND;TZID=America/New_York:20200131T183000
DTSTAMP:20260421T164619
CREATED:20191219T150458Z
LAST-MODIFIED:20191219T150458Z
UID:10001765-1580392800-1580495400@derbycityflyfishers.com
SUMMARY:Fly Tying Seminars at Cincinnati Fly Show
DESCRIPTION:Associated with the 2020 Greater Cincinnati Fly Fishing Show (Saturday\, Feb. 1\, 2020)\, Buckeye United Fly Fishers are offering a total of four 2-hour Fly Tying Workshops on Thursday\, Jan. 30\, and Friday\, Jan. 31.  On Thursday\, Mike Schmidt\, owner of Angler’s Choice Flies\, will be leading two workshops (2 – 4 PM & 4:30 – 6:30 PM)\, tying a mixture of his signature flies and new patterns.  On Friday\, Gary Borger\, the feature presenter for the Fly Show\, will be leading 2 tying workshops (1:30 – 3:30 pm\, and 4 – 6 pm).  Each workshop will have a maximum capacity of 24 tiers and will be held in Room Sandalwood “C” at the Oasis Conference Center (site of the Fly Show). \n  \nThese workshops are open to members of all regional Fly Fishing Clubs.  Details of the workshops as well as on-line registration and payment can be found at: \n http://buckeyeflyfishers.com/expo2020/clinhome.asp
URL:https://derbycityflyfishers.com/event/fly-tying-seminars-at-cincinnati-fly-show/
LOCATION:KY
END:VEVENT
BEGIN:VEVENT
DTSTART;TZID=America/New_York:20200129T183000
DTEND;TZID=America/New_York:20200129T203000
DTSTAMP:20260421T164619
CREATED:20181119T151918Z
LAST-MODIFIED:20200108T122651Z
UID:10001573-1580322600-1580329800@derbycityflyfishers.com
SUMMARY:DCFF - Bowling Outing Jan 2020
DESCRIPTION:Looking for something to do on that infrequent Fifth Wednesday of the Month?  Then join us for an evening of bowling and fellowship.   We have reserved three lanes at Ken Bowl Lanes from 6:30pm to 8:30pm.\nWe’re limited to 12 bowlers\, so sign up soon to reserve your spot.   If you just want to watch\, cheer\, heckle\, eat and drink a little and enjoy some fellowship come on out anyhow!! No Cowbells please!!\nFood and drink available at the Ken Bowl snack bar.  Afterwards\, we’ll head down the street to Rubbies for some apres Bowling nourishment and libations. \nCost: $8.50 to bowl two games\, plus $4 shoes rental —  payable upon arrival.  Free for spectators. \nIf you want to bowl (and who doesn’t?) Click on the following button to reserve your spot.
URL:https://derbycityflyfishers.com/event/dcff-fifth-wednesday-outing/
LOCATION:KY
CATEGORIES:Social Events
END:VEVENT
BEGIN:VEVENT
DTSTART;TZID=America/New_York:20200125T090000
DTEND;TZID=America/New_York:20200125T090000
DTSTAMP:20260421T164619
CREATED:20190101T040659Z
LAST-MODIFIED:20191221T030051Z
UID:10001588-1579942800-1579942800@derbycityflyfishers.com
SUMMARY:Kentuckiana Fly Fishing Show
DESCRIPTION:This is Derby City Fly Fishers’ annual fly show.  We will have  local and regional vendors \, guides and outfitters\, fly casting demonstration and instruction\, fly tying demonstrations from regional clubs\, a kid’s corner\, fly tying contest\, raffles\, and educational seminars. \nSee our Fly Show Flier for more details. \nClick here Instructional Seminars for details on the seminars
URL:https://derbycityflyfishers.com/event/kentuckiana-fly-fishing-show-2/
LOCATION:Paroquet Springs Conference Center\, 395 Paroquet Springs Dr\, Shepherdsville\, KY\, 40165\, United States
CATEGORIES:Fly Show
END:VEVENT
BEGIN:VEVENT
DTSTART;TZID=America/New_York:20200123T183000
DTEND;TZID=America/New_York:20200123T203000
DTSTAMP:20260421T164619
CREATED:20200105T155217Z
LAST-MODIFIED:20200105T155217Z
UID:10001770-1579804200-1579811400@derbycityflyfishers.com
SUMMARY:January Fly Tying (Bass Pro)
DESCRIPTION:Our Fly Tying Classes are open to everyone – you do not have to be a member to attend.  Generally we tie two flies during the class demonstrate by an instructor with accompanying video on a big screen TV so students can see each step. \nTools and materials are provided at no cost\, but if you have your own tools we encourage you to bring them to ensure we have enough club sets to go around.
URL:https://derbycityflyfishers.com/event/january-fly-tying-bass-pro-2/
LOCATION:KY
CATEGORIES:Fly Tying
END:VEVENT
BEGIN:VEVENT
DTSTART;TZID=America/New_York:20200122T183000
DTEND;TZID=America/New_York:20200122T203000
DTSTAMP:20260421T164619
CREATED:20200105T155021Z
LAST-MODIFIED:20200105T155347Z
UID:10001769-1579717800-1579725000@derbycityflyfishers.com
SUMMARY:January Fly Tying (Cabela’s)
DESCRIPTION:Our Fly Tying Classes are open to everyone – you do not have to be a member to attend.  Generally we tie two flies during the class demonstrate by an instructor with accompanying video on a big screen TV so students can see each step. \nTools and materials are provided at no cost\, but if you have your own tools we encourage you to bring them to ensure we have enough club sets to go around.
URL:https://derbycityflyfishers.com/event/january-fly-tying-cabelas-2/
LOCATION:KY
CATEGORIES:Fly Tying
END:VEVENT
BEGIN:VEVENT
DTSTART;TZID=America/New_York:20200115T183000
DTEND;TZID=America/New_York:20200115T203000
DTSTAMP:20260421T164619
CREATED:20200103T225709Z
LAST-MODIFIED:20200103T225709Z
UID:10001768-1579113000-1579120200@derbycityflyfishers.com
SUMMARY:January General Club Meeting
DESCRIPTION:Meetings are open to everyone you do not have to be a member to attend.  Typical format: \n\n10-15 minute “Tackle Time”  presentation on some aspect of Fly Fishing\nBusiness meeting to introduce new members and guests\,  take questions or get updates on fishing from attendees\, announce/dicuss upcoming events/trips\, and conduct any club business required\nPresentation\, 30 – 45 minute presentation on a Fly Fishing Topic\nRaffle\n(Optional) Adjourn to a local eatery to continue informal discussions (i.e.\, fish stories) and socialize
URL:https://derbycityflyfishers.com/event/january-general-club-meeting/
LOCATION:KY
CATEGORIES:Club Meetings
END:VEVENT
BEGIN:VEVENT
DTSTART;TZID=America/New_York:20200109T180000
DTEND;TZID=America/New_York:20200109T193000
DTSTAMP:20260421T164619
CREATED:20190102T005735Z
LAST-MODIFIED:20200103T220336Z
UID:10001747-1578592800-1578598200@derbycityflyfishers.com
SUMMARY:Orvis Fly Tying
DESCRIPTION:Fly Tying at Orvis in the Paddock Shops in Louisville is sponsored and hosted by our partner\, Orvis. We’ve listed the event here because this is an activity our members may wish to join. \nOrvis provides materials and tools\, but if you have tools you probably want to bring them in case Orvis doesn’t have enough to go around.
URL:https://derbycityflyfishers.com/event/orvis-fly-tying-12/
LOCATION:Orvis\, 4288 Summit Plaza Drive\, Louisville\, KY\, 40241\, United States
CATEGORIES:Fly Tying
END:VEVENT
BEGIN:VEVENT
DTSTART;TZID=America/New_York:20200108T183000
DTEND;TZID=America/New_York:20200108T203000
DTSTAMP:20260421T164619
CREATED:20200103T225326Z
LAST-MODIFIED:20200105T155846Z
UID:10001767-1578508200-1578515400@derbycityflyfishers.com
SUMMARY:January Eat &Talk
DESCRIPTION:Join us at Rooster’s in Clarksville\, IN for some fellowship\, to swap “true fish stories” and eat and drink at your pleasure.  This is an informal get together to talk fly fishing (although we have been know to diverge to less important topics like saving the world and beer.) \nRooster’s has graciously reserved their party room for our exclusive use.  Get there when you can\, leave when you want\, have something to eat and/or drink if you want.
URL:https://derbycityflyfishers.com/event/january-eat-talk-2/
LOCATION:Roosters – Clarksville\, 1601 Greentree Blvd\, Clarksville\, IN\, 47129\, United States
CATEGORIES:Social Events
END:VEVENT
BEGIN:VEVENT
DTSTART;TZID=America/New_York:20200108T183000
DTEND;TZID=America/New_York:20200108T203000
DTSTAMP:20260421T164619
CREATED:20200103T225030Z
LAST-MODIFIED:20200103T225030Z
UID:10001766-1578508200-1578515400@derbycityflyfishers.com
SUMMARY:January Board Meeting
DESCRIPTION:Note: Date has been change due to falling on holiday. \nBoard Meeting are open to all interested club members — you do not have to be a Board Member to attend. \nWe meet at the Rooster’s in Clarksville\, IN.
URL:https://derbycityflyfishers.com/event/january-board-meeting-3/
LOCATION:Roosters – Clarksville\, 1601 Greentree Blvd\, Clarksville\, IN\, 47129\, United States
CATEGORIES:Club Meetings
END:VEVENT
BEGIN:VEVENT
DTSTART;TZID=America/New_York:20191218T183000
DTEND;TZID=America/New_York:20191218T203000
DTSTAMP:20260421T164619
CREATED:20181231T164149Z
LAST-MODIFIED:20181231T164149Z
UID:10001723-1576693800-1576701000@derbycityflyfishers.com
SUMMARY:December Club Christmas Party
DESCRIPTION:The December Club Meeting is a DCFF  Christmas Party at Endris Lodge at Lapping Park in Clarksville\, Indiana.  This is a very nice social event and enjoyed by all. \n \nThe club provides non-alcoholic drinks\, plates\, cups\, plasticware and napkins.  Club members bring a dish to share.  Alcoholic beverages are allowed at Endris Lodge\, so BYO if so inclined.  Spouses or significant others are encouraged to attend.
URL:https://derbycityflyfishers.com/event/december-club-christmas-party/
LOCATION:Endris Lodge\, 2404 Greentree Blvd\, Clarksville\, IN\, 47129\, United States
CATEGORIES:Club Meetings
END:VEVENT
BEGIN:VEVENT
DTSTART;TZID=America/New_York:20191211T183000
DTEND;TZID=America/New_York:20191211T203000
DTSTAMP:20260421T164619
CREATED:20190107T200247Z
LAST-MODIFIED:20190729T023649Z
UID:10001759-1576089000-1576096200@derbycityflyfishers.com
SUMMARY:December Eat & Talk
DESCRIPTION:Join us at Rooster’s in Clarksville\, IN for some fellowship\, to swap “true fish stories” and eat and drink at your pleasure.  This is an informal get together to talk fly fishing (although we have been know to diverge to less important topics like saving the world and beer.) \nRooster’s has graciously reserved their party room for our exclusive use.  Get there when you can\, leave when you want\, have something to eat and/or drink if you want.
URL:https://derbycityflyfishers.com/event/december-eat-talk/
LOCATION:Roosters – Clarksville\, 1601 Greentree Blvd\, Clarksville\, IN\, 47129\, United States
CATEGORIES:Social Events
END:VEVENT
BEGIN:VEVENT
DTSTART;TZID=America/New_York:20191204T183000
DTEND;TZID=America/New_York:20191204T203000
DTSTAMP:20260421T164619
CREATED:20181230T035445Z
LAST-MODIFIED:20181230T035445Z
UID:10001577-1575484200-1575491400@derbycityflyfishers.com
SUMMARY:December Board Meeting
DESCRIPTION:Board Meeting are open to all interested club members — you do not have to be a Board Member to attend. \nWe meet at the Rooster’s in Clarksville\, IN.
URL:https://derbycityflyfishers.com/event/december-board-meeting/
LOCATION:Roosters – Clarksville\, 1601 Greentree Blvd\, Clarksville\, IN\, 47129\, United States
CATEGORIES:Club Meetings
END:VEVENT
BEGIN:VEVENT
DTSTART;TZID=America/New_York:20191203T180000
DTEND;TZID=America/New_York:20191203T200000
DTSTAMP:20260421T164619
CREATED:20190101T204903Z
LAST-MODIFIED:20190101T204903Z
UID:10001605-1575396000-1575403200@derbycityflyfishers.com
SUMMARY:Quest Fly Tying
DESCRIPTION:This is not a DCFF activity\, but we thought our members might be interested in Fly Tying with our good friends at Quest Outdoors.  Fly tying at Quest will be the first Tuesday every month as well at the third Tuesday in January\, February\, and March. \nThere is tying equipment available at Quest\, but if you have your own\, it might be best to bring it along.  Quest will provide materials for the flies
URL:https://derbycityflyfishers.com/event/quest-fly-tying-14/
LOCATION:Quest Outdoors\, 4600 Shelbyville Road\, Louisville\, KY\, 40207\, United States
CATEGORIES:Fly Tying
END:VEVENT
BEGIN:VEVENT
DTSTART;TZID=America/New_York:20191120T183000
DTEND;TZID=America/New_York:20191120T203000
DTSTAMP:20260421T164619
CREATED:20181231T163940Z
LAST-MODIFIED:20181231T163940Z
UID:10001722-1574274600-1574281800@derbycityflyfishers.com
SUMMARY:November Club Meeting
DESCRIPTION:Meetings are open to everyone you do not have to be a member to attend.  Typical format: \n\n10-15 minute “Tackle Time”  presentation on some aspect of Fly Fishing\nBusiness meeting to introduce new members and guests\,  take questions or get updates on fishing from attendees\, announce/dicuss upcoming events/trips\, and conduct any club business required\nPresentation\, 30 – 45 minute presentation on a Fly Fishing Topic\nRaffle\n(Optional) Adjourn to a local eatery to continue informal discussions (i.e.\, fish stories) and socialize
URL:https://derbycityflyfishers.com/event/november-club-meeting/
LOCATION:KY
CATEGORIES:Club Meetings
END:VEVENT
BEGIN:VEVENT
DTSTART;TZID=America/New_York:20191114T180000
DTEND;TZID=America/New_York:20191114T193000
DTSTAMP:20260421T164619
CREATED:20190102T005631Z
LAST-MODIFIED:20190102T005631Z
UID:10001746-1573754400-1573759800@derbycityflyfishers.com
SUMMARY:Orvis Fly Tying
DESCRIPTION:Fly Tying at Orvis in the Paddock Shops in Louisville is sponsored and hosted by our partner\, Orvis. We’ve listed the event here because this is an activity our members may wish to join. \nOrvis provides materials and tools\, but if you have tools you probably want to bring them in case Orvis doesn’t have enough to go around.
URL:https://derbycityflyfishers.com/event/orvis-fly-tying-11/
LOCATION:Orvis\, 4288 Summit Plaza Drive\, Louisville\, KY\, 40241\, United States
CATEGORIES:Fly Tying
END:VEVENT
BEGIN:VEVENT
DTSTART;TZID=America/New_York:20191113T183000
DTEND;TZID=America/New_York:20191113T203000
DTSTAMP:20260421T164619
CREATED:20190107T200122Z
LAST-MODIFIED:20190729T023718Z
UID:10001758-1573669800-1573677000@derbycityflyfishers.com
SUMMARY:November Eat & Talk
DESCRIPTION:Join us at Rooster’s in Clarksville\, IN for some fellowship\, to swap “true fish stories” and eat and drink at your pleasure.  This is an informal get together to talk fly fishing (although we have been know to diverge to less important topics like saving the world and beer.) \nRooster’s has graciously reserved their party room for our exclusive use.  Get there when you can\, leave when you want\, have something to eat and/or drink if you want.
URL:https://derbycityflyfishers.com/event/november-eat-talk/
LOCATION:Roosters – Clarksville\, 1601 Greentree Blvd\, Clarksville\, IN\, 47129\, United States
CATEGORIES:Social Events
END:VEVENT
BEGIN:VEVENT
DTSTART;TZID=America/New_York:20191106T183000
DTEND;TZID=America/New_York:20191106T203000
DTSTAMP:20260421T164619
CREATED:20181230T035345Z
LAST-MODIFIED:20181230T035345Z
UID:10001576-1573065000-1573072200@derbycityflyfishers.com
SUMMARY:November Board Meeting
DESCRIPTION:Board Meeting are open to all interested club members — you do not have to be a Board Member to attend. \nWe meet at the Rooster’s in Clarksville\, IN.
URL:https://derbycityflyfishers.com/event/november-board-meeting/
LOCATION:Roosters – Clarksville\, 1601 Greentree Blvd\, Clarksville\, IN\, 47129\, United States
CATEGORIES:Club Meetings
END:VEVENT
BEGIN:VEVENT
DTSTART;TZID=America/New_York:20191105T180000
DTEND;TZID=America/New_York:20191105T200000
DTSTAMP:20260421T164619
CREATED:20190101T204813Z
LAST-MODIFIED:20190101T204813Z
UID:10001604-1572976800-1572984000@derbycityflyfishers.com
SUMMARY:Quest Fly Tying
DESCRIPTION:This is not a DCFF activity\, but we thought our members might be interested in Fly Tying with our good friends at Quest Outdoors.  Fly tying at Quest will be the first Tuesday every month as well at the third Tuesday in January\, February\, and March. \nThere is tying equipment available at Quest\, but if you have your own\, it might be best to bring it along.  Quest will provide materials for the flies
URL:https://derbycityflyfishers.com/event/quest-fly-tying-13/
LOCATION:Quest Outdoors\, 4600 Shelbyville Road\, Louisville\, KY\, 40207\, United States
CATEGORIES:Fly Tying
END:VEVENT
BEGIN:VEVENT
DTSTART;TZID=America/New_York:20191030T160000
DTEND;TZID=America/New_York:20191030T210000
DTSTAMP:20260421T164619
CREATED:20190901T193249Z
LAST-MODIFIED:20191018T111821Z
UID:10001764-1572451200-1572469200@derbycityflyfishers.com
SUMMARY:Fifth Wednesday DCFF Golf Scramble
DESCRIPTION:Fifth Wednesday DCFF Golf Scramble from 4:00 pm to ??  At a loss for what to do with the extra Wednesday in October?  Come on out at enjoy a 9-hole scramble with your DCFF club mates at Wooded View GC in Lapping Park\, Clarksville\, IN (Google Maps Link) Plan to arrive by 3:45pm and to start play at 4:00pm.  Golfing prowess is NOT required\, just the desire to have a good time.  Cost is $20 (cash only) at the course.  We’ll draw for foursomes\, play at golf for 9 holes\, then retire to a local establishment for some apres-golf food and beverages.  Please sign up using the button below so Brian will know how many golf carts to reserve.
URL:https://derbycityflyfishers.com/event/fifth-wednesday-dcff-golf-scramble/
LOCATION:Wooded View Golf Course\, 2404 Greentree N\, Clarksville\, IN\, 47129\, United States
END:VEVENT
BEGIN:VEVENT
DTSTART;TZID=America/New_York:20191026T090000
DTEND;TZID=America/New_York:20191026T130000
DTSTAMP:20260421T164619
CREATED:20190208T154606Z
LAST-MODIFIED:20190208T160846Z
UID:10001760-1572080400-1572094800@derbycityflyfishers.com
SUMMARY:Fall Otter Creek Instructional Outing
DESCRIPTION:New to fly fishing and want some “ALMOST FREE” one-on-one instruction?  Been fly fishing for some time but want to up your game?  This instructional outing is just for you.  You do not need to be a club member to participate\, so bring a friend!  You will be charged the normal Otter Creek Entry fee of $3 at the gate. \nWe customize the instruction to fit your needs\, you just tell us what you want!  We can give beginner casting instruction with the club fly rods.  We can talk about knots\, gear\, and flies.  We can show you how to fly fish on the water (bring your waders for best results)\, both with and without an indicator.  We can show you more advanced casting techniques including: \n\ndouble hauling\nroll casting\nsingle handed spey\ntwo handed spey\n\nRegistration is not required. If you want to fish you will need a valid Kentucky fishing license but not a trout stamp.  We will be serving a simple lunch at 1pm (Hotdogs\, chips and drinks). \nIf you have any questions regarding regarding the outing itself\, contact the co-ordinator Wes Krupiczewicz at 502-938-2662 or wes@derbycityflyfishers.com
URL:https://derbycityflyfishers.com/event/fall-otter-creek-instructional-outing-2/
LOCATION:Otter Creek Outdoor Recreation Area\, Otter Creek Outdoor Recreation Area\, KY\, 40108\, United States
CATEGORIES:Education
END:VEVENT
BEGIN:VEVENT
DTSTART;TZID=America/New_York:20191024T183000
DTEND;TZID=America/New_York:20191024T203000
DTSTAMP:20260421T164619
CREATED:20190101T203550Z
LAST-MODIFIED:20190101T203550Z
UID:10001734-1571941800-1571949000@derbycityflyfishers.com
SUMMARY:October Fly Tying (Bass Pro)
DESCRIPTION:Our Fly Tying Classes are open to everyone – you do not have to be a member to attend.  Generally we tie two flies during the class demonstrate by an instructor with accompanying video on a big screen TV so students can see each step. \nTools and materials are provided at no cost\, but if you have your own tools we encourage you to bring them to ensure we have enough club sets to go around.
URL:https://derbycityflyfishers.com/event/october-fly-tying-bass-pro-2/
LOCATION:KY
CATEGORIES:Fly Tying
END:VEVENT
BEGIN:VEVENT
DTSTART;TZID=America/New_York:20191023T183000
DTEND;TZID=America/New_York:20191023T203000
DTSTAMP:20260421T164619
CREATED:20190101T041952Z
LAST-MODIFIED:20190101T041952Z
UID:10001595-1571855400-1571862600@derbycityflyfishers.com
SUMMARY:October Fly Tying (Cabela's)
DESCRIPTION:Our Fly Tying Classes are open to everyone – you do not have to be a member to attend.  Generally we tie two flies during the class demonstrate by an instructor with accompanying video on a big screen TV so students can see each step. \nTools and materials are provided at no cost\, but if you have your own tools we encourage you to bring them to ensure we have enough club sets to go around.
URL:https://derbycityflyfishers.com/event/october-fly-tying-cabelas-2/
LOCATION:KY
CATEGORIES:Fly Tying
END:VEVENT
BEGIN:VEVENT
DTSTART;TZID=America/New_York:20191016T183000
DTEND;TZID=America/New_York:20191016T203000
DTSTAMP:20260421T164619
CREATED:20181231T163825Z
LAST-MODIFIED:20181231T163825Z
UID:10001721-1571250600-1571257800@derbycityflyfishers.com
SUMMARY:October Club Meeting
DESCRIPTION:Meetings are open to everyone you do not have to be a member to attend.  Typical format: \n\n10-15 minute “Tackle Time”  presentation on some aspect of Fly Fishing\nBusiness meeting to introduce new members and guests\,  take questions or get updates on fishing from attendees\, announce/dicuss upcoming events/trips\, and conduct any club business required\nPresentation\, 30 – 45 minute presentation on a Fly Fishing Topic\nRaffle\n(Optional) Adjourn to a local eatery to continue informal discussions (i.e.\, fish stories) and socialize
URL:https://derbycityflyfishers.com/event/october-club-meeting-2/
LOCATION:KY
CATEGORIES:Club Meetings
END:VEVENT
BEGIN:VEVENT
DTSTART;TZID=America/New_York:20191010T180000
DTEND;TZID=America/New_York:20191010T193000
DTSTAMP:20260421T164619
CREATED:20190102T005536Z
LAST-MODIFIED:20190102T005536Z
UID:10001745-1570730400-1570735800@derbycityflyfishers.com
SUMMARY:Orvis Fly Tying
DESCRIPTION:Fly Tying at Orvis in the Paddock Shops in Louisville is sponsored and hosted by our partner\, Orvis. We’ve listed the event here because this is an activity our members may wish to join. \nOrvis provides materials and tools\, but if you have tools you probably want to bring them in case Orvis doesn’t have enough to go around.
URL:https://derbycityflyfishers.com/event/orvis-fly-tying-10/
LOCATION:Orvis\, 4288 Summit Plaza Drive\, Louisville\, KY\, 40241\, United States
CATEGORIES:Fly Tying
END:VEVENT
BEGIN:VEVENT
DTSTART;TZID=America/New_York:20191009T183000
DTEND;TZID=America/New_York:20191009T203000
DTSTAMP:20260421T164619
CREATED:20190107T200024Z
LAST-MODIFIED:20190729T023750Z
UID:10001757-1570645800-1570653000@derbycityflyfishers.com
SUMMARY:October Eat & Talk
DESCRIPTION:Join us at Rooster’s in Clarksville\, IN for some fellowship\, to swap “true fish stories” and eat and drink at your pleasure.  This is an informal get together to talk fly fishing (although we have been know to diverge to less important topics like saving the world and beer.) \nRooster’s has graciously reserved their party room for our exclusive use.  Get there when you can\, leave when you want\, have something to eat and/or drink if you want.
URL:https://derbycityflyfishers.com/event/october-eat-talk/
LOCATION:Roosters – Clarksville\, 1601 Greentree Blvd\, Clarksville\, IN\, 47129\, United States
CATEGORIES:Social Events
END:VEVENT
BEGIN:VEVENT
DTSTART;TZID=America/New_York:20191002T183000
DTEND;TZID=America/New_York:20191002T203000
DTSTAMP:20260421T164619
CREATED:20181230T035242Z
LAST-MODIFIED:20181230T035242Z
UID:10001715-1570041000-1570048200@derbycityflyfishers.com
SUMMARY:October Board Meeting
DESCRIPTION:Board Meeting are open to all interested club members — you do not have to be a Board Member to attend. \nWe meet at the Rooster’s in Clarksville\, IN.
URL:https://derbycityflyfishers.com/event/october-board-meeting-2/
LOCATION:Roosters – Clarksville\, 1601 Greentree Blvd\, Clarksville\, IN\, 47129\, United States
CATEGORIES:Club Meetings
END:VEVENT
BEGIN:VEVENT
DTSTART;TZID=America/New_York:20191001T180000
DTEND;TZID=America/New_York:20191001T200000
DTSTAMP:20260421T164619
CREATED:20190101T204720Z
LAST-MODIFIED:20190101T204720Z
UID:10001603-1569952800-1569960000@derbycityflyfishers.com
SUMMARY:Quest Fly Tying
DESCRIPTION:This is not a DCFF activity\, but we thought our members might be interested in Fly Tying with our good friends at Quest Outdoors.  Fly tying at Quest will be the first Tuesday every month as well at the third Tuesday in January\, February\, and March. \nThere is tying equipment available at Quest\, but if you have your own\, it might be best to bring it along.  Quest will provide materials for the flies
URL:https://derbycityflyfishers.com/event/quest-fly-tying-12/
LOCATION:Quest Outdoors\, 4600 Shelbyville Road\, Louisville\, KY\, 40207\, United States
CATEGORIES:Fly Tying
END:VEVENT
BEGIN:VEVENT
DTSTART;TZID=America/New_York:20190926T183000
DTEND;TZID=America/New_York:20190926T203000
DTSTAMP:20260421T164619
CREATED:20190101T203440Z
LAST-MODIFIED:20190908T110042Z
UID:10001733-1569522600-1569529800@derbycityflyfishers.com
SUMMARY:September Fly Tying (Bass Pro) -- CANCELLED
DESCRIPTION:SEPTEMBER’S FLY TYING AT BASS PRO IS CANCELLED AT BASS PRO’s REQUEST \nOur Fly Tying Classes are open to everyone – you do not have to be a member to attend.  Generally we tie two flies during the class demonstrate by an instructor with accompanying video on a big screen TV so students can see each step. \nTools and materials are provided at no cost\, but if you have your own tools we encourage you to bring them to ensure we have enough club sets to go around.
URL:https://derbycityflyfishers.com/event/september-fly-tying-bass-pro-2/
LOCATION:KY
CATEGORIES:Fly Tying
END:VEVENT
BEGIN:VEVENT
DTSTART;TZID=America/New_York:20190925T183000
DTEND;TZID=America/New_York:20190925T203000
DTSTAMP:20260421T164619
CREATED:20190101T041833Z
LAST-MODIFIED:20190908T105918Z
UID:10001594-1569436200-1569443400@derbycityflyfishers.com
SUMMARY:September Fly Tying (Cabela's) -- CANCELLED
DESCRIPTION:SEPTEMBER’S FLY TYING AT CABELA’S IS CANCELLED AT CABELA’S REQUEST. \nOur Fly Tying Classes are open to everyone – you do not have to be a member to attend.  Generally we tie two flies during the class demonstrate by an instructor with accompanying video on a big screen TV so students can see each step. \nTools and materials are provided at no cost\, but if you have your own tools we encourage you to bring them to ensure we have enough club sets to go around.
URL:https://derbycityflyfishers.com/event/september-fly-tying-cabelas-2/
LOCATION:KY
CATEGORIES:Fly Tying
END:VEVENT
END:VCALENDAR