BEGIN:VCALENDAR
VERSION:2.0
PRODID:-//Derby City Fly Fishers - ECPv6.15.20//NONSGML v1.0//EN
CALSCALE:GREGORIAN
METHOD:PUBLISH
X-WR-CALNAME:Derby City Fly Fishers
X-ORIGINAL-URL:https://derbycityflyfishers.com
X-WR-CALDESC:Events for Derby City Fly Fishers
REFRESH-INTERVAL;VALUE=DURATION:PT1H
X-Robots-Tag:noindex
X-PUBLISHED-TTL:PT1H
BEGIN:VTIMEZONE
TZID:America/New_York
BEGIN:DAYLIGHT
TZOFFSETFROM:-0500
TZOFFSETTO:-0400
TZNAME:EDT
DTSTART:20170312T070000
END:DAYLIGHT
BEGIN:STANDARD
TZOFFSETFROM:-0400
TZOFFSETTO:-0500
TZNAME:EST
DTSTART:20171105T060000
END:STANDARD
BEGIN:DAYLIGHT
TZOFFSETFROM:-0500
TZOFFSETTO:-0400
TZNAME:EDT
DTSTART:20180311T070000
END:DAYLIGHT
BEGIN:STANDARD
TZOFFSETFROM:-0400
TZOFFSETTO:-0500
TZNAME:EST
DTSTART:20181104T060000
END:STANDARD
BEGIN:DAYLIGHT
TZOFFSETFROM:-0500
TZOFFSETTO:-0400
TZNAME:EDT
DTSTART:20190310T070000
END:DAYLIGHT
BEGIN:STANDARD
TZOFFSETFROM:-0400
TZOFFSETTO:-0500
TZNAME:EST
DTSTART:20191103T060000
END:STANDARD
BEGIN:DAYLIGHT
TZOFFSETFROM:-0500
TZOFFSETTO:-0400
TZNAME:EDT
DTSTART:20200308T070000
END:DAYLIGHT
BEGIN:STANDARD
TZOFFSETFROM:-0400
TZOFFSETTO:-0500
TZNAME:EST
DTSTART:20201101T060000
END:STANDARD
END:VTIMEZONE
BEGIN:VEVENT
DTSTART;TZID=America/New_York:20190411T180000
DTEND;TZID=America/New_York:20190411T193000
DTSTAMP:20260421T182120
CREATED:20190102T004831Z
LAST-MODIFIED:20190102T004831Z
UID:10001739-1555005600-1555011000@derbycityflyfishers.com
SUMMARY:Orvis Fly Tying
DESCRIPTION:Fly Tying at Orvis in the Paddock Shops in Louisville is sponsored and hosted by our partner\, Orvis. We’ve listed the event here because this is an activity our members may wish to join. \nOrvis provides materials and tools\, but if you have tools you probably want to bring them in case Orvis doesn’t have enough to go around.
URL:https://derbycityflyfishers.com/event/orvis-fly-tying-4/
LOCATION:Orvis\, 4288 Summit Plaza Drive\, Louisville\, KY\, 40241\, United States
CATEGORIES:Fly Tying
END:VEVENT
BEGIN:VEVENT
DTSTART;TZID=America/New_York:20190410T183000
DTEND;TZID=America/New_York:20190410T203000
DTSTAMP:20260421T182120
CREATED:20190107T194650Z
LAST-MODIFIED:20190303T204226Z
UID:10001751-1554921000-1554928200@derbycityflyfishers.com
SUMMARY:April Eat & Talk
DESCRIPTION:Join us at Sullivan’s Tap House for some fellowship\, to swap “true fish stories” and eat and drink at your pleasure.  This is an informal get together to talk fly fishing (although we have been know to diverge to less important topics like saving the world and beer.) \nWe’ll be in the general restuarant area.  Get there when you can\, leave when you want\, have something to eat and/or drink if you want.
URL:https://derbycityflyfishers.com/event/april-eat-talk/
LOCATION:KY
CATEGORIES:Social Events
END:VEVENT
BEGIN:VEVENT
DTSTART;TZID=America/New_York:20190403T183000
DTEND;TZID=America/New_York:20190403T203000
DTSTAMP:20260421T182120
CREATED:20181230T034144Z
LAST-MODIFIED:20181230T034354Z
UID:10001710-1554316200-1554323400@derbycityflyfishers.com
SUMMARY:April Board Meeting
DESCRIPTION:Board Meeting are open to all interested club members — you do not have to be a Board Member to attend. \nWe meet at the Rooster’s in Clarksville\, IN.
URL:https://derbycityflyfishers.com/event/april-board-meeting-2/
LOCATION:Roosters – Clarksville\, 1601 Greentree Blvd\, Clarksville\, IN\, 47129\, United States
CATEGORIES:Club Meetings
END:VEVENT
BEGIN:VEVENT
DTSTART;TZID=America/New_York:20190402T180000
DTEND;TZID=America/New_York:20190402T200000
DTSTAMP:20260421T182120
CREATED:20190101T204035Z
LAST-MODIFIED:20190101T204035Z
UID:10001597-1554228000-1554235200@derbycityflyfishers.com
SUMMARY:Quest Fly Tying
DESCRIPTION:This is not a DCFF activity\, but we thought our members might be interested in Fly Tying with our good friends at Quest Outdoors.  Fly tying at Quest will be the first Tuesday every month as well at the third Tuesday in January\, February\, and March. \nThere is tying equipment available at Quest\, but if you have your own\, it might be best to bring it along.  Quest will provide materials for the flies
URL:https://derbycityflyfishers.com/event/quest-fly-tying-6/
LOCATION:Quest Outdoors\, 4600 Shelbyville Road\, Louisville\, KY\, 40207\, United States
CATEGORIES:Fly Tying
END:VEVENT
BEGIN:VEVENT
DTSTART;TZID=America/New_York:20190328T183000
DTEND;TZID=America/New_York:20190328T203000
DTSTAMP:20260421T182120
CREATED:20190101T202758Z
LAST-MODIFIED:20190101T202758Z
UID:10001727-1553797800-1553805000@derbycityflyfishers.com
SUMMARY:March Fly Tying (Bass Pro)
DESCRIPTION:Our Fly Tying Classes are open to everyone – you do not have to be a member to attend.  Generally we tie two flies during the class demonstrate by an instructor with accompanying video on a big screen TV so students can see each step. \nTools and materials are provided at no cost\, but if you have your own tools we encourage you to bring them to ensure we have enough club sets to go around.
URL:https://derbycityflyfishers.com/event/march-fly-tying-bass-pro-2/
LOCATION:KY
CATEGORIES:Fly Tying
END:VEVENT
BEGIN:VEVENT
DTSTART;TZID=America/New_York:20190327T183000
DTEND;TZID=America/New_York:20190327T203000
DTSTAMP:20260421T182120
CREATED:20181231T213336Z
LAST-MODIFIED:20181231T213336Z
UID:10001587-1553711400-1553718600@derbycityflyfishers.com
SUMMARY:March Fly Tying (Cabela's)
DESCRIPTION:Our Fly Tying Classes are open to everyone – you do not have to be a member to attend.  Generally we tie two flies during the class demonstrate by an instructor with accompanying video on a big screen TV so students can see each step. \nTools and materials are provided at no cost\, but if you have your own tools we encourage you to bring them to ensure we have enough club sets to go around.
URL:https://derbycityflyfishers.com/event/march-fly-tying-cabelas-2/
LOCATION:KY
CATEGORIES:Fly Tying
END:VEVENT
BEGIN:VEVENT
DTSTART;TZID=America/New_York:20190320T183000
DTEND;TZID=America/New_York:20190320T203000
DTSTAMP:20260421T182120
CREATED:20181231T162113Z
LAST-MODIFIED:20190218T155505Z
UID:10001584-1553106600-1553113800@derbycityflyfishers.com
SUMMARY:March Club Meeting - Pyramid Lake Cutthroats
DESCRIPTION:Meetings are open to everyone you do not have to be a member to attend.  Typical format: \n\n10-15 minute “Tackle Time”  presentation on some aspect of Fly Fishing\nBusiness meeting to introduce new members and guests\,  take questions or get updates on fishing from attendees\, announce/dicuss upcoming events/trips\, and conduct any club business required\nPresentation\, 30 – 45 minute presentation on a Fly Fishing Topic\n\n\nOur March 20th presentation on fishing Pyramid Lake for Lahontan Cutthroats is being done by Greg Goshorn.  Greg is a member of NKFF and currently resides in the greater Cincinnati. area.  He’s gotten hooked on KY muskie fishing but I know Greg from our Arizona days.  This going to be an exciting and unique presentation (look up youtube videos: step ladder fishing pyramid lake…). \n \n \nSummary \n\nPyramid Lake is one of the most popular still water fly fishing destinations in the world. Anglers come from all over to catch these huge Lahontan Cutthroat Trout. Average trout in the 20-22” range with many fish 10-15 lb and even over 20 lb possible. Mostly done by wading shallows and fishing ledges… probably while standing on a ladder. Info\, tips\, tricks and stories from a fellow angler who’s had the opportunity to fish Pyramid many times.\n\n\nRaffle\n(Optional) Adjourn to a local eatery to continue informal discussions (i.e.\, fish stories) and socialize
URL:https://derbycityflyfishers.com/event/march-club-meeting-2/
LOCATION:KY
CATEGORIES:Club Meetings
END:VEVENT
BEGIN:VEVENT
DTSTART;TZID=America/New_York:20190319T180000
DTEND;TZID=America/New_York:20190319T200000
DTSTAMP:20260421T182120
CREATED:20190101T203933Z
LAST-MODIFIED:20190101T203933Z
UID:10001596-1553018400-1553025600@derbycityflyfishers.com
SUMMARY:Quest Fly Tying
DESCRIPTION:This is not a DCFF activity\, but we thought our members might be interested in Fly Tying with our good friends at Quest Outdoors.  Fly tying at Quest will be the first Tuesday every month as well at the third Tuesday in January\, February\, and March. \nThere is tying equipment available at Quest\, but if you have your own\, it might be best to bring it along.  Quest will provide materials for the flies
URL:https://derbycityflyfishers.com/event/quest-fly-tying-5/
LOCATION:Quest Outdoors\, 4600 Shelbyville Road\, Louisville\, KY\, 40207\, United States
CATEGORIES:Fly Tying
END:VEVENT
BEGIN:VEVENT
DTSTART;TZID=America/New_York:20190314T180000
DTEND;TZID=America/New_York:20190314T193000
DTSTAMP:20260421T182120
CREATED:20190102T004737Z
LAST-MODIFIED:20190102T004737Z
UID:10001738-1552586400-1552591800@derbycityflyfishers.com
SUMMARY:Orvis Fly Tying
DESCRIPTION:Fly Tying at Orvis in the Paddock Shops in Louisville is sponsored and hosted by our partner\, Orvis. We’ve listed the event here because this is an activity our members may wish to join. \nOrvis provides materials and tools\, but if you have tools you probably want to bring them in case Orvis doesn’t have enough to go around.
URL:https://derbycityflyfishers.com/event/orvis-fly-tying-3/
LOCATION:Orvis\, 4288 Summit Plaza Drive\, Louisville\, KY\, 40241\, United States
CATEGORIES:Fly Tying
END:VEVENT
BEGIN:VEVENT
DTSTART;TZID=America/New_York:20190313T183000
DTEND;TZID=America/New_York:20190313T203000
DTSTAMP:20260421T182120
CREATED:20190107T194539Z
LAST-MODIFIED:20190303T204038Z
UID:10001750-1552501800-1552509000@derbycityflyfishers.com
SUMMARY:March Eat & Talk
DESCRIPTION:Join us at Sullivan’s Tap House for some fellowship\, to swap “true fish stories” and eat and drink at your pleasure.  This is an informal get together to talk fly fishing (although we have been know to diverge to less important topics like saving the world and beer.) \nWe’ll be in the general restaurant area.  Get there when you can\, leave when you want\, have something to eat and/or drink if you want.
URL:https://derbycityflyfishers.com/event/march-eat-talk/
LOCATION:KY
CATEGORIES:Social Events
END:VEVENT
BEGIN:VEVENT
DTSTART;TZID=America/New_York:20190306T183000
DTEND;TZID=America/New_York:20190306T203000
DTSTAMP:20260421T182120
CREATED:20181230T034037Z
LAST-MODIFIED:20181230T034437Z
UID:10001709-1551897000-1551904200@derbycityflyfishers.com
SUMMARY:March Board Meeting
DESCRIPTION:Board Meeting are open to all interested club members — you do not have to be a Board Member to attend. \nWe meet at the Rooster’s in Clarksville\, IN.
URL:https://derbycityflyfishers.com/event/march-board-meeting-2/
LOCATION:Roosters – Clarksville\, 1601 Greentree Blvd\, Clarksville\, IN\, 47129\, United States
CATEGORIES:Club Meetings
END:VEVENT
BEGIN:VEVENT
DTSTART;TZID=America/New_York:20190305T180000
DTEND;TZID=America/New_York:20190305T200000
DTSTAMP:20260421T182120
CREATED:20190101T203819Z
LAST-MODIFIED:20190101T203819Z
UID:10001735-1551808800-1551816000@derbycityflyfishers.com
SUMMARY:Quest Fly Tying
DESCRIPTION:This is not a DCFF activity\, but we thought our members might be interested in Fly Tying with our good friends at Quest Outdoors.  Fly tying at Quest will be the first Tuesday every month as well at the third Tuesday in January\, February\, and March. \nThere is tying equipment available at Quest\, but if you have your own\, it might be best to bring it along.  Quest will provide materials for the flies
URL:https://derbycityflyfishers.com/event/quest-fly-tying-4/
LOCATION:Quest Outdoors\, 4600 Shelbyville Road\, Louisville\, KY\, 40207\, United States
CATEGORIES:Fly Tying
END:VEVENT
BEGIN:VEVENT
DTSTART;TZID=America/New_York:20190228T183000
DTEND;TZID=America/New_York:20190228T203000
DTSTAMP:20260421T182120
CREATED:20190101T202641Z
LAST-MODIFIED:20190101T202641Z
UID:10001726-1551378600-1551385800@derbycityflyfishers.com
SUMMARY:February Fly Tying (Bass Pro)
DESCRIPTION:Our Fly Tying Classes are open to everyone – you do not have to be a member to attend.  Generally we tie two flies during the class demonstrate by an instructor with accompanying video on a big screen TV so students can see each step. \nTools and materials are provided at no cost\, but if you have your own tools we encourage you to bring them to ensure we have enough club sets to go around.
URL:https://derbycityflyfishers.com/event/february-fly-tying-bass-pro-2/
LOCATION:KY
CATEGORIES:Fly Tying
END:VEVENT
BEGIN:VEVENT
DTSTART;TZID=America/New_York:20190227T183000
DTEND;TZID=America/New_York:20190227T203000
DTSTAMP:20260421T182120
CREATED:20181231T213209Z
LAST-MODIFIED:20190101T040937Z
UID:10001586-1551292200-1551299400@derbycityflyfishers.com
SUMMARY:February Fly Tying (Cabela's)
DESCRIPTION:Our Fly Tying Classes are open to everyone – you do not have to be a member to attend.  Generally we tie two flies during the class demonstrate by an instructor with accompanying video on a big screen TV so students can see each step. \nTools and materials are provided at no cost\, but if you have your own tools we encourage you to bring them to ensure we have enough club sets to go around.
URL:https://derbycityflyfishers.com/event/february-fly-tying-cabelas-2/
LOCATION:KY
CATEGORIES:Fly Tying
END:VEVENT
BEGIN:VEVENT
DTSTART;TZID=America/New_York:20190220T183000
DTEND;TZID=America/New_York:20190220T203000
DTSTAMP:20260421T182120
CREATED:20181231T161849Z
LAST-MODIFIED:20181231T161849Z
UID:10001583-1550687400-1550694600@derbycityflyfishers.com
SUMMARY:February Club Meeting
DESCRIPTION:The February 2019 Club meeting at Bass Pro Shops will be devoted to beginners instruction and Fly Fishing 101.  Stations will be set up to teach: \n\nKnot Tying\nLeaders\nFlies\nRods and Lines\nWading Equipment\n\nAnd any other topic of interest to those attending!  Contact Jack Miller at Bass Pro Shops or at jackmiller@derbycityflyfishers if you have a topic you want covered.
URL:https://derbycityflyfishers.com/event/february-club-meeting-2/
LOCATION:KY
CATEGORIES:Club Meetings
END:VEVENT
BEGIN:VEVENT
DTSTART;TZID=America/New_York:20190219T180000
DTEND;TZID=America/New_York:20190219T200000
DTSTAMP:20260421T182120
CREATED:20181230T041020Z
LAST-MODIFIED:20181230T041020Z
UID:10001581-1550599200-1550606400@derbycityflyfishers.com
SUMMARY:Quest Fly Tying
DESCRIPTION:This is not a DCFF activity\, but we thought our members might be interested in Fly Tying with our good friends at Quest Outdoors.  Fly tying at Quest will be the first Tuesday every month as well at the third Tuesday in January\, February\, and March. \nThere is tying equipment available at Quest\, but if you have your own\, it might be best to bring it along.  Quest will provide materials for the flies
URL:https://derbycityflyfishers.com/event/quest-fly-tying-3/
LOCATION:Quest Outdoors\, 4600 Shelbyville Road\, Louisville\, KY\, 40207\, United States
CATEGORIES:Fly Tying
END:VEVENT
BEGIN:VEVENT
DTSTART;TZID=America/New_York:20190214T180000
DTEND;TZID=America/New_York:20190214T193000
DTSTAMP:20260421T182120
CREATED:20190102T004640Z
LAST-MODIFIED:20190102T004640Z
UID:10001737-1550167200-1550172600@derbycityflyfishers.com
SUMMARY:Orvis Fly Tying
DESCRIPTION:Fly Tying at Orvis in the Paddock Shops in Louisville is sponsored and hosted by our partner\, Orvis. We’ve listed the event here because this is an activity our members may wish to join. \nOrvis provides materials and tools\, but if you have tools you probably want to bring them in case Orvis doesn’t have enough to go around.
URL:https://derbycityflyfishers.com/event/orvis-fly-tying-2/
LOCATION:Orvis\, 4288 Summit Plaza Drive\, Louisville\, KY\, 40241\, United States
CATEGORIES:Fly Tying
END:VEVENT
BEGIN:VEVENT
DTSTART;TZID=America/New_York:20190213T183000
DTEND;TZID=America/New_York:20190213T203000
DTSTAMP:20260421T182120
CREATED:20190107T194411Z
LAST-MODIFIED:20190107T194923Z
UID:10001749-1550082600-1550089800@derbycityflyfishers.com
SUMMARY:February Eat & Talk
DESCRIPTION:Join us at Sullivan’s Tap House for some fellowship\, to swap “true fish stories” and eat and drink at your pleasure.  This is an informal get together to talk fly fishing (although we have been know to diverge to less important topics like saving the world and beer.) \nSullivan’s has graciously reserved their party room for our exclusive use.  Get there when you can\, leave when you want\, have something to eat and/or drink if you want.
URL:https://derbycityflyfishers.com/event/february-eat-talk/
LOCATION:KY
CATEGORIES:Social Events
END:VEVENT
BEGIN:VEVENT
DTSTART;TZID=America/New_York:20190212T180000
DTEND;TZID=America/New_York:20190212T210000
DTSTAMP:20260421T182120
CREATED:20181119T150217Z
LAST-MODIFIED:20181124T205120Z
UID:10001572-1549994400-1550005200@derbycityflyfishers.com
SUMMARY:Kentuckiana Fly Tyers monthly fly tying gathering - Feb. 2019
DESCRIPTION:When: Second Tuesday of every month (October – April) \nWhere: Sullivan’s Tap House (3929 Shelbyville Rd\, Louisville\, KY (previously Bluegrass Brewing Company Restaurant) \nTime: 6:00 PM until ?? \nCoordinators: Dan Jackman (502.244.6535)                                                                                       Roy Weeks (502.845.8081) \nDescription: This is an informal gathering to tie flys and socialize. This is not an instructional event per se\, although attendees will gladly share patterns and techniques. Come when you can (around 6 pm ) stay as long as you want. Bring your own tools and materials to tie what you want; food and drinks available.  You can also just come to watch and socialize. \nDescription: This is an informal gathering to tie flys and socialize. This is not an instructional event per se\, although attendees will likely patterns and techniques. Come when you can (around 6 pm\, ) stay till you want. Bring what you want to tie\, food
URL:https://derbycityflyfishers.com/event/kentuckiana-fly-tyers-monthly-fly-tying-gathering-feb-2019/
LOCATION:KY
CATEGORIES:Education,Fly Tying
END:VEVENT
BEGIN:VEVENT
DTSTART;TZID=America/New_York:20190206T183000
DTEND;TZID=America/New_York:20190206T203000
DTSTAMP:20260421T182120
CREATED:20181230T033935Z
LAST-MODIFIED:20181230T034511Z
UID:10001708-1549477800-1549485000@derbycityflyfishers.com
SUMMARY:February Board Meeting
DESCRIPTION:Board Meeting are open to all interested club members — you do not have to be a Board Member to attend. \nWe meet at the Rooster’s in Clarksville\, IN.
URL:https://derbycityflyfishers.com/event/february-board-meeting-2/
LOCATION:Roosters – Clarksville\, 1601 Greentree Blvd\, Clarksville\, IN\, 47129\, United States
CATEGORIES:Club Meetings
END:VEVENT
BEGIN:VEVENT
DTSTART;TZID=America/New_York:20190205T180000
DTEND;TZID=America/New_York:20190205T200000
DTSTAMP:20260421T182120
CREATED:20181230T040922Z
LAST-MODIFIED:20181230T040922Z
UID:10001580-1549389600-1549396800@derbycityflyfishers.com
SUMMARY:Quest Fly Tying
DESCRIPTION:This is not a DCFF activity\, but we thought our members might be interested in Fly Tying with our good friends at Quest Outdoors.  Fly tying at Quest will be the first Tuesday every month as well at the third Tuesday in January\, February\, and March. \nThere is tying equipment available at Quest\, but if you have your own\, it might be best to bring it along.  Quest will provide materials for the flies
URL:https://derbycityflyfishers.com/event/quest-fly-tying-2/
LOCATION:Quest Outdoors\, 4600 Shelbyville Road\, Louisville\, KY\, 40207\, United States
CATEGORIES:Fly Tying
END:VEVENT
BEGIN:VEVENT
DTSTART;TZID=America/New_York:20190124T183000
DTEND;TZID=America/New_York:20190124T203000
DTSTAMP:20260421T182120
CREATED:20181231T213020Z
LAST-MODIFIED:20181231T213020Z
UID:10001725-1548354600-1548361800@derbycityflyfishers.com
SUMMARY:January Fly Tying (Bass Pro)
DESCRIPTION:Our Fly Tying Classes are open to everyone – you do not have to be a member to attend.  Generally we tie two flies during the class demonstrate by an instructor with accompanying video on a big screen TV so students can see each step. \nTools and materials are provided at no cost\, but if you have your own tools we encourage you to bring them to ensure we have enough club sets to go around. \nJanuary’s fly will be a Muddler Minnow \n \ndemonstrated by Gerry McDaniels.  We will actually tie this fly twice\, first to practice packing the hair for the head and second\, the final product.
URL:https://derbycityflyfishers.com/event/january-fly-tying-bass-pro/
LOCATION:KY
CATEGORIES:Fly Tying
END:VEVENT
BEGIN:VEVENT
DTSTART;TZID=America/New_York:20190123T183000
DTEND;TZID=America/New_York:20190123T203000
DTSTAMP:20260421T182120
CREATED:20181231T212824Z
LAST-MODIFIED:20181231T212824Z
UID:10001724-1548268200-1548275400@derbycityflyfishers.com
SUMMARY:January Fly Tying (Cabela's)
DESCRIPTION:Our Fly Tying Classes are open to everyone – you do not have to be a member to attend.  Generally we tie two flies during the class demonstrate by an instructor with accompanying video on a big screen TV so students can see each step. \nTools and materials are provided at no cost\, but if you have your own tools we encourage you to bring them to ensure we have enough club sets to go around. \nJanuary’s fly will be a Muddler Minnow \n \ndemonstrated by Gerry McDaniels.  We will actually tie this fly twice\, first to practice packing the hair for the head and second\, the final product.
URL:https://derbycityflyfishers.com/event/january-fly-tying-cabelas/
LOCATION:KY
CATEGORIES:Fly Tying
END:VEVENT
BEGIN:VEVENT
DTSTART;TZID=America/New_York:20190116T183000
DTEND;TZID=America/New_York:20190116T203000
DTSTAMP:20260421T182120
CREATED:20181231T161305Z
LAST-MODIFIED:20181231T161305Z
UID:10001582-1547663400-1547670600@derbycityflyfishers.com
SUMMARY:January Club Meeting
DESCRIPTION:Meetings are open to everyone you do not have to be a member to attend.  Typical format: \n\n10-15 minute “Tackle Time”  presentation on some aspect of Fly Fishing\nBusiness meeting to introduce new members and guests\,  take questions or get updates on fishing from attendees\, announce/dicuss upcoming events/trips\, and conduct any club business required\nPresentation\, 30 – 45 minute presentation on a Fly Fishing Topic\nRaffle\n(Optional) Adjourn to a local eatery to continue informal discussions (i.e.\, fish stories) and socialize
URL:https://derbycityflyfishers.com/event/january-club-meeting-2/
LOCATION:KY
CATEGORIES:Club Meetings
END:VEVENT
BEGIN:VEVENT
DTSTART;TZID=America/New_York:20190115T180000
DTEND;TZID=America/New_York:20190115T200000
DTSTAMP:20260421T182120
CREATED:20181230T040820Z
LAST-MODIFIED:20181230T040820Z
UID:10001579-1547575200-1547582400@derbycityflyfishers.com
SUMMARY:Quest Fly Tying
DESCRIPTION:This is not a DCFF activity\, but we thought our members might be interested in Fly Tying with our good friends at Quest Outdoors.  Fly tying at Quest will be the first Tuesday every month as well at the third Tuesday in January\, February\, and March. \nThere is tying equipment available at Quest\, but if you have your own\, it might be best to bring it along.  Quest will provide materials for the flies
URL:https://derbycityflyfishers.com/event/quest-fly-tying/
LOCATION:Quest Outdoors\, 4600 Shelbyville Road\, Louisville\, KY\, 40207\, United States
CATEGORIES:Fly Tying
END:VEVENT
BEGIN:VEVENT
DTSTART;TZID=America/New_York:20190110T180000
DTEND;TZID=America/New_York:20190110T193000
DTSTAMP:20260421T182120
CREATED:20190102T004547Z
LAST-MODIFIED:20190102T004547Z
UID:10001736-1547143200-1547148600@derbycityflyfishers.com
SUMMARY:Orvis Fly Tying
DESCRIPTION:Fly Tying at Orvis in the Paddock Shops in Louisville is sponsored and hosted by our partner\, Orvis. We’ve listed the event here because this is an activity our members may wish to join. \nOrvis provides materials and tools\, but if you have tools you probably want to bring them in case Orvis doesn’t have enough to go around.
URL:https://derbycityflyfishers.com/event/orvis-fly-tying/
LOCATION:Orvis\, 4288 Summit Plaza Drive\, Louisville\, KY\, 40241\, United States
CATEGORIES:Fly Tying
END:VEVENT
BEGIN:VEVENT
DTSTART;TZID=America/New_York:20190109T183000
DTEND;TZID=America/New_York:20190109T203000
DTSTAMP:20260421T182120
CREATED:20190103T200327Z
LAST-MODIFIED:20190103T200327Z
UID:10001748-1547058600-1547065800@derbycityflyfishers.com
SUMMARY:January Eat & Talk
DESCRIPTION:Join us Golden Corral\, Clarksville to socialize\, exchange “true” fish stories and enjoy a good meal.  The Golden Corral has reserved their private room exclusively for Derby City Fly Fishers from 6:30 to 8:30 pm.  This is a serve yourself buffet restaurant\, so you can come any time during the reserved time to eat and visit. \nBuffet price is approximately $13 including tax\, without drink.  HOWERVER\, mention that you are with DCFF and your unlimited refill drink will be included free (saves you $2.)
URL:https://derbycityflyfishers.com/event/january-eat-talk/
LOCATION:KY
CATEGORIES:Social Events
END:VEVENT
BEGIN:VEVENT
DTSTART;TZID=America/New_York:20190102T183000
DTEND;TZID=America/New_York:20190102T203000
DTSTAMP:20260421T182120
CREATED:20181230T033717Z
LAST-MODIFIED:20181230T033717Z
UID:10001707-1546453800-1546461000@derbycityflyfishers.com
SUMMARY:January Board Meeting
DESCRIPTION:Board Meeting are open to all interested club members — you do not have to be a Board Member to attend. \nWe meet at the Rooster’s in Clarksville\, IN.
URL:https://derbycityflyfishers.com/event/january-board-meeting-2/
LOCATION:Roosters – Clarksville\, 1601 Greentree Blvd\, Clarksville\, IN\, 47129\, United States
END:VEVENT
BEGIN:VEVENT
DTSTART;TZID=America/New_York:20181213T180000
DTEND;TZID=America/New_York:20181213T193000
DTSTAMP:20260421T182120
CREATED:20151214T154124Z
LAST-MODIFIED:20171223T151401Z
UID:10001546-1544724000-1544729400@derbycityflyfishers.com
SUMMARY:December Orvis Tying
DESCRIPTION:Fly Tying at Orvis in the Paddock Shops in Louisville is sponsored and hosted by our partner\, Orvis. We’ve listed the event here because this is an activity our members may wish to join.
URL:https://derbycityflyfishers.com/event/december-orvis-tying/
LOCATION:Orvis\, 4288 Summit Plaza Drive\, Louisville\, KY\, 40241\, United States
CATEGORIES:Fly Tying
END:VEVENT
BEGIN:VEVENT
DTSTART;TZID=America/New_York:20181204T180000
DTEND;TZID=America/New_York:20181204T200000
DTSTAMP:20260421T182120
CREATED:20171107T185749Z
LAST-MODIFIED:20171223T150956Z
UID:10001562-1543946400-1543953600@derbycityflyfishers.com
SUMMARY:Quest Outdoors Fly Tying
DESCRIPTION:This is not a DCFF activity\, but we thought our members might be interested in Fly Tying with our good friends at Quest Outdoors.  Fly tying at Quest will be the first Tuesday every month as well at the third Tuesday in January\, February\, and March. \nThere is tying equipment available at Quest\, but if you have your own\, it might be best to bring it along.  Quest will provide materials for the flies
URL:https://derbycityflyfishers.com/event/quest-outdoors-fly-tying/
LOCATION:Quest Outdoors\, 4600 Shelbyville Road\, Louisville\, KY\, 40207\, United States
CATEGORIES:Fly Tying
END:VEVENT
END:VCALENDAR