BEGIN:VCALENDAR
VERSION:2.0
PRODID:-//Derby City Fly Fishers - ECPv6.15.20//NONSGML v1.0//EN
CALSCALE:GREGORIAN
METHOD:PUBLISH
X-WR-CALNAME:Derby City Fly Fishers
X-ORIGINAL-URL:https://derbycityflyfishers.com
X-WR-CALDESC:Events for Derby City Fly Fishers
REFRESH-INTERVAL;VALUE=DURATION:PT1H
X-Robots-Tag:noindex
X-PUBLISHED-TTL:PT1H
BEGIN:VTIMEZONE
TZID:America/New_York
BEGIN:DAYLIGHT
TZOFFSETFROM:-0500
TZOFFSETTO:-0400
TZNAME:EDT
DTSTART:20170312T070000
END:DAYLIGHT
BEGIN:STANDARD
TZOFFSETFROM:-0400
TZOFFSETTO:-0500
TZNAME:EST
DTSTART:20171105T060000
END:STANDARD
BEGIN:DAYLIGHT
TZOFFSETFROM:-0500
TZOFFSETTO:-0400
TZNAME:EDT
DTSTART:20180311T070000
END:DAYLIGHT
BEGIN:STANDARD
TZOFFSETFROM:-0400
TZOFFSETTO:-0500
TZNAME:EST
DTSTART:20181104T060000
END:STANDARD
BEGIN:DAYLIGHT
TZOFFSETFROM:-0500
TZOFFSETTO:-0400
TZNAME:EDT
DTSTART:20190310T070000
END:DAYLIGHT
BEGIN:STANDARD
TZOFFSETFROM:-0400
TZOFFSETTO:-0500
TZNAME:EST
DTSTART:20191103T060000
END:STANDARD
BEGIN:DAYLIGHT
TZOFFSETFROM:-0500
TZOFFSETTO:-0400
TZNAME:EDT
DTSTART:20200308T070000
END:DAYLIGHT
BEGIN:STANDARD
TZOFFSETFROM:-0400
TZOFFSETTO:-0500
TZNAME:EST
DTSTART:20201101T060000
END:STANDARD
END:VTIMEZONE
BEGIN:VEVENT
DTSTART;TZID=America/New_York:20190102T183000
DTEND;TZID=America/New_York:20190102T203000
DTSTAMP:20260421T154022
CREATED:20181230T033717Z
LAST-MODIFIED:20181230T033717Z
UID:10001707-1546453800-1546461000@derbycityflyfishers.com
SUMMARY:January Board Meeting
DESCRIPTION:Board Meeting are open to all interested club members — you do not have to be a Board Member to attend. \nWe meet at the Rooster’s in Clarksville\, IN.
URL:https://derbycityflyfishers.com/event/january-board-meeting-2/
LOCATION:Roosters – Clarksville\, 1601 Greentree Blvd\, Clarksville\, IN\, 47129\, United States
END:VEVENT
BEGIN:VEVENT
DTSTART;TZID=America/New_York:20181213T180000
DTEND;TZID=America/New_York:20181213T193000
DTSTAMP:20260421T154022
CREATED:20151214T154124Z
LAST-MODIFIED:20171223T151401Z
UID:10001546-1544724000-1544729400@derbycityflyfishers.com
SUMMARY:December Orvis Tying
DESCRIPTION:Fly Tying at Orvis in the Paddock Shops in Louisville is sponsored and hosted by our partner\, Orvis. We’ve listed the event here because this is an activity our members may wish to join.
URL:https://derbycityflyfishers.com/event/december-orvis-tying/
LOCATION:Orvis\, 4288 Summit Plaza Drive\, Louisville\, KY\, 40241\, United States
CATEGORIES:Fly Tying
END:VEVENT
BEGIN:VEVENT
DTSTART;TZID=America/New_York:20181204T180000
DTEND;TZID=America/New_York:20181204T200000
DTSTAMP:20260421T154022
CREATED:20171107T185749Z
LAST-MODIFIED:20171223T150956Z
UID:10001562-1543946400-1543953600@derbycityflyfishers.com
SUMMARY:Quest Outdoors Fly Tying
DESCRIPTION:This is not a DCFF activity\, but we thought our members might be interested in Fly Tying with our good friends at Quest Outdoors.  Fly tying at Quest will be the first Tuesday every month as well at the third Tuesday in January\, February\, and March. \nThere is tying equipment available at Quest\, but if you have your own\, it might be best to bring it along.  Quest will provide materials for the flies
URL:https://derbycityflyfishers.com/event/quest-outdoors-fly-tying/
LOCATION:Quest Outdoors\, 4600 Shelbyville Road\, Louisville\, KY\, 40207\, United States
CATEGORIES:Fly Tying
END:VEVENT
BEGIN:VEVENT
DTSTART;TZID=America/New_York:20181108T180000
DTEND;TZID=America/New_York:20181108T193000
DTSTAMP:20260421T154022
CREATED:20151214T154019Z
LAST-MODIFIED:20171218T191545Z
UID:10001675-1541700000-1541705400@derbycityflyfishers.com
SUMMARY:November Orvis Tying
DESCRIPTION:Fly Tying at Orvis in the Paddock Shops in Louisville is sponsored and hosted by our partner\, Orvis. We’ve listed the event here because this is an activity our members may wish to join.
URL:https://derbycityflyfishers.com/event/november-orvis-tying/
LOCATION:Orvis\, 4288 Summit Plaza Drive\, Louisville\, KY\, 40241\, United States
CATEGORIES:Fly Tying
END:VEVENT
BEGIN:VEVENT
DTSTART;TZID=America/New_York:20181106T180000
DTEND;TZID=America/New_York:20181106T200000
DTSTAMP:20260421T154022
CREATED:20171107T191748Z
LAST-MODIFIED:20171218T191352Z
UID:10001566-1541527200-1541534400@derbycityflyfishers.com
SUMMARY:Quest Outdoor Fly Tying
DESCRIPTION:This is not a DCFF activity\, but we thought our members might be interested in Fly Tying with our good friends at Quest Outdoors.  Fly tying at Quest will be the first Tuesday every month as well at the third Tuesday in January\, February\, and March. \nThere is tying equipment available at Quest\, but if you have your own\, it might be best to bring it along.  Quest will provide materials for the flies
URL:https://derbycityflyfishers.com/event/quest-outdoor-fly-tying-5/
LOCATION:Quest Outdoors\, 4600 Shelbyville Road\, Louisville\, KY\, 40207\, United States
CATEGORIES:Fly Tying
END:VEVENT
BEGIN:VEVENT
DTSTART;TZID=America/New_York:20181025T183000
DTEND;TZID=America/New_York:20181025T203000
DTSTAMP:20260421T154022
CREATED:20151117T202955Z
LAST-MODIFIED:20180329T031839Z
UID:10001544-1540492200-1540499400@derbycityflyfishers.com
SUMMARY:October Fly Tying (Bass Pro)
DESCRIPTION:
URL:https://derbycityflyfishers.com/event/october-fly-tying-bass-pro/
CATEGORIES:Education
END:VEVENT
BEGIN:VEVENT
DTSTART;TZID=America/New_York:20181024T183000
DTEND;TZID=America/New_York:20181024T203000
DTSTAMP:20260421T154022
CREATED:20151117T202820Z
LAST-MODIFIED:20180329T031923Z
UID:10001543-1540405800-1540413000@derbycityflyfishers.com
SUMMARY:October Fly Tying (Cabela's)
DESCRIPTION:
URL:https://derbycityflyfishers.com/event/october-fly-tying-cabelas/
CATEGORIES:Education
END:VEVENT
BEGIN:VEVENT
DTSTART;TZID=America/New_York:20181020T090000
DTEND;TZID=America/New_York:20181020T130000
DTSTAMP:20260421T154022
CREATED:20160222T190915Z
LAST-MODIFIED:20171230T215607Z
UID:10001676-1540026000-1540040400@derbycityflyfishers.com
SUMMARY:Fall Otter Creek Instructional Outing
DESCRIPTION:New to fly fishing and want some “ALMOST FREE” one-on-one instruction?  Been fly fishing for some time but want to up your game?  This instructional outing is just for you and anyone else that shows up.  You do not need to be a club member to participate.  You will be charged the normal Otter Creek Entry fee of $3 at the gate. \nWe customize the instruction to fit your needs\, you just tell us what you want!  We can give beginner casting instruction with the club fly rods.  We can talk about knots\, gear\, and flies.  We can show you how to fly fish on the water (bring your waders for best results)\, both with and without an indicator.  We can show you more advanced casting techniques including: \n\ndouble hauling\nroll casting\nsingle handed spey\ntwo handed spey\n\nRegistration is not required but you might want to call the Otter Creek fishing hotline at 502-942-5052 to get stream conditions if you want to fish.  You need a valid Kentucky fishing license but not a trout stamp.  We will be serving a simple lunch at 1pm (Hotdogs\, chips and drinks). \nIf you have any questions regarding regarding the outing itself\, contact the co-ordinator Wes Krupiczewicz at 502-938-2662 or wes@derbycityflyfishers.com
URL:https://derbycityflyfishers.com/event/fall-otter-creek-instructional-outing/
LOCATION:Otter Creek Outdoor Recreation Area\, Otter Creek Outdoor Recreation Area\, KY\, 40108\, United States
CATEGORIES:Education
END:VEVENT
BEGIN:VEVENT
DTSTART;TZID=America/New_York:20181017T183000
DTEND;TZID=America/New_York:20181017T203000
DTSTAMP:20260421T154022
CREATED:20151117T202712Z
LAST-MODIFIED:20171218T191023Z
UID:10001542-1539801000-1539808200@derbycityflyfishers.com
SUMMARY:October Club Meeting
DESCRIPTION:
URL:https://derbycityflyfishers.com/event/october-club-meeting/
CATEGORIES:Club Meetings
END:VEVENT
BEGIN:VEVENT
DTSTART;TZID=America/New_York:20181011T180000
DTEND;TZID=America/New_York:20181011T193000
DTSTAMP:20260421T154022
CREATED:20151214T153910Z
LAST-MODIFIED:20171218T190801Z
UID:10001674-1539280800-1539286200@derbycityflyfishers.com
SUMMARY:October Orvis Tying
DESCRIPTION:Fly Tying at Orvis in the Paddock Shops in Louisville is sponsored and hosted by our partner\, Orvis. We’ve listed the event here because this is an activity our members may wish to join.
URL:https://derbycityflyfishers.com/event/october-orvis-tying/
LOCATION:Orvis\, 4288 Summit Plaza Drive\, Louisville\, KY\, 40241\, United States
CATEGORIES:Fly Tying
END:VEVENT
BEGIN:VEVENT
DTSTART;TZID=America/New_York:20181003T063000
DTEND;TZID=America/New_York:20181003T203000
DTSTAMP:20260421T154022
CREATED:20151117T202432Z
LAST-MODIFIED:20171218T185350Z
UID:10001540-1538548200-1538598600@derbycityflyfishers.com
SUMMARY:October Board Meeting
DESCRIPTION:Board meetings are open to all interested club members.   We meet at the Rooster’s in Clarksville\, Indiana \nOfficers and board members are elected annually at our November club meeting.  If anyone is interested in helping to keep our club functioning smoothly\, please consider attending this meeting to volunteer.
URL:https://derbycityflyfishers.com/event/october-board-meeting/
LOCATION:Roosters – Clarksville\, 1601 Greentree Blvd\, Clarksville\, IN\, 47129\, United States
CATEGORIES:Club Meetings
END:VEVENT
BEGIN:VEVENT
DTSTART;TZID=America/New_York:20181002T180000
DTEND;TZID=America/New_York:20181002T200000
DTSTAMP:20260421T154022
CREATED:20171107T191640Z
LAST-MODIFIED:20171107T192239Z
UID:10001705-1538503200-1538510400@derbycityflyfishers.com
SUMMARY:Quest Outdoor Fly Tying
DESCRIPTION:This is not a DCFF activity\, but we thought our members might be interested in Fly Tying with our good friends at Quest Outdoors.  Fly tying at Quest will be the first Tuesday every month as well at the third Tuesday in January\, February\, and March. \nThere is tying equipment available at Quest\, but if you have your own\, it might be best to bring it along.  Quest will provide materials for the flies
URL:https://derbycityflyfishers.com/event/quest-outdoor-fly-tying-4/
LOCATION:Quest Outdoors\, 4600 Shelbyville Road\, Louisville\, KY\, 40207\, United States
CATEGORIES:Fly Tying
END:VEVENT
BEGIN:VEVENT
DTSTART;TZID=America/New_York:20180927T183000
DTEND;TZID=America/New_York:20180927T203000
DTSTAMP:20260421T154022
CREATED:20151117T201834Z
LAST-MODIFIED:20180329T032006Z
UID:10001539-1538073000-1538080200@derbycityflyfishers.com
SUMMARY:September Fly Tying (Bass Pro)
DESCRIPTION:
URL:https://derbycityflyfishers.com/event/september-fly-tying-bass-pro/
CATEGORIES:Education
END:VEVENT
BEGIN:VEVENT
DTSTART;TZID=America/New_York:20180926T183000
DTEND;TZID=America/New_York:20180926T203000
DTSTAMP:20260421T154022
CREATED:20151117T201654Z
LAST-MODIFIED:20180329T032043Z
UID:10001538-1537986600-1537993800@derbycityflyfishers.com
SUMMARY:September Fly Tying (Cabela's)
DESCRIPTION:
URL:https://derbycityflyfishers.com/event/september-fly-tying-cabelas/
CATEGORIES:Education
END:VEVENT
BEGIN:VEVENT
DTSTART;TZID=America/New_York:20180315T183000
DTEND;TZID=America/New_York:20180315T203000
DTSTAMP:20260421T154022
CREATED:20170220T193507Z
LAST-MODIFIED:20180308T164939Z
UID:10001682-1521138600-1521145800@derbycityflyfishers.com
SUMMARY:Rod Building Week 1
DESCRIPTION:The rod building class for 2018 is full\, but if you want to join us as an observer\, you are welcome to attend.
URL:https://derbycityflyfishers.com/event/rod-building-week-1/
CATEGORIES:Education
END:VEVENT
BEGIN:VEVENT
DTSTART;TZID=America/New_York:20180127T090000
DTEND;TZID=America/New_York:20180127T170000
DTSTAMP:20260421T154022
CREATED:20151117T182331Z
LAST-MODIFIED:20170721T171831Z
UID:10001620-1517043600-1517072400@derbycityflyfishers.com
SUMMARY:Kentuckiana Fly Fishing Show
DESCRIPTION:2018 Kentuckiana Fly Show Brochure
URL:https://derbycityflyfishers.com/event/kentuckiana-fly-fishing-show/
LOCATION:Paroquet Springs Conference Center\, 395 Paroquet Springs Dr\, Shepherdsville\, KY\, 40165\, United States
CATEGORIES:Fly Show
END:VEVENT
BEGIN:VEVENT
DTSTART;TZID=America/New_York:20180126T170000
DTEND;TZID=America/New_York:20180126T210000
DTSTAMP:20260421T154022
CREATED:20151117T182208Z
LAST-MODIFIED:20170721T171728Z
UID:10001619-1516986000-1517000400@derbycityflyfishers.com
SUMMARY:Kentuckiana Fly Fishing Show Setup
DESCRIPTION:Volunteers set up the show venue and help vendors with their booths\,  as necessary. \nWe will gather for pizza at Sleep Inn at a hospitality room for the vendors after setup is complete.
URL:https://derbycityflyfishers.com/event/kentuckiana-fly-fishing-show-setup/
LOCATION:Paroquet Springs Conference Center\, 395 Paroquet Springs Dr\, Shepherdsville\, KY\, 40165\, United States
CATEGORIES:Fly Show
END:VEVENT
END:VCALENDAR