BEGIN:VCALENDAR
VERSION:2.0
PRODID:-//Derby City Fly Fishers - ECPv6.15.20//NONSGML v1.0//EN
CALSCALE:GREGORIAN
METHOD:PUBLISH
X-ORIGINAL-URL:https://derbycityflyfishers.com
X-WR-CALDESC:Events for Derby City Fly Fishers
REFRESH-INTERVAL;VALUE=DURATION:PT1H
X-Robots-Tag:noindex
X-PUBLISHED-TTL:PT1H
BEGIN:VTIMEZONE
TZID:America/Kentucky/Louisville
BEGIN:DAYLIGHT
TZOFFSETFROM:-0500
TZOFFSETTO:-0400
TZNAME:EDT
DTSTART:20240310T070000
END:DAYLIGHT
BEGIN:STANDARD
TZOFFSETFROM:-0400
TZOFFSETTO:-0500
TZNAME:EST
DTSTART:20241103T060000
END:STANDARD
BEGIN:DAYLIGHT
TZOFFSETFROM:-0500
TZOFFSETTO:-0400
TZNAME:EDT
DTSTART:20250309T070000
END:DAYLIGHT
BEGIN:STANDARD
TZOFFSETFROM:-0400
TZOFFSETTO:-0500
TZNAME:EST
DTSTART:20251102T060000
END:STANDARD
BEGIN:DAYLIGHT
TZOFFSETFROM:-0500
TZOFFSETTO:-0400
TZNAME:EDT
DTSTART:20260308T070000
END:DAYLIGHT
BEGIN:STANDARD
TZOFFSETFROM:-0400
TZOFFSETTO:-0500
TZNAME:EST
DTSTART:20261101T060000
END:STANDARD
END:VTIMEZONE
BEGIN:VEVENT
DTSTART;TZID=America/Kentucky/Louisville:20251001T183000
DTEND;TZID=America/Kentucky/Louisville:20251001T203000
DTSTAMP:20260422T004024
CREATED:20240902T172626Z
LAST-MODIFIED:20240902T172626Z
UID:10002096-1759343400-1759350600@derbycityflyfishers.com
SUMMARY:Board of Directors Meeting
DESCRIPTION:You don’t have to be a Board Member to attend. Everyone is welcome and encouraged to attend and contribute. The meeting starts at 6:30 PM and is over by 8:30 PM. \n  \nCome on out and see how your club is run. Give us your ideas and maybe consider getting involved (there are a number of opportunities to help out and you don’t have to be on the Board to do so.) \nAfterwards we head to a local restaurant for a bite to eat\, a drink and some socialization.
URL:https://derbycityflyfishers.com/event/board-of-directors-meeting-9/
LOCATION:Cabela’s\, 5100 Norton Healthcare Blvd\, Louisville\, KY\, 40241\, United States
CATEGORIES:Club Meetings
END:VEVENT
BEGIN:VEVENT
DTSTART;TZID=America/Kentucky/Louisville:20251002T180000
DTEND;TZID=America/Kentucky/Louisville:20251002T210000
DTSTAMP:20260422T004024
CREATED:20250106T164834Z
LAST-MODIFIED:20250906T165552Z
UID:10002188-1759428000-1759438800@derbycityflyfishers.com
SUMMARY:Kentuckiana Fly Tyers Fly Tying Night
DESCRIPTION:Kentuckiana Fly Tyers conducts their monthly meeting the First Thursday of each Month.  If you haven’t tied before\, and would like to learn\, they will provide you with the equipment\, materials\, and instruction to start you out. If you already tie\, come out and bring whatever you would like to tie\, and socialize. \nPlease click the applicable RSVP button below if you plan on attending so they can make sure they have enough materials to go around.  We hope to see you all there. \n\n\n\n\n\nRSVP – Tyers\n\n\n\n\n\n\n\nRSVP – Beginners
URL:https://derbycityflyfishers.com/event/kentuckiana-fly-tyers-fly-tying-night-28/
LOCATION:Roosters on Shelbyville Rd.\, 10430 Shelbyville Rd\, Louisville\, KY\, 40223
CATEGORIES:Fly Tying
END:VEVENT
BEGIN:VEVENT
DTSTART;VALUE=DATE:20251007
DTEND;VALUE=DATE:20251009
DTSTAMP:20260422T004024
CREATED:20250815T143507Z
LAST-MODIFIED:20250815T143507Z
UID:10002243-1759795200-1759967999@derbycityflyfishers.com
SUMMARY:Fall 2025 Bardstown Bluegill Trip
DESCRIPTION:Coordinator:\nSteve Cullen S.Cullen325i@gmail.com ; 502-599-7494)\nThe Plan:  This will be the club’s first trip here thanks to the generosity of DCFF\nmember Lou Kaufman who has graciously offered us access to the venue.\nThis trip will be limited to 6 participants due to space constraints on the water.\nThe registration fee is $25 to cover dinner and breakfast as well as firewood.\nWe will be fishing two private lakes near to the area around Bardstown Kentucky\, about\n40 minutes South of Louisville.\nThese are small lakes with limited launch opportunity so we will be limiting this to\nKayaks and Canoes only. Wade or bank fishing isn’t really an option other than one pier\non the larger of the two lakes.\nWe will be fishing for Bluegill and Bass. We don’t plan on any fish fry’s but anglers may\nkeep some of their catch. No limit on Bass\, 10 Bluegill each.\nWe may arrive any time on the afternoon on the 7th and may fish if you like after\nchecking in and getting a little orientation. Supper followed by a fire at the cottage that\nevening. Group Breakfast the morning of the 8th\, after which you may fish either lake for\nas long as you like.\nLodging:  Lou has a cottage on the property which he has also made available to us.\nThere’s a large open room room as well as a three season room with plenty of space for\ncots or air mattresses and sleeping bags.\nWe have a kitchen and bath. We must bring our own towels\, cookware\, camp chairs\,\nand eating utensils.\nYou will need to bring your own cot or air mattress\, sleeping bag or linens and blankets\nand a pillow.\nThere are ample electrical outlets\, but you might want to bring a short extension cord\nand/or power strip to handle your electronic needs.\nWe’ll buy firewood for the group fires.\nWe have space to set up popup shelters/canopies if you choose to bring them but we\nhave no plans to bring the clubs.\nWhile we intend to leave the cottage open all day for bathroom access\, we would\nappreciate it if your gear was packed up and out of the cottage after breakfast. \nParking adjacent to the cottage should be ample but…  Carpooling would be a good\nidea if feasible.\nWe will be able to drop boats lake side. The property is gated and generally secure but\nyour gear is left at your own risk so please plan accordingly.\nMeals:\nPlan to bring your own lunch\, snacks\, and beverages of choice.\nI will bring the DCFF coffee pot\, coffee and condiments for the group.\nWe plan to have group supper the evening of the 7th and breakfast the morning of the\n8th. Both of those meals are open for a volunteer preparer. (You’ll have help and\nyour offers are greatly appreciated!)\nWe’ll tentatively plan suppers at 7PM but will adjust as needed.\nYou need to bring your cooking and meal prep/serving utensils – if you think you’ll need\nit\, bring it! We will have paper plates and plastic ware. \nDescription of Waters:  These are small impoundments with a varied shore line.\nDepths can be up to 14 feet\, but most areas are significantly shallower. There are a\nvariety of Bass\, as well as Red Ear and Bluegill in these lakes.\nAccessibility:  Access to the larger of the two lakes is firm and relatively shallow in\nslope meaning trailer launch is difficult if not unlikely. Plan on walking your boats in. That\nwill definitely be the case on the smaller lake where launch is limited to a walk in at the\nend of the dam.  Gas motors cannot be used but trolling motors are acceptable.\nLevel:  This is a Level 2 trip.  There will not be dedicated fishers to teach beginners fly\nfishing basics.\nFishing License and Permits: This is private property and fishing licenses are not\nrequired.\nEquipment:  3 to 6 weight fly rods\, but if you want to spin or bait fish don’t hesitate to\nbring your gear.  Both topwater and typical nymph flies should work.  Bluegills love mop\nflies and trout magnets! While I can’t say what things will be like in October\, the top\nwater bite was good in June though nymphing in deeper water was also productive. \nTo sign up and pay\, please click here.
URL:https://derbycityflyfishers.com/event/fall-2025-bardstown-bluegill-trip/
LOCATION:IN
CATEGORIES:Fishing Trip
END:VEVENT
BEGIN:VEVENT
DTSTART;VALUE=DATE:20251008
DTEND;VALUE=DATE:20251012
DTSTAMP:20260422T004024
CREATED:20250121T125740Z
LAST-MODIFIED:20250121T153837Z
UID:10002224-1759881600-1760227199@derbycityflyfishers.com
SUMMARY:North Carolina Trip – Fall 2025
DESCRIPTION:This trip information is being updated. Please save the date\, lodging and other details are likely to change. \nLocation: Waynesville\, NC \nDates: October 8 – 11\, 2025 (Wednesday thru Saturday) \nCoordinators:\nMichal Broome\, mbroome@derbycityflyfishers.com\, 502-649-8967 \nSteve Kuric\, stevek@derbycityflyfishers.com\, 812-457-2368 \nLevel 2 Trip – You Should be able to manage your leader and tippet and tie-on flies.  You should also be able to cast at least 30 feet. This is a wading trip and some of the wading can be moderately challenging. A wading staff is highly recommended\, and many past participants use studded wading boots. \nNumber of spots 12-20 \nEquipment: 3-6 wt rods\, floating lines\, #8-14 nymphs\, #10-12 bead head crackle backs\, midges\, egg patterns\, mop flies\, Chicago Flies (white\, black\, and olive)\, woolly buggers and misc. other streamers. \nA NC fishing license is required.  Click here to purchase. Trout Stamp is included with the Inland Fishing License you will need. \nOuting Details: We’ll be staying in the Waynesville\, NC area to trout fish in several of the delayed harvest (i.e.\, catch and release) streams in the area. The Tuckasegee River\, West Fork of the Pigeon River\, the Upper Nantahala River\, Laurel River\, Davidson River\, and the Shelton-Laurel Creek are all within a 1-hour drive of Waynesville. These rivers provide some of the best fishing in the area. Past trips have produced a very successful catch with fish in the 17–20-inch range being common. \nLodging: You will be responsible for making your own lodging arrangements. We have negotiated a block of 10 rooms for $95/night (plus fees\, taxes\, etc.) at the Econo Lodge in Waynesville\, NC\, Address: 232 State Rd 1202\, Waynesville\, NC 28786\, (828) 246-6201. You must reserve by Sept 20\, 2024 to get the negotiated price. The Econo Lodge provides a complimentary continental breakfast starting at 6:00am. When booking your room at the Econo Lodge\, be sure to tell them you are with the Derby City Fly Fishing club for the special room rate for Wednesday through Friday nights. On the past several trips many participants have stayed at the Jonathan Creek Inn in Maggie Valley www.jonathancreekinn.com. This is an option as well. \nMeals: You will be responsible for all meals. Usually\, I will arrange a group dinner at a local restaurant on Tuesday and Wednesday evenings for those who are interested.  \nGuided Fishing: If you are interested in a wading or float guided trip\, Maggie Valley Fly Shop is offering a 20% discount to DCFF members for this trip. You can make arrangements with the shop at: (828) 476-6710 or https://www.maggievalleyflyshop.com/. \nEstimated Cost: The three-night trip will cost approximately $350 – $400 per person for lodging (based on shared room)\, license\, gas\, and food; there is no deposit required as each participant is responsible for their own costs.  You will also be asked during sign up if you are willing to share a room and if you want to carpool. I will try to coordinate carpooling and shared lodging. \nClick here to sign up. Signup not available yet.
URL:https://derbycityflyfishers.com/event/north-carolina-fall-trip-2/
LOCATION:Econo Lodge – Waynesville\, NC\, 232 Phillips Road\, Waynesville\, NC\, 28786
CATEGORIES:Fishing Trip
END:VEVENT
BEGIN:VEVENT
DTSTART;TZID=America/Kentucky/Louisville:20251008T183000
DTEND;TZID=America/Kentucky/Louisville:20251008T203000
DTSTAMP:20260422T004024
CREATED:20240902T190604Z
LAST-MODIFIED:20240902T190604Z
UID:10002123-1759948200-1759955400@derbycityflyfishers.com
SUMMARY:Eat & Talk
DESCRIPTION:We have the private event room so it should be quiet enough for conversation\, with plenty of room to get comfortable and enjoy each others company. This is a great opportunity to get to know some of your DCFF club mates a little better and swap some fish stories. You can come when you want\, eat and drink if you want\, mostly just share some camaraderie.
URL:https://derbycityflyfishers.com/event/eat-talk-33/
LOCATION:Roosters on Shelbyville Rd.\, 10430 Shelbyville Rd\, Louisville\, KY\, 40223
CATEGORIES:Club Meetings
END:VEVENT
BEGIN:VEVENT
DTSTART;TZID=America/Kentucky/Louisville:20251015T183000
DTEND;TZID=America/Kentucky/Louisville:20251015T203000
DTSTAMP:20260422T004024
CREATED:20240902T191321Z
LAST-MODIFIED:20251008T150230Z
UID:10002126-1760553000-1760560200@derbycityflyfishers.com
SUMMARY:Monthly Meeting
DESCRIPTION:Meetings are open to everyone\, you do not have to be a member to attend.  Typical format: 10-15 minute “Tackle Time”  presentation on some aspect of Fly Fishing followed by a business segment to introduce new members and guests\,  take questions and get updates on fishing from attendees\, announce/discuss upcoming events/trips\, and conduct any required club business. All this is followed by a 30 – 45 minute presentation by a guest speaker on a fly fishing related topic. \nOur General Club meeting will feature a presentation from Jesse Vault\, of String Slingers Guide Service. He’s out of Paducah and guides the CR\, Ohio\, Barren River on the topic of Stripes & Hybrids on the Cumberland River! This s one not to miss!
URL:https://derbycityflyfishers.com/event/monthly-meeting-18/
LOCATION:Bass Pro – Clarksville\, IN\, 951 E. Lewis & Clark Parkway\, Clarksville\, IN\, 47129\, United States
CATEGORIES:Club Meetings
END:VEVENT
BEGIN:VEVENT
DTSTART;TZID=America/Kentucky/Louisville:20251018T103000
DTEND;TZID=America/Kentucky/Louisville:20251018T120000
DTSTAMP:20260422T004024
CREATED:20250119T170223Z
LAST-MODIFIED:20250317T121028Z
UID:10002221-1760783400-1760788800@derbycityflyfishers.com
SUMMARY:Quest Outdoors Fly Tying
DESCRIPTION:The 3rd Saturday of Every Month. 10:30am to Noon\n\n\n\nQuest Outdoors is pleased to announce they are resuming fly tying classes the 3rd Saturday of each month\, beginning in Please call if you have any questions.
URL:https://derbycityflyfishers.com/event/quest-outdoors-fly-tying-18/
LOCATION:Quest Outdoors\, 4600 Shelbyville Road\, Louisville\, KY\, 40207\, United States
CATEGORIES:Fly Tying
END:VEVENT
BEGIN:VEVENT
DTSTART;TZID=America/Kentucky/Louisville:20251022T183000
DTEND;TZID=America/Kentucky/Louisville:20251022T200000
DTSTAMP:20260422T004024
CREATED:20240902T195643Z
LAST-MODIFIED:20240902T195643Z
UID:10002137-1761157800-1761163200@derbycityflyfishers.com
SUMMARY:Fly Tying - Cabela's
DESCRIPTION:Our Fly Tying Classes are open to everyone – you do not have to be a member to attend.  Generally we tie one fly\, but we tie it twice.  An instructor demonstrates\, step-by-step\, how to tie the fly with accompanying video on a big screen TV so students can see each step. \nTools and materials are provided at no cost\, but if you have your own tools feel free to bring them. \nBeginners are welcome.  There will be experienced tiers available to provide individual help.
URL:https://derbycityflyfishers.com/event/fly-tying-cabelas-37/
LOCATION:Cabela’s\, 5100 Norton Healthcare Blvd\, Louisville\, KY\, 40241\, United States
CATEGORIES:Fly Tying
END:VEVENT
BEGIN:VEVENT
DTSTART;TZID=America/Kentucky/Louisville:20251023T183000
DTEND;TZID=America/Kentucky/Louisville:20251023T200000
DTSTAMP:20260422T004024
CREATED:20240903T004044Z
LAST-MODIFIED:20240903T004044Z
UID:10002147-1761244200-1761249600@derbycityflyfishers.com
SUMMARY:Fly Tying - Bass Pro
DESCRIPTION:Our Fly Tying Classes are open to everyone – you do not have to be a member to attend.  Generally we tie one fly\, but we tie it twice.  An instructor demonstrates\, step-by-step\, how to tie the fly with accompanying video on a big screen TV so students can see each step. \nTools and materials are provided at no cost\, but if you have your own tools feel free to bring them. \nBeginners are welcome.  There will be experienced tiers available to provide individual help.
URL:https://derbycityflyfishers.com/event/fly-tying-bass-pro-29/
LOCATION:Bass Pro – Clarksville\, IN\, 951 E. Lewis & Clark Parkway\, Clarksville\, IN\, 47129\, United States
CATEGORIES:Fly Tying
END:VEVENT
BEGIN:VEVENT
DTSTART;TZID=America/Kentucky/Louisville:20251029T153000
DTEND;TZID=America/Kentucky/Louisville:20251029T190000
DTSTAMP:20260422T004024
CREATED:20250910T232831Z
LAST-MODIFIED:20250910T233023Z
UID:10002248-1761751800-1761764400@derbycityflyfishers.com
SUMMARY:Fall 2025 Golf Scramble
DESCRIPTION:This will be the last official outing for the year. Spaces are limited to 12 so sign up quickly! This will be a 9-hole\, “best ball” scramble. It will be held at the Wooded View Golf Course in Clarksville. You must be a DCFF member to participate. \n\n\n\nThe scramble starts at 3:56\, but please be there by 3:30 for team and cart assignments. If you have any questions\, please contact Brian Kaluzney at brian@derbycityflyfishers.com \n\n\n\nTo register\, please click here. \n\n\n\n 
URL:https://derbycityflyfishers.com/event/fall-2025-golf-scramble/
LOCATION:Wooded View Golf Course\, 2404 Greentree N\, Clarksville\, IN\, 47129\, United States
CATEGORIES:Social Events
END:VEVENT
END:VCALENDAR