BEGIN:VCALENDAR
VERSION:2.0
PRODID:-//Derby City Fly Fishers - ECPv6.15.20//NONSGML v1.0//EN
CALSCALE:GREGORIAN
METHOD:PUBLISH
X-WR-CALNAME:Derby City Fly Fishers
X-ORIGINAL-URL:https://derbycityflyfishers.com
X-WR-CALDESC:Events for Derby City Fly Fishers
REFRESH-INTERVAL;VALUE=DURATION:PT1H
X-Robots-Tag:noindex
X-PUBLISHED-TTL:PT1H
BEGIN:VTIMEZONE
TZID:America/Kentucky/Louisville
BEGIN:DAYLIGHT
TZOFFSETFROM:-0500
TZOFFSETTO:-0400
TZNAME:EDT
DTSTART:20200308T070000
END:DAYLIGHT
BEGIN:STANDARD
TZOFFSETFROM:-0400
TZOFFSETTO:-0500
TZNAME:EST
DTSTART:20201101T060000
END:STANDARD
BEGIN:DAYLIGHT
TZOFFSETFROM:-0500
TZOFFSETTO:-0400
TZNAME:EDT
DTSTART:20210314T070000
END:DAYLIGHT
BEGIN:STANDARD
TZOFFSETFROM:-0400
TZOFFSETTO:-0500
TZNAME:EST
DTSTART:20211107T060000
END:STANDARD
BEGIN:DAYLIGHT
TZOFFSETFROM:-0500
TZOFFSETTO:-0400
TZNAME:EDT
DTSTART:20220313T070000
END:DAYLIGHT
BEGIN:STANDARD
TZOFFSETFROM:-0400
TZOFFSETTO:-0500
TZNAME:EST
DTSTART:20221106T060000
END:STANDARD
BEGIN:DAYLIGHT
TZOFFSETFROM:-0500
TZOFFSETTO:-0400
TZNAME:EDT
DTSTART:20230312T070000
END:DAYLIGHT
BEGIN:STANDARD
TZOFFSETFROM:-0400
TZOFFSETTO:-0500
TZNAME:EST
DTSTART:20231105T060000
END:STANDARD
END:VTIMEZONE
BEGIN:VEVENT
DTSTART;TZID=America/Kentucky/Louisville:20221111T183000
DTEND;TZID=America/Kentucky/Louisville:20221111T203000
DTSTAMP:20260421T063214
CREATED:20221103T142613Z
LAST-MODIFIED:20221103T143345Z
UID:10001854-1668191400-1668198600@derbycityflyfishers.com
SUMMARY:Casting for Recovery Fundraising Event
DESCRIPTION:
URL:https://derbycityflyfishers.com/event/casting-for-recovery-fundraising-event/
LOCATION:Martin’s Bar-B-Que\, 3408 Indian Lake Drive\, Louisville\, Ky
CATEGORIES:Community Support
END:VEVENT
BEGIN:VEVENT
DTSTART;TZID=America/Kentucky/Louisville:20220914T183000
DTEND;TZID=America/Kentucky/Louisville:20220914T200000
DTSTAMP:20260421T063214
CREATED:20220314T194342Z
LAST-MODIFIED:20220908T161728Z
UID:10001697-1663180200-1663185600@derbycityflyfishers.com
SUMMARY:Derby City Fly Fishers Eat and Talk
DESCRIPTION:We will be gathering at Martin’s BBQ.\n3408 Indian Lake Dr\, Louisville\, KY 40241 \nThere is plenty of room to observe appropriate social distancing\, good lighting (great for fly tying) and good food. This is a great opportunity to get to know some of your DCFF club mates a little better\, swap some fish stories\, all while enjoying some good BBQ and drink. You can come when you want\, eat and drink if you want\, tie a fly or two if you want but mostly just share some camaraderie.
URL:https://derbycityflyfishers.com/event/derby-city-fly-fishers-eat-and-talk-10/
LOCATION:Martin’s Bar-B-Que\, 3408 Indian Lake Drive\, Louisville\, Ky
CATEGORIES:Social Events
END:VEVENT
BEGIN:VEVENT
DTSTART;TZID=America/Kentucky/Louisville:20220309T183000
DTEND;TZID=America/Kentucky/Louisville:20220309T203000
DTSTAMP:20260421T063214
CREATED:20211205T151201Z
LAST-MODIFIED:20211205T151219Z
UID:10001788-1646850600-1646857800@derbycityflyfishers.com
SUMMARY:Derby City Fly Fishers Eat and Talk
DESCRIPTION:We will be gathering this coming Wednesday at Martin’s BBQ Joint. There is plenty of room to observe appropriate social distancing\, good lighting (great for fly tying) and good food. This is a great opportunity to get to know some of your DCFF club mates a little better\, swap some fish stories\, all while enjoying some good BBQ and drink. You can come when you want\, eat and drink if you want\, tie a fly or two if you want but mostly just share some camaraderie.
URL:https://derbycityflyfishers.com/event/derby-city-fly-fishers-eat-and-talk-4/
LOCATION:Martin’s Bar-B-Que\, 3408 Indian Lake Drive\, Louisville\, Ky
CATEGORIES:Social Events
END:VEVENT
BEGIN:VEVENT
DTSTART;TZID=America/Kentucky/Louisville:20220209T183000
DTEND;TZID=America/Kentucky/Louisville:20220209T203000
DTSTAMP:20260421T063214
CREATED:20211205T151108Z
LAST-MODIFIED:20211205T151353Z
UID:10001787-1644431400-1644438600@derbycityflyfishers.com
SUMMARY:Derby City Fly Fishers Eat and Talk
DESCRIPTION:We will be gathering this coming Wednesday at Martin’s BBQ Joint. There is plenty of room to observe appropriate social distancing\, good lighting (great for fly tying) and good food. This is a great opportunity to get to know some of your DCFF club mates a little better\, swap some fish stories\, all while enjoying some good BBQ and drink. You can come when you want\, eat and drink if you want\, tie a fly or two if you want but mostly just share some camaraderie.
URL:https://derbycityflyfishers.com/event/derby-city-fly-fishers-eat-and-talk-3/
LOCATION:Martin’s Bar-B-Que\, 3408 Indian Lake Drive\, Louisville\, Ky
CATEGORIES:Social Events
END:VEVENT
BEGIN:VEVENT
DTSTART;TZID=America/Kentucky/Louisville:20220112T183000
DTEND;TZID=America/Kentucky/Louisville:20220112T203000
DTSTAMP:20260421T063214
CREATED:20211205T150925Z
LAST-MODIFIED:20211205T151236Z
UID:10001786-1642012200-1642019400@derbycityflyfishers.com
SUMMARY:Derby City Fly Fishers Eat and Talk
DESCRIPTION:We will be gathering this coming Wednesday at Martin’s BBQ Joint. There is plenty of room to observe appropriate social distancing\, good lighting (great for fly tying) and good food. This is a great opportunity to get to know some of your DCFF club mates a little better\, swap some fish stories\, all while enjoying some good BBQ and drink. You can come when you want\, eat and drink if you want\, tie a fly or two if you want but mostly just share some camaraderie.
URL:https://derbycityflyfishers.com/event/derby-city-fly-fishers-eat-and-talk-2/
LOCATION:Martin’s Bar-B-Que\, 3408 Indian Lake Drive\, Louisville\, Ky
CATEGORIES:Social Events
END:VEVENT
BEGIN:VEVENT
DTSTART;TZID=America/Kentucky/Louisville:20211208T183000
DTEND;TZID=America/Kentucky/Louisville:20211208T203000
DTSTAMP:20260421T063214
CREATED:20211205T142406Z
LAST-MODIFIED:20211205T142414Z
UID:10001648-1638988200-1638995400@derbycityflyfishers.com
SUMMARY:Derby City Fly Fishers Eat and Talk
DESCRIPTION:We will be gathering this coming Wednesday at Martin’s BBQ Joint. There is plenty of room to observe appropriate social distancing\, good lighting (great for fly tying) and good food. This is a great opportunity to get to know some of your DCFF club mates a little better\, swap some fish stories\, all while enjoying some good BBQ and drink. You can come when you want\, eat and drink if you want\, tie a fly or two if you want but mostly just share some camaraderie.\n  \nGoogle Map Link
URL:https://derbycityflyfishers.com/event/derby-city-fly-fishers-eat-and-talk/
LOCATION:Martin’s Bar-B-Que\, 3408 Indian Lake Drive\, Louisville\, Ky
CATEGORIES:Club Meetings
END:VEVENT
END:VCALENDAR