BEGIN:VCALENDAR
VERSION:2.0
PRODID:-//Derby City Fly Fishers - ECPv6.15.20//NONSGML v1.0//EN
CALSCALE:GREGORIAN
METHOD:PUBLISH
X-WR-CALNAME:Derby City Fly Fishers
X-ORIGINAL-URL:https://derbycityflyfishers.com
X-WR-CALDESC:Events for Derby City Fly Fishers
REFRESH-INTERVAL;VALUE=DURATION:PT1H
X-Robots-Tag:noindex
X-PUBLISHED-TTL:PT1H
BEGIN:VTIMEZONE
TZID:America/Kentucky/Louisville
BEGIN:DAYLIGHT
TZOFFSETFROM:-0500
TZOFFSETTO:-0400
TZNAME:EDT
DTSTART:20210314T070000
END:DAYLIGHT
BEGIN:STANDARD
TZOFFSETFROM:-0400
TZOFFSETTO:-0500
TZNAME:EST
DTSTART:20211107T060000
END:STANDARD
BEGIN:DAYLIGHT
TZOFFSETFROM:-0500
TZOFFSETTO:-0400
TZNAME:EDT
DTSTART:20220313T070000
END:DAYLIGHT
BEGIN:STANDARD
TZOFFSETFROM:-0400
TZOFFSETTO:-0500
TZNAME:EST
DTSTART:20221106T060000
END:STANDARD
BEGIN:DAYLIGHT
TZOFFSETFROM:-0500
TZOFFSETTO:-0400
TZNAME:EDT
DTSTART:20230312T070000
END:DAYLIGHT
BEGIN:STANDARD
TZOFFSETFROM:-0400
TZOFFSETTO:-0500
TZNAME:EST
DTSTART:20231105T060000
END:STANDARD
END:VTIMEZONE
BEGIN:VEVENT
DTSTART;TZID=America/Kentucky/Louisville:20220326T090000
DTEND;TZID=America/Kentucky/Louisville:20220326T123000
DTSTAMP:20260419T124635
CREATED:20220314T204147Z
LAST-MODIFIED:20220314T204304Z
UID:10001834-1648285200-1648297800@derbycityflyfishers.com
SUMMARY:McNeely Lake Cleanup
DESCRIPTION:This is a project coordinated with KY Department of Fish and Wildlife Management\, Louisville Metro Parks and our Programs Director John Froehlich. \nThe purpose is to improve bank fishing access at McNeely Lake located in southern Jefferson County.  This lake is a best kept secret and provides great fishing as well as ADA access to canoeist and kayakers.  In the long term\, there will be a walking path all around the lake so when you have a chance\, please visit. \nMcNeely Lake Park • Wilderness Louisville \nMcNeely Lake Park | Kentucky Tourism – State of Kentucky – Visit Kentucky\, Official Site \nTime: 0900-1230 \nPlace: Google Map link for McNeely Lake \nContact: John Froehlich at 270-314-0362 or Jeff Daiber at 502-544-6630. \nWhat to bring: Gloves\, safety glasses \nPlease RSVP by EOD Thursday\, March 17\, 2022. \nJeff Daiber \n502.544.6630 \njdaiber@derbycityflyfishers.com
URL:https://derbycityflyfishers.com/event/mcneely-lake-cleanup/
LOCATION:McNeely Lake\, 6994 Cooper Chapel Rd\, Louisville\, KY\, 40229\, United States
CATEGORIES:Community Support
END:VEVENT
END:VCALENDAR