BEGIN:VCALENDAR
VERSION:2.0
PRODID:-//Derby City Fly Fishers - ECPv6.15.20//NONSGML v1.0//EN
CALSCALE:GREGORIAN
METHOD:PUBLISH
X-WR-CALNAME:Derby City Fly Fishers
X-ORIGINAL-URL:https://derbycityflyfishers.com
X-WR-CALDESC:Events for Derby City Fly Fishers
REFRESH-INTERVAL;VALUE=DURATION:PT1H
X-Robots-Tag:noindex
X-PUBLISHED-TTL:PT1H
BEGIN:VTIMEZONE
TZID:America/Kentucky/Louisville
BEGIN:DAYLIGHT
TZOFFSETFROM:-0500
TZOFFSETTO:-0400
TZNAME:EDT
DTSTART:20210314T070000
END:DAYLIGHT
BEGIN:STANDARD
TZOFFSETFROM:-0400
TZOFFSETTO:-0500
TZNAME:EST
DTSTART:20211107T060000
END:STANDARD
BEGIN:DAYLIGHT
TZOFFSETFROM:-0500
TZOFFSETTO:-0400
TZNAME:EDT
DTSTART:20220313T070000
END:DAYLIGHT
BEGIN:STANDARD
TZOFFSETFROM:-0400
TZOFFSETTO:-0500
TZNAME:EST
DTSTART:20221106T060000
END:STANDARD
BEGIN:DAYLIGHT
TZOFFSETFROM:-0500
TZOFFSETTO:-0400
TZNAME:EDT
DTSTART:20230312T070000
END:DAYLIGHT
BEGIN:STANDARD
TZOFFSETFROM:-0400
TZOFFSETTO:-0500
TZNAME:EST
DTSTART:20231105T060000
END:STANDARD
END:VTIMEZONE
BEGIN:VEVENT
DTSTART;TZID=America/Kentucky/Louisville:20220608T183000
DTEND;TZID=America/Kentucky/Louisville:20220608T200000
DTSTAMP:20260419T141123
CREATED:20220314T194011Z
LAST-MODIFIED:20220314T194011Z
UID:10001695-1654713000-1654718400@derbycityflyfishers.com
SUMMARY:Derby City Fly Fishers Eat and Talk
DESCRIPTION:We will be gathering at Mission BBQ Joint.\n4607 Shelbyville Road\nSt. Matthews\, KY 40207\nDirections\nRestaurant: 502-206-3331\n\nThere is plenty of room to observe appropriate social distancing\, good lighting (great for fly tying) and good food. This is a great opportunity to get to know some of your DCFF club mates a little better\, swap some fish stories\, all while enjoying some good BBQ and drink. You can come when you want\, eat and drink if you want\, tie a fly or two if you want but mostly just share some camaraderie.
URL:https://derbycityflyfishers.com/event/derby-city-fly-fishers-eat-and-talk-7/
LOCATION:Mission BBQ\, 4607 Shelbyville Road\, St. Matthews\, KY\, 40207\, United States
CATEGORIES:Social Events
END:VEVENT
BEGIN:VEVENT
DTSTART;TZID=America/Kentucky/Louisville:20220511T183000
DTEND;TZID=America/Kentucky/Louisville:20220511T200000
DTSTAMP:20260419T141123
CREATED:20220314T193914Z
LAST-MODIFIED:20220314T193914Z
UID:10001693-1652293800-1652299200@derbycityflyfishers.com
SUMMARY:Derby City Fly Fishers Eat and Talk
DESCRIPTION:We will be gathering at Mission BBQ Joint.\n4607 Shelbyville Road\nSt. Matthews\, KY 40207\nDirections\nRestaurant: 502-206-3331\n\nThere is plenty of room to observe appropriate social distancing\, good lighting (great for fly tying) and good food. This is a great opportunity to get to know some of your DCFF club mates a little better\, swap some fish stories\, all while enjoying some good BBQ and drink. You can come when you want\, eat and drink if you want\, tie a fly or two if you want but mostly just share some camaraderie.
URL:https://derbycityflyfishers.com/event/derby-city-fly-fishers-eat-and-talk-6/
LOCATION:Mission BBQ\, 4607 Shelbyville Road\, St. Matthews\, KY\, 40207\, United States
CATEGORIES:Social Events
END:VEVENT
BEGIN:VEVENT
DTSTART;TZID=America/Kentucky/Louisville:20220413T183000
DTEND;TZID=America/Kentucky/Louisville:20220413T203000
DTSTAMP:20260419T141123
CREATED:20211205T151451Z
LAST-MODIFIED:20220311T153251Z
UID:10001789-1649874600-1649881800@derbycityflyfishers.com
SUMMARY:Derby City Fly Fishers Eat and Talk--- New Location!!!
DESCRIPTION:We will be gathering at Mission BBQ Joint.\n4607 Shelbyville Road\nSt. Matthews\, KY 40207\nDirections\nRestaurant: 502-206-3331\n\nThere is plenty of room to observe appropriate social distancing\, good lighting (great for fly tying) and good food. This is a great opportunity to get to know some of your DCFF club mates a little better\, swap some fish stories\, all while enjoying some good BBQ and drink. You can come when you want\, eat and drink if you want\, tie a fly or two if you want but mostly just share some camaraderie.
URL:https://derbycityflyfishers.com/event/derby-city-fly-fishers-eat-and-talk-5/
LOCATION:Mission BBQ\, 4607 Shelbyville Road\, St. Matthews\, KY\, 40207\, United States
CATEGORIES:Social Events
END:VEVENT
END:VCALENDAR