BEGIN:VCALENDAR
VERSION:2.0
PRODID:-//Derby City Fly Fishers - ECPv6.15.20//NONSGML v1.0//EN
CALSCALE:GREGORIAN
METHOD:PUBLISH
X-ORIGINAL-URL:https://derbycityflyfishers.com
X-WR-CALDESC:Events for Derby City Fly Fishers
REFRESH-INTERVAL;VALUE=DURATION:PT1H
X-Robots-Tag:noindex
X-PUBLISHED-TTL:PT1H
BEGIN:VTIMEZONE
TZID:America/Kentucky/Louisville
BEGIN:DAYLIGHT
TZOFFSETFROM:-0500
TZOFFSETTO:-0400
TZNAME:EDT
DTSTART:20210314T070000
END:DAYLIGHT
BEGIN:STANDARD
TZOFFSETFROM:-0400
TZOFFSETTO:-0500
TZNAME:EST
DTSTART:20211107T060000
END:STANDARD
BEGIN:DAYLIGHT
TZOFFSETFROM:-0500
TZOFFSETTO:-0400
TZNAME:EDT
DTSTART:20220313T070000
END:DAYLIGHT
BEGIN:STANDARD
TZOFFSETFROM:-0400
TZOFFSETTO:-0500
TZNAME:EST
DTSTART:20221106T060000
END:STANDARD
BEGIN:DAYLIGHT
TZOFFSETFROM:-0500
TZOFFSETTO:-0400
TZNAME:EDT
DTSTART:20230312T070000
END:DAYLIGHT
BEGIN:STANDARD
TZOFFSETFROM:-0400
TZOFFSETTO:-0500
TZNAME:EST
DTSTART:20231105T060000
END:STANDARD
BEGIN:DAYLIGHT
TZOFFSETFROM:-0500
TZOFFSETTO:-0400
TZNAME:EDT
DTSTART:20240310T070000
END:DAYLIGHT
BEGIN:STANDARD
TZOFFSETFROM:-0400
TZOFFSETTO:-0500
TZNAME:EST
DTSTART:20241103T060000
END:STANDARD
END:VTIMEZONE
BEGIN:VEVENT
DTSTART;VALUE=DATE:20230602
DTEND;VALUE=DATE:20230605
DTSTAMP:20260421T073207
CREATED:20221222T204817Z
LAST-MODIFIED:20230205T031308Z
UID:10001921-1685664000-1685923199@derbycityflyfishers.com
SUMMARY:Elkhorn River Trip
DESCRIPTION:Location:  Still Waters Campground\, 249 Strohmeier Rd\, Frankfort\, KY 40601 Google Map Link \nDates:  June 2nd – 4th\, 2023 (Fri thru Sat) \nCoordinators: \nJim Wilmoth (jwilmoth@derbycityflyfishers.com\, 859-619-2048 \nMike Norris (mikenorris@derbycityflyfishers.com\, 502-802-5559 \nLEVEL 4 Trip – Due to the nature of the float trip\, there will be limited opportunities while on the water for beginner instruction\, but experienced members will be happy to answer questions in camp.  At a minimum\, participants should be comfortable using small craft in a moving stream where the danger of an upset and the possibility of losing equipment is real. \nNumber of Spots: No limit \nEquipment: Lighter weight 4\, 5\, and 6 weight fly rods are appropriate.  Drys\, poppers\, nymphs\, and streamers will all take fish. Light watercraft (kayak\, inflatable pontoon\, or canoe.) \nA KY Fishing License is required. Click here to purchase. \nOuting Details: Elkhorn Creek is a premier smallmouth stream in Central Kentucky\, East of Frankfort.  We will park and camp at the Still Waters Campground Primitive Campground for the takeout and shuttle to the upstream launch.  Depending on the number of participants\, we will either self-shuttle and/or use a shuttle service.  The shuttle trip takes about 15 minutes and the 6-mile float and fishing trip back to the campground takes about 6 hours.  For more information on the creek\, see the Stream Information section of the website.  This is a float trip\, with wet wading opportunities around the many rapids that are encountered. Canoes\, kayaks\, and inflatable pontoons can all be used on the creek.  Caution must be used around the frequent class 1 (or with higher water class 2) rapids on the creek. \nLodging: Still Waters Campground Primitive Campground\, primitive camp sites and RV sites.  Shower house is on site. \nMeals: You will be responsible for all meals. \n  \nCosts:  Primitive camp sites cost $27.00 per night\, 2 tents per site (split the cost).  RV spots cost $35.00 per night. You should pay for your own fees and get a parking pass at the office.  \nIf you have any questions\, contact Jim Wilmoth or Mike Norris (see contact info at top) \nClick here to sign up for the trip so they know who is coming.
URL:https://derbycityflyfishers.com/event/elkhorn-river-trip/
LOCATION:Still Waters Campground\, 249 Strohmeier Road\, Frankfort\, KY\, 40601\, United States
CATEGORIES:Fishing Trip
END:VEVENT
BEGIN:VEVENT
DTSTART;VALUE=DATE:20220428
DTEND;VALUE=DATE:20220502
DTSTAMP:20260421T073207
CREATED:20220117T170444Z
LAST-MODIFIED:20220117T170444Z
UID:10001798-1651104000-1651449599@derbycityflyfishers.com
SUMMARY:Elkhorn creek camping trip
DESCRIPTION:Fishing and camping trip on the beautiful Elkhorn Creek in  Franklin county Ky. For more trip information click here:
URL:https://derbycityflyfishers.com/event/elkhorn-creek-camping-trip/
LOCATION:Still Waters Campground\, 249 Strohmeier Road\, Frankfort\, KY\, 40601\, United States
CATEGORIES:Fishing Trip
END:VEVENT
END:VCALENDAR