BEGIN:VCALENDAR
VERSION:2.0
PRODID:-//Derby City Fly Fishers - ECPv6.15.20//NONSGML v1.0//EN
CALSCALE:GREGORIAN
METHOD:PUBLISH
X-ORIGINAL-URL:https://derbycityflyfishers.com
X-WR-CALDESC:Events for Derby City Fly Fishers
REFRESH-INTERVAL;VALUE=DURATION:PT1H
X-Robots-Tag:noindex
X-PUBLISHED-TTL:PT1H
BEGIN:VTIMEZONE
TZID:America/Kentucky/Louisville
BEGIN:DAYLIGHT
TZOFFSETFROM:-0500
TZOFFSETTO:-0400
TZNAME:EDT
DTSTART:20210314T070000
END:DAYLIGHT
BEGIN:STANDARD
TZOFFSETFROM:-0400
TZOFFSETTO:-0500
TZNAME:EST
DTSTART:20211107T060000
END:STANDARD
BEGIN:DAYLIGHT
TZOFFSETFROM:-0500
TZOFFSETTO:-0400
TZNAME:EDT
DTSTART:20220313T070000
END:DAYLIGHT
BEGIN:STANDARD
TZOFFSETFROM:-0400
TZOFFSETTO:-0500
TZNAME:EST
DTSTART:20221106T060000
END:STANDARD
BEGIN:DAYLIGHT
TZOFFSETFROM:-0500
TZOFFSETTO:-0400
TZNAME:EDT
DTSTART:20230312T070000
END:DAYLIGHT
BEGIN:STANDARD
TZOFFSETFROM:-0400
TZOFFSETTO:-0500
TZNAME:EST
DTSTART:20231105T060000
END:STANDARD
END:VTIMEZONE
BEGIN:VEVENT
DTSTART;TZID=America/Kentucky/Louisville:20220330T190000
DTEND;TZID=America/Kentucky/Louisville:20220330T210000
DTSTAMP:20260419T144843
CREATED:20220219T221300Z
LAST-MODIFIED:20220219T221930Z
UID:10001814-1648666800-1648674000@derbycityflyfishers.com
SUMMARY:IF4-International Fly Fishing Film Festival 2022
DESCRIPTION:IF4 Live Virtual Event | March 30\, 2022 \nFilm begins at 7:00 PM \nHosted By: WKU Recreation\, Park & Nonprofit Administration \n\n\n\nYour ticket entitles you to watch IF4 live on the time and date indicated. If something comes up\, no problem! You can log in at any time within 48 hours of the screening and you will have up to 7 days to watch (and rewatch) the film. \nBonus! We will be awarding swag and sponsor offers to viewers at each and every screening. Plus\, one lucky viewer will be selected to win the 2022 Grand Prize draw including thousands in the most cutting-edge gear offered by our sponsors…make sure to watch for the link to vote in order to qualify for this prize! \nMore information: Click Here \nPurchase ticket in advance: Click Here \n  \n 
URL:https://derbycityflyfishers.com/event/if4-international-fly-fishing-film-festival-2022/
LOCATION:Village 8 Theaters\, 4014 Dutchmans Lane Suite 16\, Louisville\, KY\, 40207\, United States
CATEGORIES:Social Events
END:VEVENT
END:VCALENDAR